{"text_format":"1","workbook":"xlsx","n_sheets":3,"sheets":["入力部分","出力部分","簡易マニュアル"],"not_rendered":{"charts":2,"images":0,"macros":1,"external_links":0,"defined_names":0,"comments":0,"pivot_tables":0},"unopened":[],"bounds":{"document_bytes":16777216,"sheet_cells":100000,"rows_first":2000,"rows_last":500,"rows_between":2000,"halvings":0,"cell_chars":16384,"cell_head_chars":4096},"cells_cut":0,"cells_raw":0,"read":"whole","date_system":"1900"}

{"sheet":"入力部分","index":0,"n_rows":45,"n_cols":10,"rows_kept":45,"cut":false,"hidden":false,"merged":[]}
["露出高推定モデル（混合粒径対応）　",null,null,null,"バージョン1.0 β"]
["ファイル名","rosyutsudaka miyagawa-model ver1.0 β"]
[]
[null,null,"黄色く塗った箇所を入力してください",null,null,"入力値に基づく粒径加積曲線　　→",null,null,{"$f":"D11+D10+D9+D8+D7","v":1},500]
[null,null,null,null,null,null,null,null,{"$f":"D11+D10+D9+D8","v":0.7},256]
[null,"i","粒径範囲※","各区分の存在割合F（i）","←この部分は入力必須です",null,null,null,{"$f":"D11+D10+D9","v":0.4},64]
[null,"F(1)","256mm～",0.3,null,null,null,null,{"$f":"D10+D11","v":0.2},16]
[null,"F(2)","64～256mm",0.3,null,null,null,null,{"$f":"D11","v":0.1},2]
[null,"F(3)","16～64mm",0.2,null,null,null,null,0,1]
[null,"F(4)","2～16mm",0.1]
[null,"F(5)","～2mm",0.1]
[null,"計",null,{"$f":"SUM(D7:D11)","v":1},{"$f":"IF(D12=1,\"o.k.\",\"計が1になるように入力してください\")","v":"o.k."}]
[]
[null,null,"青く塗った箇所は自分で設定したい場合に入力してください",null,null,null,null,"計算で使う部分（自分で設定しない場合は、自動で設定されます）"]
[]
[null,"i","粒径範囲※","各区分の代表粒径",null,null,null,"i","各区分の代表粒径　mm"]
[null,"F(1)","256mm～",null,"←巨礫（目安：280mm）",null,null,"F(1)",{"$f":"IF(入力部分!D17=0,280,入力部分!D17)","v":280}]
[null,"F(2)","64～256mm",null,"←大礫（目安：160mm）",null,null,"F(2)",{"$f":"IF(入力部分!D18=0,160,入力部分!D18)","v":160}]
[null,"F(3)","16～64mm",null,"←中礫（目安：50mm）",null,null,"F(3)",{"$f":"IF(入力部分!D19=0,40,入力部分!D19)","v":40}]
[null,"F(4)","2～16mm",null,"←砂利（目安：10mm）","←露出高にカウントしない",null,"F(4)"]
[null,"F(5)","～2mm",null,"←砂（目安：1mm）","←露出高にカウントしない",null,"F(5)"]
[]
[]
[null,"i","粒径範囲※","各区分の代表高さ Si","←代表粒径の0.5倍が目安",null,null,"i","各区分の代表高さ Si mm"]
[null,"F(1)","256mm～",null,"←巨礫",null,null,"F(1)",{"$f":"IF(入力部分!D25=0,IF(入力部分!D17=0,入力部分!I17*0.5,入力部分!D17*0.5), 入力部分!D25)","v":140}]
[null,"F(2)","64～256mm",null,"←大礫",null,null,"F(2)",{"$f":"IF(入力部分!D26=0,IF(入力部分!D18=0,入力部分!I18*0.5,入力部分!D18*0.5), 入力部分!D26)","v":80}]
[null,"F(3)","16～64mm",null,"←中礫",null,null,"F(3)",{"$f":"IF(入力部分!D27=0,IF(入力部分!D19=0,入力部分!I19*0.5,入力部分!D19*0.5), 入力部分!D27)","v":20}]
[null,"F(4)","2～16mm",null,"←砂利","←露出高にカウントしない",null,"F(4)"]
[null,"F(5)","～2mm",null,"←砂","←露出高にカウントしない",null,"F(5)"]
[]
[]
[null,"i","粒径範囲※","各区分の標準偏差σ","←代表粒径の0.3倍が目安",null,null,"i","各区分の標準偏差σ"]
[null,"F(1)","256mm～",null,"←巨礫",null,null,"F(1)",{"$f":"IF(入力部分!D33=0,IF(入力部分!D17=0,350*0.3,入力部分!D17*0.3), 入力部分!D33)","v":105}]
[null,"F(2)","64～256mm",null,"←大礫",null,null,"F(2)",{"$f":"IF(入力部分!D34=0,IF(入力部分!D18=0,160*0.3,入力部分!D18*0.3), 入力部分!D34)","v":48}]
[null,"F(3)","16～64mm",null,"←中礫",null,null,"F(3)",{"$f":"IF(入力部分!D35=0,IF(入力部分!D19=0,50*0.3,入力部分!D19*0.3), 入力部分!D35)","v":15}]
[null,"F(4)","2～16mm",null,"←砂利","←露出高にカウントしない",null,"F(4)"]
[null,"F(5)","～2mm",null,"←砂","←露出高にカウントしない",null,"F(5)"]
[]
[]
[null,"※","Wentworthの粒径区分を参照",null,null,null,null,"i","ゼロ点補正"]
[null,null,"boulders","257mm～",null,null,null,"F(1)",{"$f":"0.5*入力部分!I25-(0.5*(入力部分!I25*入力部分!D7+入力部分!I26*入力部分!D8+入力部分!I27*入力部分!D9)/(入力部分!D7+入力部分!D8+入力部分!D9))","v":26.25}]
[null,null,"cobbles","64～256mm",null,null,null,"F(2)",{"$f":"0.5*入力部分!I26-(0.5*(入力部分!I25*入力部分!D7+入力部分!I26*入力部分!D8+入力部分!I27*入力部分!D9)/(入力部分!D7+入力部分!D8+入力部分!D9))","v":-3.75}]
[null,null,"pebbles","16～64mm","↑露出高にカウントした範囲",null,null,"F(3)",{"$f":"0.5*入力部分!I27-(0.5*(入力部分!I25*入力部分!D7+入力部分!I26*入力部分!D8+入力部分!I27*入力部分!D9)/(入力部分!D7+入力部分!D8+入力部分!D9))","v":-33.75}]
[null,null,"gravel","2～16mm",null,null,null,"F(4)"]
[null,null,"sand","～2mm",null,null,null,"F(5)"]

{"sheet":"出力部分","index":1,"n_rows":506,"n_cols":24,"rows_kept":506,"cut":false,"hidden":false,"merged":[]}
["露出高推定モデル（混合粒径対応）　",null,null,"バージョン1.0 β",null,null,null,null,null,null,"F（1）の分布",null,"P(x)の累積値","xの平均値",null,"F（2）の分布",null,"P(x)の累積値","xの平均値",null,"F（3）の分布",null,"P(x)の累積値","xの平均値"]
["ファイル名","rosyutsudaka miyagawa-model ver1.0 β",null,null,null,null,null,null,null,null,null,null,{"$f":"SUM(M6:M506)","v":0.90950060591976545},{"$f":"SUM(N6:N506)","v":144.33076257440743},null,null,null,{"$f":"SUM(R6:R506)","v":0.80080271603312081},{"$f":"SUM(S6:S506)","v":45.449667330239635},null,null,null,{"$f":"SUM(W6:W506)","v":0.75826906773232861},{"$f":"SUM(X6:X506)","v":12.268129880818421}]
[]
[null,null,null,null,null,"混合粒径における露出高",null,"露出高","露出高がxの確率",null,null,"露出高","露出高がxの確率",null,null,null,"露出高","露出高がxの確率",null,null,null,"露出高","露出高がxの確率"]
[null,"露出高分布",null,null,null,"平均値 mm","P(x)の累積値（<1）","ｘ mm"," P（x）",null,null,"x mm","p(x)","x*p(x)",null,null,"x mm","p(x)","x*p(x)",null,null,"x mm","p(x)","x*p(x)"]
[null,null,null,null,null,{"$f":"(入力部分!D7*(N2-入力部分!I41)+入力部分!D8*(S2-入力部分!I42)+入力部分!D9*(X2-入力部分!I43))/(入力部分!D7+入力部分!D8+入力部分!D9)","v":74.234693684447251},{"$f":"SUM(I6:I506)","v":0.83093101266541425},0,{"$f":"(入力部分!D$7*M6+入力部分!D$8*R6+入力部分!D$9*W6)/(入力部分!D$7+入力部分!D$8+入力部分!D$9)","v":8.114377301202071E-3},null,null,0,{"$f":"1/入力部分!I$33/(2*3.14)^0.5*EXP(-1/2*((L6-入力部分!I$25)/入力部分!I$33)^2)","v":1.5623967957010918E-3},{"$f":"L6*$M6","v":0},null,null,0,{"$f":"1/入力部分!I$34/(2*3.14)^0.5*EXP(-1/2*((Q6-入力部分!I$26/2)/入力部分!I$34)^2)","v":5.8746533592695348E-3},{"$f":"Q6*$R6","v":0},null,null,0,{"$f":"1/入力部分!$I$35/(2*3.14)^0.5*EXP(-1/2*((V6-入力部分!$I$27/2)/入力部分!$I$35)^2)","v":2.1301933972352347E-2},{"$f":"V6*$W6","v":0}]
[null,null,null,null,null,null,null,1,{"$f":"(入力部分!D$7*M7+入力部分!D$8*R7+入力部分!D$9*W7)/(入力部分!D$7+入力部分!D$8+入力部分!D$9)","v":8.389599964678732E-3},null,null,1,{"$f":"1/入力部分!I$33/(2*3.14)^0.5*EXP(-1/2*((L7-入力部分!I$25)/入力部分!I$33)^2)","v":1.5822914970232847E-3},{"$f":"L7*$M7","v":1.5822914970232847E-3},null,null,1,{"$f":"1/入力部分!I$34/(2*3.14)^0.5*EXP(-1/2*((Q7-入力部分!I$26/2)/入力部分!I$34)^2)","v":5.9762372818125764E-3},{"$f":"Q7*$R7","v":5.9762372818125764E-3},null,null,1,{"$f":"1/入力部分!$I$35/(2*3.14)^0.5*EXP(-1/2*((V7-入力部分!$I$27/2)/入力部分!$I$35)^2)","v":2.222060669046114E-2},{"$f":"V7*$W7","v":2.222060669046114E-2}]
[null,null,null,null,null,null,null,2,{"$f":"(入力部分!D$7*M8+入力部分!D$8*R8+入力部分!D$9*W8)/(入力部分!D$7+入力部分!D$8+入力部分!D$9)","v":8.6487400862433599E-3},null,null,2,{"$f":"1/入力部分!I$33/(2*3.14)^0.5*EXP(-1/2*((L8-入力部分!I$25)/入力部分!I$33)^2)","v":1.6022941871306963E-3},3.2045883742613927E-3,null,null,2,{"$f":"1/入力部分!I$34/(2*3.14)^0.5*EXP(-1/2*((Q8-入力部分!I$26/2)/入力部分!I$34)^2)","v":6.0769396503748329E-3},1.2153879300749666E-2,null,null,2,{"$f":"1/入力部分!$I$35/(2*3.14)^0.5*EXP(-1/2*((V8-入力部分!$I$27/2)/入力部分!$I$35)^2)","v":2.3076109588715154E-2},4.6152219177430308E-2]
[null,null,null,null,null,null,null,3,{"$f":"(入力部分!D$7*M9+入力部分!D$8*R9+入力部分!D$9*W9)/(入力部分!D$7+入力部分!D$8+入力部分!D$9)","v":8.8892167572481428E-3},null,null,3,{"$f":"1/入力部分!I$33/(2*3.14)^0.5*EXP(-1/2*((L9-入力部分!I$25)/入力部分!I$33)^2)","v":1.6224025797979369E-3},4.8672077393938102E-3,null,null,3,{"$f":"1/入力部分!I$34/(2*3.14)^0.5*EXP(-1/2*((Q9-入力部分!I$26/2)/入力部分!I$34)^2)","v":6.176657477746224E-3},1.8529972433238673E-2,null,null,3,{"$f":"1/入力部分!$I$35/(2*3.14)^0.5*EXP(-1/2*((V9-入力部分!$I$27/2)/入力部分!$I$35)^2)","v":2.3858276942676331E-2},7.1574830828028985E-2]
[null,null,null,null,null,null,null,4,{"$f":"(入力部分!D$7*M10+入力部分!D$8*R10+入力部分!D$9*W10)/(入力部分!D$7+入力部分!D$8+入力部分!D$9)","v":9.1086052069101441E-3},null,null,4,{"$f":"1/入力部分!I$33/(2*3.14)^0.5*EXP(-1/2*((L10-入力部分!I$25)/入力部分!I$33)^2)","v":1.6426143310618961E-3},6.5704573242475845E-3,null,null,4,{"$f":"1/入力部分!I$34/(2*3.14)^0.5*EXP(-1/2*((Q10-入力部分!I$26/2)/入力部分!I$34)^2)","v":6.2752873565019461E-3},2.5101149426007784E-2,null,null,4,{"$f":"1/入力部分!$I$35/(2*3.14)^0.5*EXP(-1/2*((V10-入力部分!$I$27/2)/入力部分!$I$35)^2)","v":2.4557568296294813E-2},9.8230273185179254E-2]
[null,null,null,null,null,null,null,5,{"$f":"(入力部分!D$7*M11+入力部分!D$8*R11+入力部分!D$9*W11)/(入力部分!D$7+入力部分!D$8+入力部分!D$9)","v":9.3046851302528086E-3},null,null,5,{"$f":"1/入力部分!I$33/(2*3.14)^0.5*EXP(-1/2*((L11-入力部分!I$25)/入力部分!I$33)^2)","v":1.662927039352858E-3},8.3146351967642897E-3,null,null,5,{"$f":"1/入力部分!I$34/(2*3.14)^0.5*EXP(-1/2*((Q11-入力部分!I$26/2)/入力部分!I$34)^2)","v":6.3727256330447018E-3},3.1863628165223506E-2,null,null,5,{"$f":"1/入力部分!$I$35/(2*3.14)^0.5*EXP(-1/2*((V11-入力部分!$I$27/2)/入力部分!$I$35)^2)","v":2.5165261512414897E-2},0.12582630756207447]
[null,null,null,null,null,null,null,6,{"$f":"(入力部分!D$7*M12+入力部分!D$8*R12+入力部分!D$9*W12)/(入力部分!D$7+入力部分!D$8+入力部分!D$9)","v":9.4754859407682728E-3},null,null,6,{"$f":"1/入力部分!I$33/(2*3.14)^0.5*EXP(-1/2*((L12-入力部分!I$25)/入力部分!I$33)^2)","v":1.6833382456535376E-3},1.0100029473921225E-2,null,null,6,{"$f":"1/入力部分!I$34/(2*3.14)^0.5*EXP(-1/2*((Q12-入力部分!I$26/2)/入力部分!I$34)^2)","v":6.4688685850022428E-3},3.8813211510013455E-2,null,null,6,{"$f":"1/入力部分!$I$35/(2*3.14)^0.5*EXP(-1/2*((V12-入力部分!$I$27/2)/入力部分!$I$35)^2)","v":2.5673633517089421E-2},0.15404180110253651]
[null,null,null,null,null,null,null,7,{"$f":"(入力部分!D$7*M13+入力部分!D$8*R13+入力部分!D$9*W13)/(入力部分!D$7+入力部分!D$8+入力部分!D$9)","v":9.6193276410428824E-3},null,null,7,{"$f":"1/入力部分!I$33/(2*3.14)^0.5*EXP(-1/2*((L13-入力部分!I$25)/入力部分!I$33)^2)","v":1.7038454336863039E-3},1.1926918035804127E-2,null,null,7,{"$f":"1/入力部分!I$34/(2*3.14)^0.5*EXP(-1/2*((Q13-入力部分!I$26/2)/入力部分!I$34)^2)","v":6.5636126015683853E-3},4.5945288210978694E-2,null,null,7,{"$f":"1/入力部分!$I$35/(2*3.14)^0.5*EXP(-1/2*((V13-入力部分!$I$27/2)/入力部分!$I$35)^2)","v":2.6076123511289497E-2},0.18253286457902648]
[null,null,null,null,null,null,null,8,{"$f":"(入力部分!D$7*M14+入力部分!D$8*R14+入力部分!D$9*W14)/(入力部分!D$7+入力部分!D$8+入力部分!D$9)","v":9.7348561067935185E-3},null,null,8,{"$f":"1/入力部分!I$33/(2*3.14)^0.5*EXP(-1/2*((L14-入力部分!I$25)/入力部分!I$33)^2)","v":1.7244460301288397E-3},1.3795568241030717E-2,null,null,8,{"$f":"1/入力部分!I$34/(2*3.14)^0.5*EXP(-1/2*((Q14-入力部分!I$26/2)/入力部分!I$34)^2)","v":6.6568543663601092E-3},5.3254834930880873E-2,null,null,8,{"$f":"1/入力部分!$I$35/(2*3.14)^0.5*EXP(-1/2*((V14-入力部分!$I$27/2)/入力部分!$I$35)^2)","v":2.6367473832440657E-2},0.21093979065952526]
[null,null,null,null,null,null,null,9,{"$f":"(入力部分!D$7*M15+入力部分!D$8*R15+入力部分!D$9*W15)/(入力部分!D$7+入力部分!D$8+入力部分!D$9)","v":9.8210717275671305E-3},null,null,9,{"$f":"1/入力部分!I$33/(2*3.14)^0.5*EXP(-1/2*((L15-入力部分!I$25)/入力部分!I$33)^2)","v":1.7451374048584592E-3},1.5706236643726133E-2,null,null,9,{"$f":"1/入力部分!I$34/(2*3.14)^0.5*EXP(-1/2*((Q15-入力部分!I$26/2)/入力部分!I$34)^2)","v":6.7484910423491803E-3},6.0736419381142624E-2,null,null,9,{"$f":"1/入力部分!$I$35/(2*3.14)^0.5*EXP(-1/2*((V15-入力部分!$I$27/2)/入力部分!$I$35)^2)","v":2.6543844239457066E-2},0.2388945981551136]
[null,null,null,null,null,null,null,10,{"$f":"(入力部分!D$7*M16+入力部分!D$8*R16+入力部分!D$9*W16)/(入力部分!D$7+入力部分!D$8+入力部分!D$9)","v":9.8773505358448355E-3},null,null,10,{"$f":"1/入力部分!I$33/(2*3.14)^0.5*EXP(-1/2*((L16-入力部分!I$25)/入力部分!I$33)^2)","v":1.7659168712253076E-3},1.7659168712253075E-2,null,null,10,{"$f":"1/入力部分!I$34/(2*3.14)^0.5*EXP(-1/2*((Q16-入力部分!I$26/2)/入力部分!I$34)^2)","v":6.838420458413764E-3},6.8384204584137645E-2,null,null,10,{"$f":"1/入力部分!$I$35/(2*3.14)^0.5*EXP(-1/2*((V16-入力部分!$I$27/2)/入力部分!$I$35)^2)","v":2.6602896148920738E-2},0.26602896148920741]
[null,null,null,null,null,null,null,11,{"$f":"(入力部分!D$7*M17+入力部分!D$8*R17+入力部分!D$9*W17)/(入力部分!D$7+入力部分!D$8+入力部分!D$9)","v":9.9034571786387644E-3},null,null,11,{"$f":"1/入力部分!I$33/(2*3.14)^0.5*EXP(-1/2*((L17-入力部分!I$25)/入力部分!I$33)^2)","v":1.7867816863546386E-3},1.9654598549901023E-2,null,null,11,{"$f":"1/入力部分!I$34/(2*3.14)^0.5*EXP(-1/2*((Q17-入力部分!I$26/2)/入力部分!I$34)^2)","v":6.9265412970440235E-3},7.6191954267484263E-2,null,null,11,{"$f":"1/入力部分!$I$35/(2*3.14)^0.5*EXP(-1/2*((V17-入力部分!$I$27/2)/入力部分!$I$35)^2)","v":2.6543844239457066E-2},0.2919822866340277]
[null,null,null,null,null,null,null,12,{"$f":"(入力部分!D$7*M18+入力部分!D$8*R18+入力部分!D$9*W18)/(入力部分!D$7+入力部分!D$8+入力部分!D$9)","v":9.8995493334366625E-3},null,null,12,{"$f":"1/入力部分!I$33/(2*3.14)^0.5*EXP(-1/2*((L18-入力部分!I$25)/入力部分!I$33)^2)","v":1.8077290514783519E-3},2.1692748617740221E-2,null,null,12,{"$f":"1/入力部分!I$34/(2*3.14)^0.5*EXP(-1/2*((Q18-入力部分!I$26/2)/入力部分!I$34)^2)","v":7.0127532827256459E-3},8.4153039392707754E-2,null,null,12,{"$f":"1/入力部分!$I$35/(2*3.14)^0.5*EXP(-1/2*((V18-入力部分!$I$27/2)/入力部分!$I$35)^2)","v":2.6367473832440657E-2},0.31640968598928787]
[null,null,null,null,null,null,null,13,{"$f":"(入力部分!D$7*M19+入力部分!D$8*R19+入力部分!D$9*W19)/(入力部分!D$7+入力部分!D$8+入力部分!D$9)","v":9.8661734338771293E-3},null,null,13,{"$f":"1/入力部分!I$33/(2*3.14)^0.5*EXP(-1/2*((L19-入力部分!I$25)/入力部分!I$33)^2)","v":1.8287561122959626E-3},2.3773829459847514E-2,null,null,13,{"$f":"1/入力部分!I$34/(2*3.14)^0.5*EXP(-1/2*((Q19-入力部分!I$26/2)/入力部分!I$34)^2)","v":7.096957370516719E-3},9.2260445816717343E-2,null,null,13,{"$f":"1/入力部分!$I$35/(2*3.14)^0.5*EXP(-1/2*((V19-入力部分!$I$27/2)/入力部分!$I$35)^2)","v":2.6076123511289497E-2},0.33898960564676345]
[null,null,null,null,null,null,null,14,{"$f":"(入力部分!D$7*M20+入力部分!D$8*R20+入力部分!D$9*W20)/(入力部分!D$7+入力部分!D$8+入力部分!D$9)","v":9.8042518394066951E-3},null,null,14,{"$f":"1/入力部分!I$33/(2*3.14)^0.5*EXP(-1/2*((L20-入力部分!I$25)/入力部分!I$33)^2)","v":1.849859959365145E-3},2.5898039431112029E-2,null,null,14,{"$f":"1/入力部分!I$34/(2*3.14)^0.5*EXP(-1/2*((Q20-入力部分!I$26/2)/入力部分!I$34)^2)","v":7.179055934326428E-3},0.10050678308057,null,null,14,{"$f":"1/入力部分!$I$35/(2*3.14)^0.5*EXP(-1/2*((V20-入力部分!$I$27/2)/入力部分!$I$35)^2)","v":2.5673633517089421E-2},0.35943086923925188]
[null,null,null,null,null,null,null,15,{"$f":"(入力部分!D$7*M21+入力部分!D$8*R21+入力部分!D$9*W21)/(入力部分!D$7+入力部分!D$8+入力部分!D$9)","v":9.7150618466990014E-3},null,null,15,{"$f":"1/入力部分!I$33/(2*3.14)^0.5*EXP(-1/2*((L21-入力部分!I$25)/入力部分!I$33)^2)","v":1.8710376285219934E-3},2.8065564427829901E-2,null,null,15,{"$f":"1/入力部分!I$34/(2*3.14)^0.5*EXP(-1/2*((Q21-入力部分!I$26/2)/入力部分!I$34)^2)","v":7.2589529543987518E-3},0.10888429431598128,null,null,15,{"$f":"1/入力部分!$I$35/(2*3.14)^0.5*EXP(-1/2*((V21-入力部分!$I$27/2)/入力部分!$I$35)^2)","v":2.5165261512414897E-2},0.37747892268622346]
[null,null,null,null,null,null,null,16,{"$f":"(入力部分!D$7*M22+入力部分!D$8*R22+入力部分!D$9*W22)/(入力部分!D$7+入力部分!D$8+入力部分!D$9)","v":9.600207188385626E-3},null,null,16,{"$f":"1/入力部分!I$33/(2*3.14)^0.5*EXP(-1/2*((L22-入力部分!I$25)/入力部分!I$33)^2)","v":1.8922861013311056E-3},3.0276577621297689E-2,null,null,16,{"$f":"1/入力部分!I$34/(2*3.14)^0.5*EXP(-1/2*((Q22-入力部分!I$26/2)/入力部分!I$34)^2)","v":7.3365542035006923E-3},0.11738486725601108,null,null,16,{"$f":"1/入力部分!$I$35/(2*3.14)^0.5*EXP(-1/2*((V22-入力部分!$I$27/2)/入力部分!$I$35)^2)","v":2.4557568296294813E-2},0.39292109274071702]
[null,null,null,null,null,null,null,17,{"$f":"(入力部分!D$7*M23+入力部分!D$8*R23+入力部分!D$9*W23)/(入力部分!D$7+入力部分!D$8+入力部分!D$9)","v":9.4615828869983945E-3},null,null,17,{"$f":"1/入力部分!I$33/(2*3.14)^0.5*EXP(-1/2*((L23-入力部分!I$25)/入力部分!I$33)^2)","v":1.9136023055655936E-3},3.2531239194615091E-2,null,null,17,{"$f":"1/入力部分!I$34/(2*3.14)^0.5*EXP(-1/2*((Q23-入力部分!I$26/2)/入力部分!I$34)^2)","v":7.4117674313125747E-3},0.12600004633231376,null,null,17,{"$f":"1/入力部分!$I$35/(2*3.14)^0.5*EXP(-1/2*((V23-入力部分!$I$27/2)/入力部分!$I$35)^2)","v":2.3858276942676331E-2},0.40559070802549763]
[null,null,null,null,null,null,null,18,{"$f":"(入力部分!D$7*M24+入力部分!D$8*R24+入力部分!D$9*W24)/(入力部分!D$7+入力部分!D$8+入力部分!D$9)","v":9.3013345205168966E-3},null,null,18,{"$f":"1/入力部分!I$33/(2*3.14)^0.5*EXP(-1/2*((L24-入力部分!I$25)/入力部分!I$33)^2)","v":1.9349831157171012E-3},3.482969608290782E-2,null,null,18,{"$f":"1/入力部分!I$34/(2*3.14)^0.5*EXP(-1/2*((Q24-入力部分!I$26/2)/入力部分!I$34)^2)","v":7.4845025465178584E-3},0.13472104583732145,null,null,18,{"$f":"1/入力部分!$I$35/(2*3.14)^0.5*EXP(-1/2*((V24-入力部分!$I$27/2)/入力部分!$I$35)^2)","v":2.3076109588715154E-2},0.41536997259687275]
[null,null,null,null,null,null,null,19,{"$f":"(入力部分!D$7*M25+入力部分!D$8*R25+入力部分!D$9*W25)/(入力部分!D$7+入力部分!D$8+入力部分!D$9)","v":9.1218131037254808E-3},null,null,19,{"$f":"1/入力部分!I$33/(2*3.14)^0.5*EXP(-1/2*((L25-入力部分!I$25)/入力部分!I$33)^2)","v":1.9564253535358819E-3},3.7172081717181754E-2,null,null,19,{"$f":"1/入力部分!I$34/(2*3.14)^0.5*EXP(-1/2*((Q25-入力部分!I$26/2)/入力部分!I$34)^2)","v":7.5546717960913098E-3},0.14353876412573488,null,null,19,{"$f":"1/入力部分!$I$35/(2*3.14)^0.5*EXP(-1/2*((V25-入力部分!$I$27/2)/入力部分!$I$35)^2)","v":2.222060669046114E-2},0.42219152711876168]
[null,null,null,null,null,null,null,20,{"$f":"(入力部分!D$7*M26+入力部分!D$8*R26+入力部分!D$9*W26)/(入力部分!D$7+入力部分!D$8+入力部分!D$9)","v":8.9255268917963829E-3},null,null,20,{"$f":"1/入力部分!I$33/(2*3.14)^0.5*EXP(-1/2*((L26-入力部分!I$25)/入力部分!I$33)^2)","v":1.9779257886009959E-3},3.9558515772019916E-2,null,null,20,{"$f":"1/入力部分!I$34/(2*3.14)^0.5*EXP(-1/2*((Q26-入力部分!I$26/2)/入力部分!I$34)^2)","v":7.6221899412877965E-3},0.15244379882575593,null,null,20,{"$f":"1/入力部分!$I$35/(2*3.14)^0.5*EXP(-1/2*((V26-入力部分!$I$27/2)/入力部分!$I$35)^2)","v":2.1301933972352347E-2},0.42603867944704693]
[null,null,null,null,null,null,null,21,{"$f":"(入力部分!D$7*M27+入力部分!D$8*R27+入力部分!D$9*W27)/(入力部分!D$7+入力部分!D$8+入力部分!D$9)","v":8.7150914663192084E-3},null,null,21,{"$f":"1/入力部分!I$33/(2*3.14)^0.5*EXP(-1/2*((L27-入力部分!I$25)/入力部分!I$33)^2)","v":1.9994811389206332E-3},4.1989103917333299E-2,null,null,21,{"$f":"1/入力部分!I$34/(2*3.14)^0.5*EXP(-1/2*((Q27-入力部分!I$26/2)/入力部分!I$34)^2)","v":7.6869744298389883E-3},0.16142646302661876,null,null,21,{"$f":"1/入力部分!$I$35/(2*3.14)^0.5*EXP(-1/2*((V27-入力部分!$I$27/2)/入力部分!$I$35)^2)","v":2.0330682512137405E-2},0.42694433275488552]
[null,null,null,null,null,null,null,22,{"$f":"(入力部分!D$7*M28+入力部分!D$8*R28+入力部分!D$9*W28)/(入力部分!D$7+入力部分!D$8+入力部分!D$9)","v":8.4931794687655507E-3},null,null,22,{"$f":"1/入力部分!I$33/(2*3.14)^0.5*EXP(-1/2*((L28-入力部分!I$25)/入力部分!I$33)^2)","v":2.0210880715625804E-3},4.446393757437677E-2,null,null,22,{"$f":"1/入力部分!I$34/(2*3.14)^0.5*EXP(-1/2*((Q28-入力部分!I$26/2)/入力部分!I$34)^2)","v":7.7489455638720941E-3},0.17047680240518606,null,null,22,{"$f":"1/入力部分!$I$35/(2*3.14)^0.5*EXP(-1/2*((V28-入力部分!$I$27/2)/入力部分!$I$35)^2)","v":1.9317667421910191E-2},0.42498868328202422]
[null,null,null,null,null,null,null,23,{"$f":"(入力部分!D$7*M29+入力部分!D$8*R29+入力部分!D$9*W29)/(入力部分!D$7+入力部分!D$8+入力部分!D$9)","v":8.2624713036325015E-3},null,null,23,{"$f":"1/入力部分!I$33/(2*3.14)^0.5*EXP(-1/2*((L29-入力部分!I$25)/入力部分!I$33)^2)","v":2.0427432033148151E-3},4.6983093676240748E-2,null,null,23,{"$f":"1/入力部分!I$34/(2*3.14)^0.5*EXP(-1/2*((Q29-入力部分!I$26/2)/入力部分!I$34)^2)","v":7.8080266630733974E-3},0.17958461325068814,null,null,23,{"$f":"1/入力部分!$I$35/(2*3.14)^0.5*EXP(-1/2*((V29-入力部分!$I$27/2)/入力部分!$I$35)^2)","v":1.8273730414947689E-2},0.42029579954379687]
[null,null,null,null,null,null,null,24,{"$f":"(入力部分!D$7*M30+入力部分!D$8*R30+入力部分!D$9*W30)/(入力部分!D$7+入力部分!D$8+入力部分!D$9)","v":8.0256080467715676E-3},null,null,24,{"$f":"1/入力部分!I$33/(2*3.14)^0.5*EXP(-1/2*((L30-入力部分!I$25)/入力部分!I$33)^2)","v":2.0644431013761852E-3},4.9546634433028446E-2,null,null,24,{"$f":"1/入力部分!I$34/(2*3.14)^0.5*EXP(-1/2*((Q30-入力部分!I$26/2)/入力部分!I$34)^2)","v":7.864144222629656E-3},0.18873946134311176,null,null,24,{"$f":"1/入力部分!$I$35/(2*3.14)^0.5*EXP(-1/2*((V30-入力部分!$I$27/2)/入力部分!$I$35)^2)","v":1.7209551201077512E-2},0.4130292288258603]
[null,null,null,null,null,null,null,25,{"$f":"(入力部分!D$7*M31+入力部分!D$8*R31+入力部分!D$9*W31)/(入力部分!D$7+入力部分!D$8+入力部分!D$9)","v":7.785147668956517E-3},null,null,25,{"$f":"1/入力部分!I$33/(2*3.14)^0.5*EXP(-1/2*((L31-入力部分!I$25)/入力部分!I$33)^2)","v":2.0861842840771395E-3},5.2154607101928485E-2,null,null,25,{"$f":"1/入力部分!I$34/(2*3.14)^0.5*EXP(-1/2*((Q31-入力部分!I$26/2)/入力部分!I$34)^2)","v":7.9172280654925247E-3},0.19793070163731311,null,null,25,{"$f":"1/入力部分!$I$35/(2*3.14)^0.5*EXP(-1/2*((V31-入力部分!$I$27/2)/入力部分!$I$35)^2)","v":1.6135472151471569E-2},0.40338680378678926]
[null,null,null,null,null,null,null,26,{"$f":"(入力部分!D$7*M32+入力部分!D$8*R32+入力部分!D$9*W32)/(入力部分!D$7+入力部分!D$8+入力部分!D$9)","v":7.5435255272798688E-3},null,null,26,{"$f":"1/入力部分!I$33/(2*3.14)^0.5*EXP(-1/2*((L32-入力部分!I$25)/入力部分!I$33)^2)","v":2.1079632216304154E-3},5.4807043762390803E-2,null,null,26,{"$f":"1/入力部分!I$34/(2*3.14)^0.5*EXP(-1/2*((Q32-入力部分!I$26/2)/入力部分!I$34)^2)","v":7.9672114885248682E-3},0.20714749870164656,null,null,26,{"$f":"1/入力部分!$I$35/(2*3.14)^0.5*EXP(-1/2*((V32-入力部分!$I$27/2)/入力部分!$I$35)^2)","v":1.506134004388655E-2},0.39159484114105031]
[null,null,null,null,null,null,null,27,{"$f":"(入力部分!D$7*M33+入力部分!D$8*R33+入力部分!D$9*W33)/(入力部分!D$7+入力部分!D$8+入力部分!D$9)","v":7.3030198952416751E-3},null,null,27,{"$f":"1/入力部分!I$33/(2*3.14)^0.5*EXP(-1/2*((L33-入力部分!I$25)/入力部分!I$33)^2)","v":2.1297763369116096E-3},5.750396109661346E-2,null,null,27,{"$f":"1/入力部分!I$34/(2*3.14)^0.5*EXP(-1/2*((Q33-入力部分!I$26/2)/入力部分!I$34)^2)","v":8.0140314021032357E-3},0.21637884785678738,null,null,27,{"$f":"1/入力部分!$I$35/(2*3.14)^0.5*EXP(-1/2*((V33-入力部分!$I$27/2)/入力部分!$I$35)^2)","v":1.399636797244443E-2},0.37790193525599958]
[null,null,null,null,null,null,null,28,{"$f":"(入力部分!D$7*M34+入力部分!D$8*R34+入力部分!D$9*W34)/(入力部分!D$7+入力部分!D$8+入力部分!D$9)","v":7.0657231047779661E-3},null,null,28,{"$f":"1/入力部分!I$33/(2*3.14)^0.5*EXP(-1/2*((L34-入力部分!I$25)/入力部分!I$33)^2)","v":2.1516200062695078E-3},6.0245360175546221E-2,null,null,28,{"$f":"1/入力部分!I$34/(2*3.14)^0.5*EXP(-1/2*((Q34-入力部分!I$26/2)/入力部分!I$34)^2)","v":8.0576284627677276E-3},0.22561359695749639,null,null,28,{"$f":"1/入力部分!$I$35/(2*3.14)^0.5*EXP(-1/2*((V34-入力部分!$I$27/2)/入力部分!$I$35)^2)","v":1.2949019715556011E-2},0.36257255203556832]
[null,null,null,null,null,null,null,29,{"$f":"(入力部分!D$7*M35+入力部分!D$8*R35+入力部分!D$9*W35)/(入力部分!D$7+入力部分!D$8+入力部分!D$9)","v":6.8335186685366785E-3},null,null,29,{"$f":"1/入力部分!I$33/(2*3.14)^0.5*EXP(-1/2*((L35-入力部分!I$25)/入力部分!I$33)^2)","v":2.1734905603660449E-3},6.3031226250615302E-2,null,null,29,{"$f":"1/入力部分!I$34/(2*3.14)^0.5*EXP(-1/2*((Q35-入力部分!I$26/2)/入力部分!I$34)^2)","v":8.0979471985290121E-3},0.23484046875734135,null,null,29,{"$f":"1/入力部分!$I$35/(2*3.14)^0.5*EXP(-1/2*((V35-入力部分!$I$27/2)/入力部分!$I$35)^2)","v":1.1926918035804125E-2},0.34588062303831962]
[null,null,null,null,null,null,null,30,{"$f":"(入力部分!D$7*M36+入力部分!D$8*R36+入力部分!D$9*W36)/(入力部分!D$7+入力部分!D$8+入力部分!D$9)","v":6.6080645467923946E-3},null,null,30,{"$f":"1/入力部分!I$33/(2*3.14)^0.5*EXP(-1/2*((L36-入力部分!I$25)/入力部分!I$33)^2)","v":2.195384285045746E-3},6.5861528551372381E-2,null,null,30,{"$f":"1/入力部分!I$34/(2*3.14)^0.5*EXP(-1/2*((Q36-入力部分!I$26/2)/入力部分!I$34)^2)","v":8.1349361264622111E-3},0.24404808379386633,null,null,30,{"$f":"1/入力部分!$I$35/(2*3.14)^0.5*EXP(-1/2*((V36-入力部分!$I$27/2)/入力部分!$I$35)^2)","v":1.093677756990764E-2},0.32810332709722922]
[null,null,null,null,null,null,null,31,{"$f":"(入力部分!D$7*M37+入力部分!D$8*R37+入力部分!D$9*W37)/(入力部分!D$7+入力部分!D$8+入力部分!D$9)","v":6.390782528247747E-3},null,null,31,{"$f":"1/入力部分!I$33/(2*3.14)^0.5*EXP(-1/2*((L37-入力部分!I$25)/入力部分!I$33)^2)","v":2.2172974222344653E-3},6.8736220089268427E-2,null,null,31,{"$f":"1/入力部分!I$34/(2*3.14)^0.5*EXP(-1/2*((Q37-入力部分!I$26/2)/入力部分!I$34)^2)","v":8.1685478622387873E-3},0.25322498372940239,null,null,31,{"$f":"1/入力部分!$I$35/(2*3.14)^0.5*EXP(-1/2*((V37-入力部分!$I$27/2)/入力部分!$I$35)^2)","v":9.9843621862811087E-3},0.30951522777471435]
[null,null,null,null,null,null,null,32,{"$f":"(入力部分!D$7*M38+入力部分!D$8*R38+入力部分!D$9*W38)/(入力部分!D$7+入力部分!D$8+入力部分!D$9)","v":6.1828535144288592E-3},null,null,32,{"$f":"1/入力部分!I$33/(2*3.14)^0.5*EXP(-1/2*((L38-入力部分!I$25)/入力部分!I$33)^2)","v":2.2392261708672435E-3},7.1655237467751792E-2,null,null,32,{"$f":"1/入力部分!I$34/(2*3.14)^0.5*EXP(-1/2*((Q38-入力部分!I$26/2)/入力部分!I$34)^2)","v":8.198739221270299E-3},0.26235965508064957,null,null,32,{"$f":"1/入力部分!$I$35/(2*3.14)^0.5*EXP(-1/2*((V38-入力部分!$I$27/2)/入力部分!$I$35)^2)","v":9.0744659695091226E-3},0.29038291102429192]
[null,null,null,null,null,null,null,33,{"$f":"(入力部分!D$7*M39+入力部分!D$8*R39+入力部分!D$9*W39)/(入力部分!D$7+入力部分!D$8+入力部分!D$9)","v":5.9852183391040283E-3},null,null,33,{"$f":"1/入力部分!I$33/(2*3.14)^0.5*EXP(-1/2*((L39-入力部分!I$25)/入力部分!I$33)^2)","v":2.2611666878450546E-3},7.46185006988868E-2,null,null,33,{"$f":"1/入力部分!I$34/(2*3.14)^0.5*EXP(-1/2*((Q39-入力部分!I$26/2)/入力部分!I$34)^2)","v":8.2254713111618149E-3},0.27144055326833988,null,null,33,{"$f":"1/入力部分!$I$35/(2*3.14)^0.5*EXP(-1/2*((V39-入力部分!$I$27/2)/入力部分!$I$35)^2)","v":8.2109163579058113E-3},0.27096023981089179]
[null,null,null,null,null,null,null,34,{"$f":"(入力部分!D$7*M40+入力部分!D$8*R40+入力部分!D$9*W40)/(入力部分!D$7+入力部分!D$8+入力部分!D$9)","v":5.7985836214524706E-3},null,null,34,{"$f":"1/入力部分!I$33/(2*3.14)^0.5*EXP(-1/2*((L40-入力部分!I$25)/入力部分!I$33)^2)","v":2.2831150890202201E-3},7.7625913026687476E-2,null,null,34,{"$f":"1/入力部分!I$34/(2*3.14)^0.5*EXP(-1/2*((Q40-入力部分!I$26/2)/入力部分!I$34)^2)","v":8.2487096151979723E-3},0.28045612691673105,null,null,34,{"$f":"1/入力部分!$I$35/(2*3.14)^0.5*EXP(-1/2*((V40-入力部分!$I$27/2)/入力部分!$I$35)^2)","v":7.3965974294825949E-3},0.25148431260240822]
[null,null,null,null,null,null,null,35,{"$f":"(入力部分!D$7*M41+入力部分!D$8*R41+入力部分!D$9*W41)/(入力部分!D$7+入力部分!D$8+入力部分!D$9)","v":5.623432047459488E-3},null,null,35,{"$f":"1/入力部分!I$33/(2*3.14)^0.5*EXP(-1/2*((L41-入力部分!I$25)/入力部分!I$33)^2)","v":2.3050674502102246E-3},8.067736075735786E-2,null,null,35,{"$f":"1/入力部分!I$34/(2*3.14)^0.5*EXP(-1/2*((Q41-入力部分!I$26/2)/入力部分!I$34)^2)","v":8.2684240666108036E-3},0.28939484233137813,null,null,35,{"$f":"1/入力部分!$I$35/(2*3.14)^0.5*EXP(-1/2*((V41-入力部分!$I$27/2)/入力部分!$I$35)^2)","v":6.633490914606412E-3},0.23217218201122442]
[null,null,null,null,null,null,null,36,{"$f":"(入力部分!D$7*M42+入力部分!D$8*R42+入力部分!D$9*W42)/(入力部分!D$7+入力部分!D$8+入力部分!D$9)","v":5.4600363996432626E-3},null,null,36,{"$f":"1/入力部分!I$33/(2*3.14)^0.5*EXP(-1/2*((L42-入力部分!I$25)/入力部分!I$33)^2)","v":2.3270198082396645E-3},8.3772713096627927E-2,null,null,36,{"$f":"1/入力部分!I$34/(2*3.14)^0.5*EXP(-1/2*((Q42-入力部分!I$26/2)/入力部分!I$34)^2)","v":8.2845891134056843E-3},0.29824520808260463,null,null,36,{"$f":"1/入力部分!$I$35/(2*3.14)^0.5*EXP(-1/2*((V42-入力部分!$I$27/2)/入力部分!$I$35)^2)","v":5.9227322161050314E-3},0.21321835977978112]
[null,null,null,null,null,null,null,37,{"$f":"(入力部分!D$7*M43+入力部分!D$8*R43+入力部分!D$9*W43)/(入力部分!D$7+入力部分!D$8+入力部分!D$9)","v":5.3084766107668845E-3},null,null,37,{"$f":"1/入力部分!I$33/(2*3.14)^0.5*EXP(-1/2*((L43-入力部分!I$25)/入力部分!I$33)^2)","v":2.348968162010029E-3},8.6911821994371072E-2,null,null,37,{"$f":"1/入力部分!I$34/(2*3.14)^0.5*EXP(-1/2*((Q43-入力部分!I$26/2)/入力部分!I$34)^2)","v":8.2971837735497187E-3},0.3069957996213396,null,null,37,{"$f":"1/入力部分!$I$35/(2*3.14)^0.5*EXP(-1/2*((V43-入力部分!$I$27/2)/入力部分!$I$35)^2)","v":5.2646785397279161E-3},0.19479310596993291]
[null,null,null,null,null,null,null,38,{"$f":"(入力部分!D$7*M44+入力部分!D$8*R44+入力部分!D$9*W44)/(入力部分!D$7+入力部分!D$8+入力部分!D$9)","v":5.1686591014384452E-3},null,null,38,{"$f":"1/入力部分!I$33/(2*3.14)^0.5*EXP(-1/2*((L44-入力部分!I$25)/入力部分!I$33)^2)","v":2.370908473596996E-3},9.0094521996685842E-2,null,null,38,{"$f":"1/入力部分!I$34/(2*3.14)^0.5*EXP(-1/2*((Q44-入力部分!I$26/2)/入力部分!I$34)^2)","v":8.3061916803557467E-3},0.31563528385351836,null,null,38,{"$f":"1/入力部分!$I$35/(2*3.14)^0.5*EXP(-1/2*((V44-入力部分!$I$27/2)/入力部分!$I$35)^2)","v":4.658986174824669E-3},0.17704147464333742]
[null,null,null,null,null,null,null,39,{"$f":"(入力部分!D$7*M45+入力部分!D$8*R45+入力部分!D$9*W45)/(入力部分!D$7+入力部分!D$8+入力部分!D$9)","v":5.0403376721511357E-3},null,null,39,{"$f":"1/入力部分!I$33/(2*3.14)^0.5*EXP(-1/2*((L45-入力部分!I$25)/入力部分!I$33)^2)","v":2.3928366693749112E-3},9.3320630105621541E-2,null,null,39,{"$f":"1/入力部分!I$34/(2*3.14)^0.5*EXP(-1/2*((Q45-入力部分!I$26/2)/入力部分!I$34)^2)","v":8.3116011179245348E-3},0.32415244359905687,null,null,39,{"$f":"1/入力部分!$I$35/(2*3.14)^0.5*EXP(-1/2*((V45-入力部分!$I$27/2)/入力部分!$I$35)^2)","v":4.1046940076553762E-3},0.16008306629855967]
[null,null,null,null,null,null,null,40,{"$f":"(入力部分!D$7*M46+入力部分!D$8*R46+入力部分!D$9*W46)/(入力部分!D$7+入力部分!D$8+入力部分!D$9)","v":4.9231352541967734E-3},null,null,40,{"$f":"1/入力部分!I$33/(2*3.14)^0.5*EXP(-1/2*((L46-入力部分!I$25)/入力部分!I$33)^2)","v":2.4147486411680778E-3},9.6589945646723116E-2,null,null,40,{"$f":"1/入力部分!I$34/(2*3.14)^0.5*EXP(-1/2*((Q46-入力部分!I$26/2)/入力部分!I$34)^2)","v":8.3134050465377314E-3},0.33253620186150923,null,null,40,{"$f":"1/入力部分!$I$35/(2*3.14)^0.5*EXP(-1/2*((V46-入力部分!$I$27/2)/入力部分!$I$35)^2)","v":3.6003104852283811E-3},0.14401241940913526]
[null,null,null,null,null,null,null,41,{"$f":"(入力部分!D$7*M47+入力部分!D$8*R47+入力部分!D$9*W47)/(入力部分!D$7+入力部分!D$8+入力部分!D$9)","v":4.8165658772020897E-3},null,null,41,{"$f":"1/入力部分!I$33/(2*3.14)^0.5*EXP(-1/2*((L47-入力部分!I$25)/入力部分!I$33)^2)","v":2.4366402474284973E-3},9.9902250144568383E-2,null,null,41,{"$f":"1/入力部分!I$34/(2*3.14)^0.5*EXP(-1/2*((Q47-入力部分!I$26/2)/入力部分!I$34)^2)","v":8.3116011179245348E-3},0.34077564583490594,null,null,41,{"$f":"1/入力部分!$I$35/(2*3.14)^0.5*EXP(-1/2*((V47-入力部分!$I$27/2)/入力部分!$I$35)^2)","v":3.1439014607788111E-3},0.12889995989193126]
[null,null,null,null,null,null,null,42,{"$f":"(入力部分!D$7*M48+入力部分!D$8*R48+入力部分!D$9*W48)/(入力部分!D$7+入力部分!D$8+入力部分!D$9)","v":4.7200562796008705E-3},null,null,42,{"$f":"1/入力部分!I$33/(2*3.14)^0.5*EXP(-1/2*((L48-入力部分!I$25)/入力部分!I$33)^2)","v":2.4585073144396453E-3},0.1032573072064651,null,null,42,{"$f":"1/入力部分!I$34/(2*3.14)^0.5*EXP(-1/2*((Q48-入力部分!I$26/2)/入力部分!I$34)^2)","v":8.3061916803557467E-3},0.34886005057494135,null,null,42,{"$f":"1/入力部分!$I$35/(2*3.14)^0.5*EXP(-1/2*((V48-入力部分!$I$27/2)/入力部分!$I$35)^2)","v":2.733176626210396E-3},0.11479341830083663]
[null,null,null,null,null,null,null,43,{"$f":"(入力部分!D$7*M49+入力部分!D$8*R49+入力部分!D$9*W49)/(入力部分!D$7+入力部分!D$8+入力部分!D$9)","v":4.6329666678273729E-3},null,null,43,{"$f":"1/入力部分!I$33/(2*3.14)^0.5*EXP(-1/2*((L49-入力部分!I$25)/入力部分!I$33)^2)","v":2.4803456375458686E-3},0.10665486241447235,null,null,43,{"$f":"1/入力部分!I$34/(2*3.14)^0.5*EXP(-1/2*((Q49-入力部分!I$26/2)/入力部分!I$34)^2)","v":8.2971837735497187E-3},0.35677890226263792,null,null,43,{"$f":"1/入力部分!$I$35/(2*3.14)^0.5*EXP(-1/2*((V49-入力部分!$I$27/2)/入力部分!$I$35)^2)","v":2.365572554666111E-3},0.10171961985064278]
[null,null,null,null,null,null,null,44,{"$f":"(入力部分!D$7*M50+入力部分!D$8*R50+入力部分!D$9*W50)/(入力部分!D$7+入力部分!D$8+入力部分!D$9)","v":4.5546102161203262E-3},null,null,44,{"$f":"1/入力部分!I$33/(2*3.14)^0.5*EXP(-1/2*((L50-入力部分!I$25)/入力部分!I$33)^2)","v":2.5021509824069712E-3},0.11009464322590673,null,null,44,{"$f":"1/入力部分!I$34/(2*3.14)^0.5*EXP(-1/2*((Q50-入力部分!I$26/2)/入力部分!I$34)^2)","v":8.2845891134056843E-3},0.36452192098985009,null,null,44,{"$f":"1/入力部分!$I$35/(2*3.14)^0.5*EXP(-1/2*((V50-入力部分!$I$27/2)/入力部分!$I$35)^2)","v":2.0383307207623236E-3},8.9686551713542242E-2]
[null,null,null,null,null,null,null,45,{"$f":"(入力部分!D$7*M51+入力部分!D$8*R51+入力部分!D$9*W51)/(入力部分!D$7+入力部分!D$8+入力部分!D$9)","v":4.4842709875348493E-3},null,null,45,{"$f":"1/入力部分!I$33/(2*3.14)^0.5*EXP(-1/2*((L51-入力部分!I$25)/入力部分!I$33)^2)","v":2.5239190862775128E-3},0.11357635888248807,null,null,45,{"$f":"1/入力部分!I$34/(2*3.14)^0.5*EXP(-1/2*((Q51-入力部分!I$26/2)/入力部分!I$34)^2)","v":8.2684240666108036E-3},0.37207908299748615,null,null,45,{"$f":"1/入力部分!$I$35/(2*3.14)^0.5*EXP(-1/2*((V51-入力部分!$I$27/2)/入力部分!$I$35)^2)","v":1.7485692208069243E-3},7.8685614936311599E-2]
[null,null,null,null,null,null,null,46,{"$f":"(入力部分!D$7*M52+入力部分!D$8*R52+入力部分!D$9*W52)/(入力部分!D$7+入力部分!D$8+入力部分!D$9)","v":4.4212200444458134E-3},null,null,46,{"$f":"1/入力部分!I$33/(2*3.14)^0.5*EXP(-1/2*((L52-入力部分!I$25)/入力部分!I$33)^2)","v":2.5456456593103602E-3},0.11709970032827657,null,null,46,{"$f":"1/入力部分!I$34/(2*3.14)^0.5*EXP(-1/2*((Q52-入力部分!I$26/2)/入力部分!I$34)^2)","v":8.2487096151979723E-3},0.37944064229910673,null,null,46,{"$f":"1/入力部分!$I$35/(2*3.14)^0.5*EXP(-1/2*((V52-入力部分!$I$27/2)/入力部分!$I$35)^2)","v":1.493347266020755E-3},6.8693974236954725E-2]
[null,null,null,null,null,null,null,47,{"$f":"(入力部分!D$7*M53+入力部分!D$8*R53+入力部分!D$9*W53)/(入力部分!D$7+入力部分!D$8+入力部分!D$9)","v":4.3647296003785805E-3},null,null,47,{"$f":"1/入力部分!I$33/(2*3.14)^0.5*EXP(-1/2*((L53-入力部分!I$25)/入力部分!I$33)^2)","v":2.5673263858839749E-3},0.12066434013654682,null,null,47,{"$f":"1/入力部分!I$34/(2*3.14)^0.5*EXP(-1/2*((Q53-入力部分!I$26/2)/入力部分!I$34)^2)","v":8.2254713111618149E-3},0.38659715162460528,null,null,47,{"$f":"1/入力部分!$I$35/(2*3.14)^0.5*EXP(-1/2*((V53-入力部分!$I$27/2)/入力部分!$I$35)^2)","v":1.2697218559456424E-3},5.967692722944519E-2]
[null,null,null,null,null,null,null,48,{"$f":"(入力部分!D$7*M54+入力部分!D$8*R54+入力部分!D$9*W54)/(入力部分!D$7+入力部分!D$8+入力部分!D$9)","v":4.3140851418967535E-3},null,null,48,{"$f":"1/入力部分!I$33/(2*3.14)^0.5*EXP(-1/2*((L54-入力部分!I$25)/入力部分!I$33)^2)","v":2.5889569259529271E-3},0.1242699324457405,null,null,48,{"$f":"1/入力部分!I$34/(2*3.14)^0.5*EXP(-1/2*((Q54-入力部分!I$26/2)/入力部分!I$34)^2)","v":8.198739221270299E-3},0.39353948262097438,null,null,48,{"$f":"1/入力部分!$I$35/(2*3.14)^0.5*EXP(-1/2*((V54-入力部分!$I$27/2)/入力部分!$I$35)^2)","v":1.0747963467521797E-3},5.1590224644104628E-2]
[null,null,null,null,null,null,null,49,{"$f":"(入力部分!D$7*M55+入力部分!D$8*R55+入力部分!D$9*W55)/(入力部分!D$7+入力部分!D$8+入力部分!D$9)","v":4.2685955176073624E-3},null,null,49,{"$f":"1/入力部分!I$33/(2*3.14)^0.5*EXP(-1/2*((L55-入力部分!I$25)/入力部分!I$33)^2)","v":2.6105329164210992E-3},0.12791611290463387,null,null,49,{"$f":"1/入力部分!I$34/(2*3.14)^0.5*EXP(-1/2*((Q55-入力部分!I$26/2)/入力部分!I$34)^2)","v":8.1685478622387873E-3},0.40025884524970057,null,null,49,{"$f":"1/入力部分!$I$35/(2*3.14)^0.5*EXP(-1/2*((V55-入力部分!$I$27/2)/入力部分!$I$35)^2)","v":9.0576090243962566E-4},4.4382284219541657E-2]
[null,null,null,null,null,null,null,50,{"$f":"(入力部分!D$7*M56+入力部分!D$8*R56+入力部分!D$9*W56)/(入力部分!D$7+入力部分!D$8+入力部分!D$9)","v":4.2276010498280359E-3},null,null,50,{"$f":"1/入力部分!I$33/(2*3.14)^0.5*EXP(-1/2*((L56-入力部分!I$25)/入力部分!I$33)^2)","v":2.632049972537014E-3},0.13160249862685069,null,null,50,{"$f":"1/入力部分!I$34/(2*3.14)^0.5*EXP(-1/2*((Q56-入力部分!I$26/2)/入力部分!I$34)^2)","v":8.1349361264622111E-3},0.40674680632311055,null,null,50,{"$f":"1/入力部分!$I$35/(2*3.14)^0.5*EXP(-1/2*((V56-入力部分!$I$27/2)/入力部分!$I$35)^2)","v":7.599250508133075E-4},3.7996252540665375E-2]
[null,null,null,null,null,null,null,51,{"$f":"(入力部分!D$7*M57+入力部分!D$8*R57+入力部分!D$9*W57)/(入力部分!D$7+入力部分!D$8+入力部分!D$9)","v":4.1904797724022858E-3},null,null,51,{"$f":"1/入力部分!I$33/(2*3.14)^0.5*EXP(-1/2*((L57-入力部分!I$25)/入力部分!I$33)^2)","v":2.6535036893107168E-3},0.13532868815484655,null,null,51,{"$f":"1/入力部分!I$34/(2*3.14)^0.5*EXP(-1/2*((Q57-入力部分!I$26/2)/入力部分!I$34)^2)","v":8.0979471985290121E-3},0.41299530712497962,null,null,51,{"$f":"1/入力部分!$I$35/(2*3.14)^0.5*EXP(-1/2*((V57-入力部分!$I$27/2)/入力部分!$I$35)^2)","v":6.3474275784955296E-4},3.2371880650327201E-2]
[null,null,null,null,null,null,null,52,{"$f":"(入力部分!D$7*M58+入力部分!D$8*R58+入力部分!D$9*W58)/(入力部分!D$7+入力部分!D$8+入力部分!D$9)","v":4.1566519353861001E-3},null,null,52,{"$f":"1/入力部分!I$33/(2*3.14)^0.5*EXP(-1/2*((L58-入力部分!I$25)/入力部分!I$33)^2)","v":2.6748896429516205E-3},0.13909426143348427,null,null,52,{"$f":"1/入力部分!I$34/(2*3.14)^0.5*EXP(-1/2*((Q58-入力部分!I$26/2)/入力部分!I$34)^2)","v":8.0576284627677276E-3},0.41899668006392182,null,null,52,{"$f":"1/入力部分!$I$35/(2*3.14)^0.5*EXP(-1/2*((V58-入力部分!$I$27/2)/入力部分!$I$35)^2)","v":5.2783058296538015E-4},2.7447190314199767E-2]
[null,null,null,null,null,null,null,53,{"$f":"(入力部分!D$7*M59+入力部分!D$8*R59+入力部分!D$9*W59)/(入力部分!D$7+入力部分!D$8+入力部分!D$9)","v":4.1255829441585899E-3},null,null,53,{"$f":"1/入力部分!I$33/(2*3.14)^0.5*EXP(-1/2*((L59-入力部分!I$25)/入力部分!I$33)^2)","v":2.6962033923266905E-3},0.14289877979331461,null,null,53,{"$f":"1/入力部分!I$34/(2*3.14)^0.5*EXP(-1/2*((Q59-入力部分!I$26/2)/入力部分!I$34)^2)","v":8.0140314021032357E-3},0.42474366431147148,null,null,53,{"$f":"1/入力部分!$I$35/(2*3.14)^0.5*EXP(-1/2*((V59-入力部分!$I$27/2)/入力部分!$I$35)^2)","v":4.3697958498947254E-4},2.3159918004442046E-2]
[null,null,null,null,null,null,null,54,{"$f":"(入力部分!D$7*M60+入力部分!D$8*R60+入力部分!D$9*W60)/(入力部分!D$7+入力部分!D$8+入力部分!D$9)","v":4.0967849176046416E-3},null,null,54,{"$f":"1/入力部分!I$33/(2*3.14)^0.5*EXP(-1/2*((L60-入力部分!I$25)/入力部分!I$33)^2)","v":2.7174404804383486E-3},0.14674178594367082,null,null,54,{"$f":"1/入力部分!I$34/(2*3.14)^0.5*EXP(-1/2*((Q60-入力部分!I$26/2)/入力部分!I$34)^2)","v":7.9672114885248682E-3},0.4302294203803429,null,null,54,{"$f":"1/入力部分!$I$35/(2*3.14)^0.5*EXP(-1/2*((V60-入力部分!$I$27/2)/入力部分!$I$35)^2)","v":3.6016171697374324E-4},1.9448732716582134E-2]
[null,null,null,null,null,null,null,55,{"$f":"(入力部分!D$7*M61+入力部分!D$8*R61+入力部分!D$9*W61)/(入力部分!D$7+入力部分!D$8+入力部分!D$9)","v":4.0698170583366314E-3},null,null,55,{"$f":"1/入力部分!I$33/(2*3.14)^0.5*EXP(-1/2*((L61-入力部分!I$25)/入力部分!I$33)^2)","v":2.7385964359214398E-3},0.1506228039756792,null,null,55,{"$f":"1/入力部分!I$34/(2*3.14)^0.5*EXP(-1/2*((Q61-入力部分!I$26/2)/入力部分!I$34)^2)","v":7.9172280654925247E-3},0.43544754360208887,null,null,55,{"$f":"1/入力部分!$I$35/(2*3.14)^0.5*EXP(-1/2*((V61-入力部分!$I$27/2)/入力部分!$I$35)^2)","v":2.9553148122558003E-4},1.6254231467406902E-2]
[null,null,null,null,null,null,null,56,{"$f":"(入力部分!D$7*M62+入力部分!D$8*R62+入力部分!D$9*W62)/(入力部分!D$7+入力部分!D$8+入力部分!D$9)","v":4.0442850286211236E-3},null,null,56,{"$f":"1/入力部分!I$33/(2*3.14)^0.5*EXP(-1/2*((L62-入力部分!I$25)/入力部分!I$33)^2)","v":2.7596667745585996E-3},0.15454133937528158,null,null,56,{"$f":"1/入力部分!I$34/(2*3.14)^0.5*EXP(-1/2*((Q62-入力部分!I$26/2)/入力部分!I$34)^2)","v":7.864144222629656E-3},0.44039207646726075,null,null,56,{"$f":"1/入力部分!$I$35/(2*3.14)^0.5*EXP(-1/2*((V62-入力部分!$I$27/2)/入力部分!$I$35)^2)","v":2.414236187021142E-4},1.3519722647318395E-2]
[null,null,null,null,null,null,null,57,{"$f":"(入力部分!D$7*M63+入力部分!D$8*R63+入力部分!D$9*W63)/(入力部分!D$7+入力部分!D$8+入力部分!D$9)","v":4.0198395200234513E-3},null,null,57,{"$f":"1/入力部分!I$33/(2*3.14)^0.5*EXP(-1/2*((L63-入力部分!I$25)/入力部分!I$33)^2)","v":2.7806470008133453E-3},0.15849687904636067,null,null,57,{"$f":"1/入力部分!I$34/(2*3.14)^0.5*EXP(-1/2*((Q63-入力部分!I$26/2)/入力部分!I$34)^2)","v":7.8080266630733974E-3},0.44505751979518365,null,null,57,{"$f":"1/入力部分!$I$35/(2*3.14)^0.5*EXP(-1/2*((V63-入力部分!$I$27/2)/入力部分!$I$35)^2)","v":1.9634758426369313E-4},1.1191812303030508E-2]
[null,null,null,null,null,null,null,58,{"$f":"(入力部分!D$7*M64+入力部分!D$8*R64+入力部分!D$9*W64)/(入力部分!D$7+入力部分!D$8+入力部分!D$9)","v":3.9961741940844533E-3},null,null,58,{"$f":"1/入力部分!I$33/(2*3.14)^0.5*EXP(-1/2*((L64-入力部分!I$25)/入力部分!I$33)^2)","v":2.8015326093801729E-3},0.16248889134405003,null,null,58,{"$f":"1/入力部分!I$34/(2*3.14)^0.5*EXP(-1/2*((Q64-入力部分!I$26/2)/入力部分!I$34)^2)","v":7.7489455638720941E-3},0.44943884270458145,null,null,58,{"$f":"1/入力部分!$I$35/(2*3.14)^0.5*EXP(-1/2*((V64-入力部分!$I$27/2)/入力部分!$I$35)^2)","v":1.5897951645941561E-4},9.2208119546461059E-3]
[null,null,null,null,null,null,null,59,{"$f":"(入力部分!D$7*M65+入力部分!D$8*R65+入力部分!D$9*W65)/(入力部分!D$7+入力部分!D$8+入力部分!D$9)","v":3.97302315687927E-3},null,null,59,{"$f":"1/入力部分!I$33/(2*3.14)^0.5*EXP(-1/2*((L65-入力部分!I$25)/入力部分!I$33)^2)","v":2.8223190867509673E-3},0.16651682611830707,null,null,59,{"$f":"1/入力部分!I$34/(2*3.14)^0.5*EXP(-1/2*((Q65-入力部分!I$26/2)/入力部分!I$34)^2)","v":7.6869744298389883E-3},0.45353149136050031,null,null,59,{"$f":"1/入力部分!$I$35/(2*3.14)^0.5*EXP(-1/2*((V65-入力部分!$I$27/2)/入力部分!$I$35)^2)","v":1.2815235263214945E-4},7.5609888052968173E-3]
[null,null,null,null,null,null,null,60,{"$f":"(入力部分!D$7*M66+入力部分!D$8*R66+入力部分!D$9*W66)/(入力部分!D$7+入力部分!D$8+入力部分!D$9)","v":3.9501581132793933E-3},null,null,60,{"$f":"1/入力部分!I$33/(2*3.14)^0.5*EXP(-1/2*((L66-入力部分!I$25)/入力部分!I$33)^2)","v":2.8430019127969764E-3},0.17058011476781859,null,null,60,{"$f":"1/入力部分!I$34/(2*3.14)^0.5*EXP(-1/2*((Q66-入力部分!I$26/2)/入力部分!I$34)^2)","v":7.6221899412877965E-3},0.45733139647726778,null,null,60,{"$f":"1/入力部分!$I$35/(2*3.14)^0.5*EXP(-1/2*((V66-入力部分!$I$27/2)/入力部分!$I$35)^2)","v":1.0284467199041619E-4},6.1706803194249713E-3]
[null,null,null,null,null,null,null,61,{"$f":"(入力部分!D$7*M67+入力部分!D$8*R67+入力部分!D$9*W67)/(入力部分!D$7+入力部分!D$8+入力部分!D$9)","v":3.9273853282310667E-3},null,null,61,{"$f":"1/入力部分!I$33/(2*3.14)^0.5*EXP(-1/2*((L67-入力部分!I$25)/入力部分!I$33)^2)","v":2.8635765623656077E-3},0.17467817030430208,null,null,61,{"$f":"1/入力部分!I$34/(2*3.14)^0.5*EXP(-1/2*((Q67-入力部分!I$26/2)/入力部分!I$34)^2)","v":7.5546717960913098E-3},0.46083497956156988,null,null,61,{"$f":"1/入力部分!$I$35/(2*3.14)^0.5*EXP(-1/2*((V67-入力部分!$I$27/2)/入力部分!$I$35)^2)","v":8.216877523889416E-5},5.0122952895725438E-3]
[null,null,null,null,null,null,null,62,{"$f":"(入力部分!D$7*M68+入力部分!D$8*R68+入力部分!D$9*W68)/(入力部分!D$7+入力部分!D$8+入力部分!D$9)","v":3.9045425033172702E-3},null,null,62,{"$f":"1/入力部分!I$33/(2*3.14)^0.5*EXP(-1/2*((L68-入力部分!I$25)/入力部分!I$33)^2)","v":2.8840385068912935E-3},0.17881038742726019,null,null,62,{"$f":"1/入力部分!I$34/(2*3.14)^0.5*EXP(-1/2*((Q68-入力部分!I$26/2)/入力部分!I$34)^2)","v":7.4845025465178584E-3},0.46403915788410721,null,null,62,{"$f":"1/入力部分!$I$35/(2*3.14)^0.5*EXP(-1/2*((V68-入力部分!$I$27/2)/入力部分!$I$35)^2)","v":6.535843315535549E-5},4.0522228556320403E-3]
[null,null,null,null,null,null,null,63,{"$f":"(入力部分!D$7*M69+入力部分!D$8*R69+入力部分!D$9*W69)/(入力部分!D$7+入力部分!D$8+入力部分!D$9)","v":3.8814956580715378E-3},null,null,63,{"$f":"1/入力部分!I$33/(2*3.14)^0.5*EXP(-1/2*((L69-入力部分!I$25)/入力部分!I$33)^2)","v":2.9043832160196301E-3},0.1829761426092367,null,null,63,{"$f":"1/入力部分!I$34/(2*3.14)^0.5*EXP(-1/2*((Q69-入力部分!I$26/2)/入力部分!I$34)^2)","v":7.4117674313125747E-3},0.46694134817269223,null,null,63,{"$f":"1/入力部分!$I$35/(2*3.14)^0.5*EXP(-1/2*((V69-入力部分!$I$27/2)/入力部分!$I$35)^2)","v":5.1756661287846033E-5},3.2606696611343E-3]
[null,null,null,null,null,null,null,64,{"$f":"(入力部分!D$7*M70+入力部分!D$8*R70+入力部分!D$9*W70)/(入力部分!D$7+入力部分!D$8+入力部分!D$9)","v":3.8581360875828085E-3},null,null,64,{"$f":"1/入力部分!I$33/(2*3.14)^0.5*EXP(-1/2*((L70-入力部分!I$25)/入力部分!I$33)^2)","v":2.9246061592440157E-3},0.18717479419161701,null,null,64,{"$f":"1/入力部分!I$34/(2*3.14)^0.5*EXP(-1/2*((Q70-入力部分!I$26/2)/入力部分!I$34)^2)","v":7.3365542035006923E-3},0.46953946902404431,null,null,64,{"$f":"1/入力部分!$I$35/(2*3.14)^0.5*EXP(-1/2*((V70-入力部分!$I$27/2)/入力部分!$I$35)^2)","v":4.080380621417426E-5},2.6114435977071526E-3]
[null,null,null,null,null,null,null,65,{"$f":"(入力部分!D$7*M71+入力部分!D$8*R71+入力部分!D$9*W71)/(入力部分!D$7+入力部分!D$8+入力部分!D$9)","v":3.8343774513373364E-3},null,null,65,{"$f":"1/入力部分!I$33/(2*3.14)^0.5*EXP(-1/2*((L71-入力部分!I$25)/入力部分!I$33)^2)","v":2.9447028075539777E-3},{"$f":"L71*$M71","v":0.19140568249100856},null,null,65,{"$f":"1/入力部分!I$34/(2*3.14)^0.5*EXP(-1/2*((Q71-入力部分!I$26/2)/入力部分!I$34)^2)","v":7.2589529543987518E-3},{"$f":"Q71*$R71","v":0.47183194203591888},null,null,65,{"$f":"1/入力部分!$I$35/(2*3.14)^0.5*EXP(-1/2*((V71-入力部分!$I$27/2)/入力部分!$I$35)^2)","v":3.2026162420254968E-5},{"$f":"V71*$W71","v":2.0817005573165728E-3}]
[null,null,null,null,null,null,null,66,{"$f":"(入力部分!D$7*M72+入力部分!D$8*R72+入力部分!D$9*W72)/(入力部分!D$7+入力部分!D$8+入力部分!D$9)","v":3.8101530333062151E-3},null,null,66,{"$f":"1/入力部分!I$33/(2*3.14)^0.5*EXP(-1/2*((L72-入力部分!I$25)/入力部分!I$33)^2)","v":2.9646686350943705E-3},0.19566812991622845,null,null,66,{"$f":"1/入力部分!I$34/(2*3.14)^0.5*EXP(-1/2*((Q72-入力部分!I$26/2)/入力部分!I$34)^2)","v":7.179055934326428E-3},0.47381769166554427,null,null,66,{"$f":"1/入力部分!$I$35/(2*3.14)^0.5*EXP(-1/2*((V72-入力部分!$I$27/2)/入力部分!$I$35)^2)","v":2.5025279093665511E-5},1.6516684201819238E-3]
[null,null,null,null,null,null,null,67,{"$f":"(入力部分!D$7*M73+入力部分!D$8*R73+入力部分!D$9*W73)/(入力部分!D$7+入力部分!D$8+入力部分!D$9)","v":3.7854132001945004E-3},null,null,67,{"$f":"1/入力部分!I$33/(2*3.14)^0.5*EXP(-1/2*((L73-入力部分!I$25)/入力部分!I$33)^2)","v":2.9844991208346112E-3},0.19996144109591896,null,null,67,{"$f":"1/入力部分!I$34/(2*3.14)^0.5*EXP(-1/2*((Q73-入力部分!I$26/2)/入力部分!I$34)^2)","v":7.096957370516719E-3},0.47549614382462019,null,null,67,{"$f":"1/入力部分!$I$35/(2*3.14)^0.5*EXP(-1/2*((V73-入力部分!$I$27/2)/入力部分!$I$35)^2)","v":1.9468063751006211E-5},1.3043602713174161E-3]
[null,null,null,null,null,null,null,68,{"$f":"(入力部分!D$7*M74+入力部分!D$8*R74+入力部分!D$9*W74)/(入力部分!D$7+入力部分!D$8+入力部分!D$9)","v":3.7601230735977379E-3},null,null,68,{"$f":"1/入力部分!I$33/(2*3.14)^0.5*EXP(-1/2*((L74-入力部分!I$25)/入力部分!I$33)^2)","v":3.0041897502471183E-3},0.20428490301680405,null,null,68,{"$f":"1/入力部分!I$34/(2*3.14)^0.5*EXP(-1/2*((Q74-入力部分!I$26/2)/入力部分!I$34)^2)","v":7.0127532827256459E-3},0.47686722322534392,null,null,68,{"$f":"1/入力部分!$I$35/(2*3.14)^0.5*EXP(-1/2*((V74-入力部分!$I$27/2)/入力部分!$I$35)^2)","v":1.507774493180724E-5},1.0252866553628922E-3]
[null,null,null,null,null,null,null,69,{"$f":"(入力部分!D$7*M75+入力部分!D$8*R75+入力部分!D$9*W75)/(入力部分!D$7+入力部分!D$8+入力部分!D$9)","v":3.7342604225492951E-3},null,null,69,{"$f":"1/入力部分!I$33/(2*3.14)^0.5*EXP(-1/2*((L75-入力部分!I$25)/入力部分!I$33)^2)","v":3.0237360169940893E-3},0.20863778517259216,null,null,69,{"$f":"1/入力部分!I$34/(2*3.14)^0.5*EXP(-1/2*((Q75-入力部分!I$26/2)/入力部分!I$34)^2)","v":6.9265412970440235E-3},0.47793134949603761,null,null,69,{"$f":"1/入力部分!$I$35/(2*3.14)^0.5*EXP(-1/2*((V75-入力部分!$I$27/2)/入力部分!$I$35)^2)","v":1.1625719140011659E-5},8.0217462066080444E-4]
[null,null,null,null,null,null,null,70,{"$f":"(入力部分!D$7*M76+入力部分!D$8*R76+入力部分!D$9*W76)/(入力部分!D$7+入力部分!D$8+入力部分!D$9)","v":3.7078137755013063E-3},null,null,70,{"$f":"1/入力部分!I$33/(2*3.14)^0.5*EXP(-1/2*((L76-入力部分!I$25)/入力部分!I$33)^2)","v":3.0431334246217643E-3},0.21301933972352349,null,null,70,{"$f":"1/入力部分!I$34/(2*3.14)^0.5*EXP(-1/2*((Q76-入力部分!I$26/2)/入力部分!I$34)^2)","v":6.838420458413764E-3},0.47868943208896347,null,null,70,{"$f":"1/入力部分!$I$35/(2*3.14)^0.5*EXP(-1/2*((V76-入力部分!$I$27/2)/入力部分!$I$35)^2)","v":8.9242774519345635E-6},6.2469942163541944E-4]
[null,null,null,null,null,null,null,71,{"$f":"(入力部分!D$7*M77+入力部分!D$8*R77+入力部分!D$9*W77)/(入力部分!D$7+入力部分!D$8+入力部分!D$9)","v":3.6807807450245675E-3},null,null,71,{"$f":"1/入力部分!I$33/(2*3.14)^0.5*EXP(-1/2*((L77-入力部分!I$25)/入力部分!I$33)^2)","v":3.0623774882612867E-3},0.21742880166655135,null,null,71,{"$f":"1/入力部分!I$34/(2*3.14)^0.5*EXP(-1/2*((Q77-入力部分!I$26/2)/入力部分!I$34)^2)","v":6.7484910423491803E-3},0.47914286400679179,null,null,71,{"$f":"1/入力部分!$I$35/(2*3.14)^0.5*EXP(-1/2*((V77-入力部分!$I$27/2)/入力部分!$I$35)^2)","v":6.82018418257326E-6},4.8423307696270144E-4]
[null,null,null,null,null,null,null,72,{"$f":"(入力部分!D$7*M78+入力部分!D$8*R78+入力部分!D$9*W78)/(入力部分!D$7+入力部分!D$8+入力部分!D$9)","v":3.6531665542646904E-3},null,null,72,{"$f":"1/入力部分!I$33/(2*3.14)^0.5*EXP(-1/2*((L78-入力部分!I$25)/入力部分!I$33)^2)","v":3.0814637363352848E-3},0.2218653890161405,null,null,72,{"$f":"1/入力部分!I$34/(2*3.14)^0.5*EXP(-1/2*((Q78-入力部分!I$26/2)/入力部分!I$34)^2)","v":6.6568543663601092E-3},0.47929351437792789,null,null,72,{"$f":"1/入力部分!$I$35/(2*3.14)^0.5*EXP(-1/2*((V78-入力部分!$I$27/2)/入力部分!$I$35)^2)","v":5.1890630156722327E-6},3.7361253712840073E-4]
[null,null,null,null,null,null,null,73,{"$f":"(入力部分!D$7*M79+入力部分!D$8*R79+入力部分!D$9*W79)/(入力部分!D$7+入力部分!D$8+入力部分!D$9)","v":3.6249827512599793E-3},null,null,73,{"$f":"1/入力部分!I$33/(2*3.14)^0.5*EXP(-1/2*((L79-入力部分!I$25)/入力部分!I$33)^2)","v":3.1003877122692757E-3},0.22632830299565712,null,null,73,{"$f":"1/入力部分!I$34/(2*3.14)^0.5*EXP(-1/2*((Q79-入力部分!I$26/2)/入力部分!I$34)^2)","v":6.5636126015683853E-3},0.47914371991449212,null,null,73,{"$f":"1/入力部分!$I$35/(2*3.14)^0.5*EXP(-1/2*((V79-入力部分!$I$27/2)/入力部分!$I$35)^2)","v":3.9305342834261218E-6},2.8692900269010688E-4]
[null,null,null,null,null,null,null,74,{"$f":"(入力部分!D$7*M80+入力部分!D$8*R80+入力部分!D$9*W80)/(入力部分!D$7+入力部分!D$8+入力部分!D$9)","v":3.5962460954103207E-3},null,null,74,{"$f":"1/入力部分!I$33/(2*3.14)^0.5*EXP(-1/2*((L80-入力部分!I$25)/入力部分!I$33)^2)","v":3.1191449762069902E-3},0.23081672823931726,null,null,74,{"$f":"1/入力部分!I$34/(2*3.14)^0.5*EXP(-1/2*((Q80-入力部分!I$26/2)/入力部分!I$34)^2)","v":6.4688685850022428E-3},0.47869627529016595,null,null,74,{"$f":"1/入力部分!$I$35/(2*3.14)^0.5*EXP(-1/2*((V80-入力部分!$I$27/2)/入力部分!$I$35)^2)","v":2.9640398274346483E-6},2.1933894723016398E-4]
[null,null,null,null,null,null,null,75,{"$f":"(入力部分!D$7*M81+入力部分!D$8*R81+入力部分!D$9*W81)/(入力部分!D$7+入力部分!D$8+入力部分!D$9)","v":3.5669775994886213E-3},null,null,75,{"$f":"1/入力部分!I$33/(2*3.14)^0.5*EXP(-1/2*((L81-入力部分!I$25)/入力部分!I$33)^2)","v":3.1377311067287009E-3},0.23532983300465257,null,null,75,{"$f":"1/入力部分!I$34/(2*3.14)^0.5*EXP(-1/2*((Q81-入力部分!I$26/2)/入力部分!I$34)^2)","v":6.3727256330447018E-3},0.47795442247835263,null,null,75,{"$f":"1/入力部分!$I$35/(2*3.14)^0.5*EXP(-1/2*((V81-入力部分!$I$27/2)/入力部分!$I$35)^2)","v":2.2252882943813069E-6},1.6689662207859801E-4]
[null,null,null,null,null,null,null,76,{"$f":"(入力部分!D$7*M82+入力部分!D$8*R82+入力部分!D$9*W82)/(入力部分!D$7+入力部分!D$8+入力部分!D$9)","v":3.5372017104205941E-3},null,null,76,{"$f":"1/入力部分!I$33/(2*3.14)^0.5*EXP(-1/2*((L82-入力部分!I$25)/入力部分!I$33)^2)","v":3.1561417025716423E-3},0.23986676939544482,null,null,76,{"$f":"1/入力部分!I$34/(2*3.14)^0.5*EXP(-1/2*((Q82-入力部分!I$26/2)/入力部分!I$34)^2)","v":6.2752873565019461E-3},0.47692183909414793,null,null,76,{"$f":"1/入力部分!$I$35/(2*3.14)^0.5*EXP(-1/2*((V82-入力部分!$I$27/2)/入力部分!$I$35)^2)","v":1.6632530719958964E-6},1.2640723347168812E-4]
[null,null,null,null,null,null,null,77,{"$f":"(入力部分!D$7*M83+入力部分!D$8*R83+入力部分!D$9*W83)/(入力部分!D$7+入力部分!D$8+入力部分!D$9)","v":3.5069456124546755E-3},null,null,77,{"$f":"1/入力部分!I$33/(2*3.14)^0.5*EXP(-1/2*((L83-入力部分!I$25)/入力部分!I$33)^2)","v":3.1743723843515917E-3},0.24442667359507256,null,null,77,{"$f":"1/入力部分!I$34/(2*3.14)^0.5*EXP(-1/2*((Q83-入力部分!I$26/2)/入力部分!I$34)^2)","v":6.176657477746224E-3},0.47560262578645923,null,null,77,{"$f":"1/入力部分!$I$35/(2*3.14)^0.5*EXP(-1/2*((V83-入力部分!$I$27/2)/入力部分!$I$35)^2)","v":1.2376566719788945E-6},9.5299563742374868E-5]
[null,null,null,null,null,null,null,78,{"$f":"(入力部分!D$7*M84+入力部分!D$8*R84+入力部分!D$9*W84)/(入力部分!D$7+入力部分!D$8+入力部分!D$9)","v":3.4762386371507024E-3},null,null,78,{"$f":"1/入力部分!I$33/(2*3.14)^0.5*EXP(-1/2*((L84-入力部分!I$25)/入力部分!I$33)^2)","v":3.1924187962846747E-3},0.24900866611020464,null,null,78,{"$f":"1/入力部分!I$34/(2*3.14)^0.5*EXP(-1/2*((Q84-入力部分!I$26/2)/入力部分!I$34)^2)","v":6.0769396503748329E-3},0.47400129272923697,null,null,78,{"$f":"1/入力部分!$I$35/(2*3.14)^0.5*EXP(-1/2*((V84-入力部分!$I$27/2)/入力部分!$I$35)^2)","v":9.1687861355026213E-7},7.1516531856920441E-5]
[null,null,null,null,null,null,null,79,{"$f":"(入力部分!D$7*M85+入力部分!D$8*R85+入力部分!D$9*W85)/(入力部分!D$7+入力部分!D$8+入力部分!D$9)","v":3.4451117657042767E-3},null,null,79,{"$f":"1/入力部分!I$33/(2*3.14)^0.5*EXP(-1/2*((L85-入力部分!I$25)/入力部分!I$33)^2)","v":3.2102766079084672E-3},0.25361185202476894,null,null,79,{"$f":"1/入力部分!I$34/(2*3.14)^0.5*EXP(-1/2*((Q85-入力部分!I$26/2)/入力部分!I$34)^2)","v":5.9762372818125764E-3},0.47212274526319353,null,null,79,{"$f":"1/入力部分!$I$35/(2*3.14)^0.5*EXP(-1/2*((V85-入力部分!$I$27/2)/入力部分!$I$35)^2)","v":6.7622823554387987E-7},5.342203060796651E-5]
[null,null,null,null,null,null,null,80,{"$f":"(入力部分!D$7*M86+入力部分!D$8*R86+入力部分!D$9*W86)/(入力部分!D$7+入力部分!D$8+入力部分!D$9)","v":3.4135972103849907E-3},null,null,80,{"$f":"1/入力部分!I$33/(2*3.14)^0.5*EXP(-1/2*((L86-入力部分!I$25)/入力部分!I$33)^2)","v":3.2279415158014404E-3},0.25823532126411525,null,null,80,{"$f":"1/入力部分!I$34/(2*3.14)^0.5*EXP(-1/2*((Q86-入力部分!I$26/2)/入力部分!I$34)^2)","v":5.8746533592695348E-3},0.46997226874156278,null,null,80,{"$f":"1/入力部分!$I$35/(2*3.14)^0.5*EXP(-1/2*((V86-入力部分!$I$27/2)/入力部分!$I$35)^2)","v":4.9652893350172552E-7},3.9722314680138043E-5]
[null,null,null,null,null,null,null,81,{"$f":"(入力部分!D$7*M87+入力部分!D$8*R87+入力部分!D$9*W87)/(入力部分!D$7+入力部分!D$8+入力部分!D$9)","v":3.3817280632135569E-3},null,null,81,{"$f":"1/入力部分!I$33/(2*3.14)^0.5*EXP(-1/2*((L87-入力部分!I$25)/入力部分!I$33)^2)","v":3.2454092452998064E-3},0.26287814886928434,null,null,81,{"$f":"1/入力部分!I$34/(2*3.14)^0.5*EXP(-1/2*((Q87-入力部分!I$26/2)/入力部分!I$34)^2)","v":5.7722902794493684E-3},0.46755551263539885,null,null,81,{"$f":"1/入力部分!$I$35/(2*3.14)^0.5*EXP(-1/2*((V87-入力部分!$I$27/2)/入力部分!$I$35)^2)","v":3.62965730467232E-7},2.9400224167845791E-5]
[null,null,null,null,null,null,null,82,{"$f":"(入力部分!D$7*M88+入力部分!D$8*R88+入力部分!D$9*W88)/(入力部分!D$7+入力部分!D$8+入力部分!D$9)","v":3.3495380013666082E-3},null,null,82,{"$f":"1/入力部分!I$33/(2*3.14)^0.5*EXP(-1/2*((L88-入力部分!I$25)/入力部分!I$33)^2)","v":3.2626755522108123E-3},0.26753939528128662,null,null,82,{"$f":"1/入力部分!I$34/(2*3.14)^0.5*EXP(-1/2*((Q88-入力部分!I$26/2)/入力部分!I$34)^2)","v":5.669249682385572E-3},0.46487847395561688,null,null,82,{"$f":"1/入力部分!$I$35/(2*3.14)^0.5*EXP(-1/2*((V88-入力部分!$I$27/2)/入力部分!$I$35)^2)","v":2.6415357185881759E-7},2.1660592892423043E-5]
[null,null,null,null,null,null,null,83,{"$f":"(入力部分!D$7*M89+入力部分!D$8*R89+入力部分!D$9*W89)/(入力部分!D$7+入力部分!D$8+入力部分!D$9)","v":3.3170610401271798E-3},null,null,83,{"$f":"1/入力部分!I$33/(2*3.14)^0.5*EXP(-1/2*((L89-入力部分!I$25)/入力部分!I$33)^2)","v":3.2797362245215278E-3},0.27221810663528678,null,null,83,{"$f":"1/入力部分!I$34/(2*3.14)^0.5*EXP(-1/2*((Q89-入力部分!I$26/2)/入力部分!I$34)^2)","v":5.5656322897643783E-3},0.46194748005044339,null,null,83,{"$f":"1/入力部分!$I$35/(2*3.14)^0.5*EXP(-1/2*((V89-入力部分!$I$27/2)/入力部分!$I$35)^2)","v":1.9138907986262282E-7},1.5885293628597695E-5]
[null,null,null,null,null,null,null,84,{"$f":"(入力部分!D$7*M90+入力部分!D$8*R90+入力部分!D$9*W90)/(入力部分!D$7+入力部分!D$8+入力部分!D$9)","v":3.2843313254568652E-3},null,null,84,{"$f":"1/入力部分!I$33/(2*3.14)^0.5*EXP(-1/2*((L90-入力部分!I$25)/入力部分!I$33)^2)","v":3.2965870841021655E-3},0.27691331506458189,null,null,84,{"$f":"1/入力部分!I$34/(2*3.14)^0.5*EXP(-1/2*((Q90-入力部分!I$26/2)/入力部分!I$34)^2)","v":5.4615377480732984E-3},0.45876917083815705,null,null,84,{"$f":"1/入力部分!$I$35/(2*3.14)^0.5*EXP(-1/2*((V90-入力部分!$I$27/2)/入力部分!$I$35)^2)","v":1.380535642677234E-7},1.1596499398488766E-5]
[null,null,null,null,null,null,null,85,{"$f":"(入力部分!D$7*M91+入力部分!D$8*R91+入力部分!D$9*W91)/(入力部分!D$7+入力部分!D$8+入力部分!D$9)","v":3.2513829594281222E-3},null,null,85,{"$f":"1/入力部分!I$33/(2*3.14)^0.5*EXP(-1/2*((L91-入力部分!I$25)/入力部分!I$33)^2)","v":3.3132239884029885E-3},0.28162403901425404,null,null,85,{"$f":"1/入力部分!I$34/(2*3.14)^0.5*EXP(-1/2*((Q91-入力部分!I$26/2)/入力部分!I$34)^2)","v":5.3570644768937917E-3},0.45535048053597232,null,null,85,{"$f":"1/入力部分!$I$35/(2*3.14)^0.5*EXP(-1/2*((V91-入力部分!$I$27/2)/入力部分!$I$35)^2)","v":9.9139767319854929E-8},8.4268802221876697E-6]
[null,null,null,null,null,null,null,86,{"$f":"(入力部分!D$7*M92+入力部分!D$8*R92+入力部分!D$9*W92)/(入力部分!D$7+入力部分!D$8+入力部分!D$9)","v":3.2182498528080003E-3},null,null,86,{"$f":"1/入力部分!I$33/(2*3.14)^0.5*EXP(-1/2*((L92-入力部分!I$25)/入力部分!I$33)^2)","v":3.3296428321438263E-3},0.28634928356436906,null,null,86,{"$f":"1/入力部分!I$34/(2*3.14)^0.5*EXP(-1/2*((Q92-入力部分!I$26/2)/入力部分!I$34)^2)","v":5.2523095226353492E-3},0.45169861894664004,null,null,86,{"$f":"1/入力部分!$I$35/(2*3.14)^0.5*EXP(-1/2*((V92-入力部分!$I$27/2)/入力部分!$I$35)^2)","v":7.0879063238515504E-8},6.0955994385123334E-6]
[null,null,null,null,null,null,null,87,{"$f":"(入力部分!D$7*M93+入力部分!D$8*R93+入力部分!D$9*W93)/(入力部分!D$7+入力部分!D$8+入力部分!D$9)","v":3.1849656000215417E-3},null,null,87,{"$f":"1/入力部分!I$33/(2*3.14)^0.5*EXP(-1/2*((L93-入力部分!I$25)/入力部分!I$33)^2)","v":3.3458395489952587E-3},0.29108804076258749,null,null,87,{"$f":"1/入力部分!I$34/(2*3.14)^0.5*EXP(-1/2*((Q93-入力部分!I$26/2)/入力部分!I$34)^2)","v":5.1473684179863741E-3},0.44782105236481456,null,null,87,{"$f":"1/入力部分!$I$35/(2*3.14)^0.5*EXP(-1/2*((V93-入力部分!$I$27/2)/入力部分!$I$35)^2)","v":5.0449613718389439E-8},4.3891163934998813E-6]
[null,null,null,null,null,null,null,88,{"$f":"(入力部分!D$7*M94+入力部分!D$8*R94+入力部分!D$9*W94)/(入力部分!D$7+入力部分!D$8+入力部分!D$9)","v":3.1515633725441266E-3},null,null,88,{"$f":"1/入力部分!I$33/(2*3.14)^0.5*EXP(-1/2*((L94-入力部分!I$25)/入力部分!I$33)^2)","v":3.3618101132504956E-3},0.29583928996604358,null,null,88,{"$f":"1/入力部分!I$34/(2*3.14)^0.5*EXP(-1/2*((Q94-入力部分!I$26/2)/入力部分!I$34)^2)","v":5.0423350473348663E-3},0.44372548416546825,null,null,88,{"$f":"1/入力部分!$I$35/(2*3.14)^0.5*EXP(-1/2*((V94-入力部分!$I$27/2)/入力部分!$I$35)^2)","v":3.5749298465475945E-8},3.1459382649618831E-6]
[null,null,null,null,null,null,null,89,{"$f":"(入力部分!D$7*M95+入力部分!D$8*R95+入力部分!D$9*W95)/(入力部分!D$7+入力部分!D$8+入力部分!D$9)","v":3.1180758274814346E-3},null,null,89,{"$f":"1/入力部分!I$33/(2*3.14)^0.5*EXP(-1/2*((L95-入力部分!I$25)/入力部分!I$33)^2)","v":3.3775505414869989E-3},0.3006019981923429,null,null,89,{"$f":"1/入力部分!I$34/(2*3.14)^0.5*EXP(-1/2*((Q95-入力部分!I$26/2)/入力部分!I$34)^2)","v":4.9373015183890746E-3},0.43941983513662763,null,null,89,{"$f":"1/入力部分!$I$35/(2*3.14)^0.5*EXP(-1/2*((V95-入力部分!$I$27/2)/入力部分!$I$35)^2)","v":2.5220111628468459E-8},2.2445899349336927E-6]
[null,null,null,null,null,null,null,90,{"$f":"(入力部分!D$7*M96+入力部分!D$8*R96+入力部分!D$9*W96)/(入力部分!D$7+入力部分!D$8+入力部分!D$9)","v":3.0845350287006983E-3},null,null,90,{"$f":"1/入力部分!I$33/(2*3.14)^0.5*EXP(-1/2*((L96-入力部分!I$25)/入力部分!I$33)^2)","v":3.3930568942168895E-3},0.30537512047952003,null,null,90,{"$f":"1/入力部分!I$34/(2*3.14)^0.5*EXP(-1/2*((Q96-入力部分!I$26/2)/入力部分!I$34)^2)","v":4.8323580402050608E-3},0.4349122236184555,null,null,90,{"$f":"1/入力部分!$I$35/(2*3.14)^0.5*EXP(-1/2*((V96-入力部分!$I$27/2)/入力部分!$I$35)^2)","v":1.7713169870458939E-8},1.5941852883413046E-6]
[null,null,null,null,null,null,null,91,{"$f":"(入力部分!D$7*M97+入力部分!D$8*R97+入力部分!D$9*W97)/(入力部分!D$7+入力部分!D$8+入力部分!D$9)","v":3.0509723783867654E-3},null,null,91,{"$f":"1/入力部分!I$33/(2*3.14)^0.5*EXP(-1/2*((L97-入力部分!I$25)/入力部分!I$33)^2)","v":3.408325277525191E-3},0.31015760025479239,null,null,91,{"$f":"1/入力部分!I$34/(2*3.14)^0.5*EXP(-1/2*((Q97-入力部分!I$26/2)/入力部分!I$34)^2)","v":4.7275928078047372E-3},0.43021094551023109,null,null,91,{"$f":"1/入力部分!$I$35/(2*3.14)^0.5*EXP(-1/2*((V97-入力部分!$I$27/2)/入力部分!$I$35)^2)","v":1.238555216858754E-8},1.1270852473414662E-6]
[null,null,null,null,null,null,null,92,{"$f":"(入力部分!D$7*M98+入力部分!D$8*R98+入力部分!D$9*W98)/(入力部分!D$7+入力部分!D$8+入力部分!D$9)","v":3.0174185573210604E-3},null,null,92,{"$f":"1/入力部分!I$33/(2*3.14)^0.5*EXP(-1/2*((L98-入力部分!I$25)/入力部分!I$33)^2)","v":3.4233518446949466E-3},0.31494836971193507,null,null,92,{"$f":"1/入力部分!I$34/(2*3.14)^0.5*EXP(-1/2*((Q98-入力部分!I$26/2)/入力部分!I$34)^2)","v":4.6230918935442865E-3},0.42532445420607434,null,null,92,{"$f":"1/入力部分!$I$35/(2*3.14)^0.5*EXP(-1/2*((V98-入力部分!$I$27/2)/入力部分!$I$35)^2)","v":8.6219253946480823E-9},7.9321713630762362E-7]
[null,null,null,null,null,null,null,93,{"$f":"(入力部分!D$7*M99+入力部分!D$8*R99+入力部分!D$9*W99)/(入力部分!D$7+入力部分!D$8+入力部分!D$9)","v":2.9839034725314658E-3},null,null,93,{"$f":"1/入力部分!I$33/(2*3.14)^0.5*EXP(-1/2*((L99-入力部分!I$25)/入力部分!I$33)^2)","v":3.4381327978182793E-3},0.31974635019709996,null,null,93,{"$f":"1/入力部分!I$34/(2*3.14)^0.5*EXP(-1/2*((Q99-入力部分!I$26/2)/入力部分!I$34)^2)","v":4.5189391453692813E-3},0.42026134051934316,null,null,93,{"$f":"1/入力部分!$I$35/(2*3.14)^0.5*EXP(-1/2*((V99-入力部分!$I$27/2)/入力部分!$I$35)^2)","v":5.9753445218459504E-9},5.5570704053167342E-7]
[null,null,null,null,null,null,null,94,{"$f":"(入力部分!D$7*M100+入力部分!D$8*R100+入力部分!D$9*W100)/(入力部分!D$7+入力部分!D$8+入力部分!D$9)","v":2.9504562112461562E-3},null,null,94,{"$f":"1/入力部分!I$33/(2*3.14)^0.5*EXP(-1/2*((L100-入力部分!I$25)/入力部分!I$33)^2)","v":3.4526643893924387E-3},0.32455045260288923,null,null,94,{"$f":"1/入力部分!I$34/(2*3.14)^0.5*EXP(-1/2*((Q100-入力部分!I$26/2)/入力部分!I$34)^2)","v":4.4152160920691965E-3},0.41503031265450446,null,null,94,{"$f":"1/入力部分!$I$35/(2*3.14)^0.5*EXP(-1/2*((V100-入力部分!$I$27/2)/入力部分!$I$35)^2)","v":4.1227921725568504E-9},3.8754246422034395E-7]
[null,null,null,null,null,null,null,95,{"$f":"(入力部分!D$7*M101+入力部分!D$8*R101+入力部分!D$9*W101)/(入力部分!D$7+入力部分!D$8+入力部分!D$9)","v":2.9171050003144183E-3},null,null,95,{"$f":"1/入力部分!I$33/(2*3.14)^0.5*EXP(-1/2*((L101-入力部分!I$25)/入力部分!I$33)^2)","v":3.4669429238999077E-3},0.32935957777049124,null,null,95,{"$f":"1/入力部分!I$34/(2*3.14)^0.5*EXP(-1/2*((Q101-入力部分!I$26/2)/入力部分!I$34)^2)","v":4.3120018556204748E-3},0.40964017628394511,null,null,95,{"$f":"1/入力部分!$I$35/(2*3.14)^0.5*EXP(-1/2*((V101-入力部分!$I$27/2)/入力部分!$I$35)^2)","v":2.8319771011554529E-9},2.6903782460976803E-7]
[null,null,null,null,null,null,null,96,{"$f":"(入力部分!D$7*M102+入力部分!D$8*R102+入力部分!D$9*W102)/(入力部分!D$7+入力部分!D$8+入力部分!D$9)","v":2.8838771704408667E-3},null,null,96,{"$f":"1/入力部分!I$33/(2*3.14)^0.5*EXP(-1/2*((L102-入力部分!I$25)/入力部分!I$33)^2)","v":3.4809647593716311E-3},0.33417261689967659,null,null,96,{"$f":"1/入力部分!I$34/(2*3.14)^0.5*EXP(-1/2*((Q102-入力部分!I$26/2)/入力部分!I$34)^2)","v":4.2093730706841137E-3},0.40409981478567492,null,null,96,{"$f":"1/入力部分!$I$35/(2*3.14)^0.5*EXP(-1/2*((V102-入力部分!$I$27/2)/入力部分!$I$35)^2)","v":1.9366798512532923E-9},1.8592126572031607E-7]
[null,null,null,null,null,null,null,97,{"$f":"(入力部分!D$7*M103+入力部分!D$8*R103+入力部分!D$9*W103)/(入力部分!D$7+入力部分!D$8+入力部分!D$9)","v":2.8507991247242663E-3},null,null,97,{"$f":"1/入力部分!I$33/(2*3.14)^0.5*EXP(-1/2*((L103-入力部分!I$25)/入力部分!I$33)^2)","v":3.4947263089324526E-3},0.33898845196644789,null,null,97,{"$f":"1/入力部分!I$34/(2*3.14)^0.5*EXP(-1/2*((Q103-入力部分!I$26/2)/入力部分!I$34)^2)","v":4.1074038113006854E-3},0.3984181696961665,null,null,97,{"$f":"1/入力部分!$I$35/(2*3.14)^0.5*EXP(-1/2*((V103-入力部分!$I$27/2)/入力部分!$I$35)^2)","v":1.3185473597790431E-9},1.2789909389856719E-7]
[null,null,null,null,null,null,null,98,{"$f":"(入力部分!D$7*M104+入力部分!D$8*R104+入力部分!D$9*W104)/(入力部分!D$7+入力部分!D$8+入力部分!D$9)","v":2.8178963111051324E-3},null,null,98,{"$f":"1/入力部分!I$33/(2*3.14)^0.5*EXP(-1/2*((L104-入力部分!I$25)/入力部分!I$33)^2)","v":3.5082240423278312E-3},0.34380595614812748,null,null,98,{"$f":"1/入力部分!I$34/(2*3.14)^0.5*EXP(-1/2*((Q104-入力部分!I$26/2)/入力部分!I$34)^2)","v":4.0061655248031696E-3},0.39260422143071061,null,null,98,{"$f":"1/入力部分!$I$35/(2*3.14)^0.5*EXP(-1/2*((V104-入力部分!$I$27/2)/入力部分!$I$35)^2)","v":8.937240295120367E-10},8.7584954892179597E-8]
[null,null,null,null,null,null,null,99,{"$f":"(入力部分!D$7*M105+入力部分!D$8*R105+入力部分!D$9*W105)/(入力部分!D$7+入力部分!D$8+入力部分!D$9)","v":2.7851931984133587E-3},null,null,99,{"$f":"1/入力部分!I$33/(2*3.14)^0.5*EXP(-1/2*((L105-入力部分!I$25)/入力部分!I$33)^2)","v":3.521454487430937E-3},0.34862399425566276,null,null,99,{"$f":"1/入力部分!I$34/(2*3.14)^0.5*EXP(-1/2*((Q105-入力部分!I$26/2)/入力部分!I$34)^2)","v":3.9057269729457873E-3},0.38666697032163294,null,null,99,{"$f":"1/入力部分!$I$35/(2*3.14)^0.5*EXP(-1/2*((V105-入力部分!$I$27/2)/入力部分!$I$35)^2)","v":6.0308834937071803E-10},5.9705746587701089E-8]
[null,null,null,null,null,null,null,100,{"$f":"(入力部分!D$7*M106+入力部分!D$8*R106+入力部分!D$9*W106)/(入力部分!D$7+入力部分!D$8+入力部分!D$9)","v":2.752713255773405E-3},null,null,100,{"$f":"1/入力部分!I$33/(2*3.14)^0.5*EXP(-1/2*((L106-入力部分!I$25)/入力部分!I$33)^2)","v":3.5344142317292274E-3},0.35344142317292276,null,null,100,{"$f":"1/入力部分!I$34/(2*3.14)^0.5*EXP(-1/2*((Q106-入力部分!I$26/2)/入力部分!I$34)^2)","v":3.806154180225473E-3},0.38061541802254728,null,null,100,{"$f":"1/入力部分!$I$35/(2*3.14)^0.5*EXP(-1/2*((V106-入力部分!$I$27/2)/入力部分!$I$35)^2)","v":4.0516156949875645E-10},4.0516156949875645E-8]
[null,null,null,null,null,null,null,101,{"$f":"(入力部分!D$7*M107+入力部分!D$8*R107+入力部分!D$9*W107)/(入力部分!D$7+入力部分!D$8+入力部分!D$9)","v":2.7204789351742056E-3},null,null,101,{"$f":"1/入力部分!I$33/(2*3.14)^0.5*EXP(-1/2*((L107-入力部分!I$25)/入力部分!I$33)^2)","v":3.5470999237896083E-3},0.35825709230275044,null,null,101,{"$f":"1/入力部分!I$34/(2*3.14)^0.5*EXP(-1/2*((Q107-入力部分!I$26/2)/入力部分!I$34)^2)","v":3.7075103893515638E-3},0.37445854932450795,null,null,101,{"$f":"1/入力部分!$I$35/(2*3.14)^0.5*EXP(-1/2*((V107-入力部分!$I$27/2)/入力部分!$I$35)^2)","v":2.7098506329391052E-10},2.7369491392684963E-8]
[null,null,null,null,null,null,null,102,{"$f":"(入力部分!D$7*M108+入力部分!D$8*R108+入力部分!D$9*W108)/(入力部分!D$7+入力部分!D$8+入力部分!D$9)","v":2.6885116570475598E-3},null,null,102,{"$f":"1/入力部分!I$33/(2*3.14)^0.5*EXP(-1/2*((L108-入力部分!I$25)/入力部分!I$33)^2)","v":3.5595082747013084E-3},0.36306984401953346,null,null,102,{"$f":"1/入力部分!I$34/(2*3.14)^0.5*EXP(-1/2*((Q108-入力部分!I$26/2)/入力部分!I$34)^2)","v":3.6098560237990051E-3},0.36820531442749854,null,null,102,{"$f":"1/入力部分!$I$35/(2*3.14)^0.5*EXP(-1/2*((V108-入力部分!$I$27/2)/入力部分!$I$35)^2)","v":1.8043976960663194E-10},1.840485649987646E-8]
[null,null,null,null,null,null,null,103,{"$f":"(入力部分!D$7*M109+入力部分!D$8*R109+入力部分!D$9*W109)/(入力部分!D$7+入力部分!D$8+入力部分!D$9)","v":2.6568317987251027E-3},null,null,103,{"$f":"1/入力部分!I$33/(2*3.14)^0.5*EXP(-1/2*((L109-入力部分!I$25)/入力部分!I$33)^2)","v":3.5716360594955886E-3},0.36787851412804562,null,null,103,{"$f":"1/入力部分!I$34/(2*3.14)^0.5*EXP(-1/2*((Q109-入力部分!I$26/2)/入力部分!I$34)^2)","v":3.5132486573607397E-3},0.3618646117081562,null,null,103,{"$f":"1/入力部分!$I$35/(2*3.14)^0.5*EXP(-1/2*((V109-入力部分!$I$27/2)/入力部分!$I$35)^2)","v":1.1961591779431314E-10},1.2320439532814253E-8]
[null,null,null,null,null,null,null,104,{"$f":"(入力部分!D$7*M110+入力部分!D$8*R110+入力部分!D$9*W110)/(入力部分!D$7+入力部分!D$8+入力部分!D$9)","v":2.6254586856624259E-3},null,null,104,{"$f":"1/入力部分!I$33/(2*3.14)^0.5*EXP(-1/2*((L110-入力部分!I$25)/入力部分!I$33)^2)","v":3.5834801185414393E-3},0.37268193232830971,null,null,104,{"$f":"1/入力部分!I$34/(2*3.14)^0.5*EXP(-1/2*((Q110-入力部分!I$26/2)/入力部分!I$34)^2)","v":3.4177429905961382E-3},0.35544527102199835,null,null,104,{"$f":"1/入力部分!$I$35/(2*3.14)^0.5*EXP(-1/2*((V110-入力部分!$I$27/2)/入力部分!$I$35)^2)","v":7.8943339137578705E-11},8.2101072703081847E-9]
[null,null,null,null,null,null,null,105,{"$f":"(入力部分!D$7*M111+入力部分!D$8*R111+入力部分!D$9*W111)/(入力部分!D$7+入力部分!D$8+入力部分!D$9)","v":2.5944105853314115E-3},null,null,105,{"$f":"1/入力部分!I$33/(2*3.14)^0.5*EXP(-1/2*((L111-入力部分!I$25)/入力部分!I$33)^2)","v":3.5950373589164145E-3},0.37747892268622352,null,null,105,{"$f":"1/入力部分!I$34/(2*3.14)^0.5*EXP(-1/2*((Q111-入力部分!I$26/2)/入力部分!I$34)^2)","v":3.3233908340543719E-3},0.34895603757570903,null,null,105,{"$f":"1/入力部分!$I$35/(2*3.14)^0.5*EXP(-1/2*((V111-入力部分!$I$27/2)/入力部分!$I$35)^2)","v":5.1869469925927684E-11},5.446294342222407E-9]
[null,null,null,null,null,null,null,106,{"$f":"(入力部分!D$7*M112+入力部分!D$8*R112+入力部分!D$9*W112)/(入力部分!D$7+入力部分!D$8+入力部分!D$9)","v":2.5637047036897501E-3},null,null,106,{"$f":"1/入力部分!I$33/(2*3.14)^0.5*EXP(-1/2*((L112-入力部分!I$25)/入力部分!I$33)^2)","v":3.60630475575177E-3},0.38226830410968765,null,null,106,{"$f":"1/入力部分!I$34/(2*3.14)^0.5*EXP(-1/2*((Q112-入力部分!I$26/2)/入力部分!I$34)^2)","v":3.2302410981345391E-3},0.34240555640226117,null,null,106,{"$f":"1/入力部分!$I$35/(2*3.14)^0.5*EXP(-1/2*((V112-入力部分!$I$27/2)/入力部分!$I$35)^2)","v":3.3929536715822408E-11},3.5965308918771754E-9]
[null,null,null,null,null,null,null,107,{"$f":"(入力部分!D$7*M113+入力部分!D$8*R113+入力部分!D$9*W113)/(入力部分!D$7+入力部分!D$8+入力部分!D$9)","v":2.5333571841412313E-3},null,null,107,{"$f":"1/入力部分!I$33/(2*3.14)^0.5*EXP(-1/2*((L113-入力部分!I$25)/入力部分!I$33)^2)","v":3.6172793535510944E-3},0.38704889082996707,null,null,107,{"$f":"1/入力部分!I$34/(2*3.14)^0.5*EXP(-1/2*((Q113-入力部分!I$26/2)/入力部分!I$34)^2)","v":3.1383397894281838E-3},0.33580235746881565,null,null,107,{"$f":"1/入力部分!$I$35/(2*3.14)^0.5*EXP(-1/2*((V113-入力部分!$I$27/2)/入力部分!$I$35)^2)","v":2.2096009700819158E-11},2.3642730379876499E-9]
[null,null,null,null,null,null,null,108,{"$f":"(入力部分!D$7*M114+入力部分!D$8*R114+入力部分!D$9*W114)/(入力部分!D$7+入力部分!D$8+入力部分!D$9)","v":2.5033831089025737E-3},null,null,108,{"$f":"1/入力部分!I$33/(2*3.14)^0.5*EXP(-1/2*((L114-入力部分!I$25)/入力部分!I$33)^2)","v":3.6279582674816177E-3},0.39181949288801471,null,null,108,{"$f":"1/入力部分!I$34/(2*3.14)^0.5*EXP(-1/2*((Q114-入力部分!I$26/2)/入力部分!I$34)^2)","v":3.0477300133746974E-3},0.32915484144446733,null,null,108,{"$f":"1/入力部分!$I$35/(2*3.14)^0.5*EXP(-1/2*((V114-入力部分!$I$27/2)/入力部分!$I$35)^2)","v":1.4325822848240559E-11},1.5471888676099804E-9]
[null,null,null,null,null,null,null,109,{"$f":"(入力部分!D$7*M115+入力部分!D$8*R115+入力部分!D$9*W115)/(入力部分!D$7+入力部分!D$8+入力部分!D$9)","v":2.473796502692957E-3},null,null,109,{"$f":"1/入力部分!I$33/(2*3.14)^0.5*EXP(-1/2*((L115-入力部分!I$25)/入力部分!I$33)^2)","v":3.6383386846374237E-3},0.39657891662547917,null,null,109,{"$f":"1/入力部分!I$34/(2*3.14)^0.5*EXP(-1/2*((Q115-入力部分!I$26/2)/入力部分!I$34)^2)","v":2.958451983045876E-3},0.3224712661520005,null,null,109,{"$f":"1/入力部分!$I$35/(2*3.14)^0.5*EXP(-1/2*((V115-入力部分!$I$27/2)/入力部分!$I$35)^2)","v":9.2468774779765028E-12},1.0079096450994387E-9]
[null,null,null,null,null,null,null,110,{"$f":"(入力部分!D$7*M116+入力部分!D$8*R116+入力部分!D$9*W116)/(入力部分!D$7+入力部分!D$8+入力部分!D$9)","v":2.4446103386617209E-3},null,null,110,{"$f":"1/入力部分!I$33/(2*3.14)^0.5*EXP(-1/2*((L116-入力部分!I$25)/入力部分!I$33)^2)","v":3.6484178652737708E-3},0.40132596518011476,null,null,110,{"$f":"1/入力部分!I$34/(2*3.14)^0.5*EXP(-1/2*((Q116-入力部分!I$26/2)/入力部分!I$34)^2)","v":2.8705430338627474E-3},0.31575973372490224,null,null,110,{"$f":"1/入力部分!$I$35/(2*3.14)^0.5*EXP(-1/2*((V116-入力部分!$I$27/2)/入力部分!$I$35)^2)","v":5.9421065132277291E-12},6.5363171645505023E-10]
[null,null,null,null,null,null,null,111,{"$f":"(入力部分!D$7*M117+入力部分!D$8*R117+入力部分!D$9*W117)/(入力部分!D$7+入力部分!D$8+入力部分!D$9)","v":2.4158365464681812E-3},null,null,111,{"$f":"1/入力部分!I$33/(2*3.14)^0.5*EXP(-1/2*((L117-入力部分!I$25)/入力部分!I$33)^2)","v":3.6581931440117861E-3},0.40605943898530827,null,null,111,{"$f":"1/入力部分!I$34/(2*3.14)^0.5*EXP(-1/2*((Q117-入力部分!I$26/2)/入力部分!I$34)^2)","v":2.7840376440356955E-3},0.30902817848796221,null,null,111,{"$f":"1/入力部分!$I$35/(2*3.14)^0.5*EXP(-1/2*((V117-入力部分!$I$27/2)/入力部分!$I$35)^2)","v":3.8015049800102301E-12},4.2196705278113552E-10]
[null,null,null,null,null,null,null,112,{"$f":"(入力部分!D$7*M118+入力部分!D$8*R118+入力部分!D$9*W118)/(入力部分!D$7+入力部分!D$8+入力部分!D$9)","v":2.3874860224255409E-3},null,null,112,{"$f":"1/入力部分!I$33/(2*3.14)^0.5*EXP(-1/2*((L118-入力部分!I$25)/入力部分!I$33)^2)","v":3.6676619310127756E-3},0.41077813627343085,null,null,112,{"$f":"1/入力部分!I$34/(2*3.14)^0.5*EXP(-1/2*((Q118-入力部分!I$26/2)/入力部分!I$34)^2)","v":2.6989674605078307E-3},0.30228435557687705,null,null,112,{"$f":"1/入力部分!$I$35/(2*3.14)^0.5*EXP(-1/2*((V118-入力部分!$I$27/2)/入力部分!$I$35)^2)","v":2.4212548155011162E-12},2.7118053933612502E-10]
[null,null,null,null,null,null,null,113,{"$f":"(入力部分!D$7*M119+入力部分!D$8*R119+入力部分!D$9*W119)/(入力部分!D$7+入力部分!D$8+入力部分!D$9)","v":2.3595686416187081E-3},null,null,113,{"$f":"1/入力部分!I$33/(2*3.14)^0.5*EXP(-1/2*((L119-入力部分!I$25)/入力部分!I$33)^2)","v":3.6768217131214311E-3},0.41548085358272169,null,null,113,{"$f":"1/入力部分!I$34/(2*3.14)^0.5*EXP(-1/2*((Q119-入力部分!I$26/2)/入力部分!I$34)^2)","v":2.6153613301715863E-3},0.29553583030938924,null,null,113,{"$f":"1/入力部分!$I$35/(2*3.14)^0.5*EXP(-1/2*((V119-入力部分!$I$27/2)/入力部分!$I$35)^2)","v":1.5353070122654211E-12},1.7348969238599258E-10]
[null,null,null,null,null,null,null,114,{"$f":"(入力部分!D$7*M120+入力部分!D$8*R120+入力部分!D$9*W120)/(入力部分!D$7+入力部分!D$8+入力部分!D$9)","v":2.3320932719036384E-3},null,null,114,{"$f":"1/入力部分!I$33/(2*3.14)^0.5*EXP(-1/2*((L120-入力部分!I$25)/入力部分!I$33)^2)","v":3.6856700549772322E-3},0.42016638626740449,null,null,114,{"$f":"1/入力部分!I$34/(2*3.14)^0.5*EXP(-1/2*((Q120-入力部分!I$26/2)/入力部分!I$34)^2)","v":2.5332453361196616E-3},0.28878996831764142,null,null,114,{"$f":"1/入力部分!$I$35/(2*3.14)^0.5*EXP(-1/2*((V120-入力部分!$I$27/2)/入力部分!$I$35)^2)","v":9.6921420767525751E-13},1.1049041967497935E-10]
[null,null,null,null,null,null,null,115,{"$f":"(入力部分!D$7*M121+入力部分!D$8*R121+入力部分!D$9*W121)/(入力部分!D$7+入力部分!D$8+入力部分!D$9)","v":2.3050677896936309E-3},null,null,115,{"$f":"1/入力部分!I$33/(2*3.14)^0.5*EXP(-1/2*((L121-入力部分!I$25)/入力部分!I$33)^2)","v":3.6942046000933461E-3},0.42483352901073479,null,null,115,{"$f":"1/入力部分!I$34/(2*3.14)^0.5*EXP(-1/2*((Q121-入力部分!I$26/2)/入力部分!I$34)^2)","v":2.4526428386835793E-3},0.2820539264486116,null,null,115,{"$f":"1/入力部分!$I$35/(2*3.14)^0.5*EXP(-1/2*((V121-入力部分!$I$27/2)/入力部分!$I$35)^2)","v":6.0913578307273696E-13},7.0050615053364749E-11]
[null,null,null,null,null,null,null,116,{"$f":"(入力部分!D$7*M122+入力部分!D$8*R122+入力部分!D$9*W122)/(入力部分!D$7+入力部分!D$8+入力部分!D$9)","v":2.278499097436085E-3},null,null,116,{"$f":"1/入力部分!I$33/(2*3.14)^0.5*EXP(-1/2*((L122-入力部分!I$25)/入力部分!I$33)^2)","v":3.7024230719023654E-3},0.42948107634067439,null,null,116,{"$f":"1/入力部分!I$34/(2*3.14)^0.5*EXP(-1/2*((Q122-入力部分!I$26/2)/入力部分!I$34)^2)","v":2.3735745210064383E-3},0.27533464443674682,null,null,116,{"$f":"1/入力部分!$I$35/(2*3.14)^0.5*EXP(-1/2*((V122-入力部分!$I$27/2)/入力部分!$I$35)^2)","v":3.8113449370230684E-13},4.4211601269467593E-11]
[null,null,null,null,null,null,null,117,{"$f":"(入力部分!D$7*M123+入力部分!D$8*R123+入力部分!D$9*W123)/(入力部分!D$7+入力部分!D$8+入力部分!D$9)","v":2.2523931426814796E-3},null,null,117,{"$f":"1/入力部分!I$33/(2*3.14)^0.5*EXP(-1/2*((L123-入力部分!I$25)/入力部分!I$33)^2)","v":3.7103232747682296E-3},0.43410782314788288,null,null,117,{"$f":"1/入力部分!I$34/(2*3.14)^0.5*EXP(-1/2*((Q123-入力部分!I$26/2)/入力部分!I$34)^2)","v":2.2960584388907715E-3},0.26863883735022026,null,null,117,{"$f":"1/入力部分!$I$35/(2*3.14)^0.5*EXP(-1/2*((V123-入力部分!$I$27/2)/入力部分!$I$35)^2)","v":2.3741721192702523E-13},2.7777813795461953E-11]
[null,null,null,null,null,null,null,118,{"$f":"(入力部分!D$7*M124+入力部分!D$8*R124+入力部分!D$9*W124)/(入力部分!D$7+入力部分!D$8+入力部分!D$9)","v":2.2267549386448889E-3},null,null,118,{"$f":"1/入力部分!I$33/(2*3.14)^0.5*EXP(-1/2*((L124-入力部分!I$25)/入力部分!I$33)^2)","v":3.7179030949637012E-3},0.43871256520571672,null,null,118,{"$f":"1/入力部分!I$34/(2*3.14)^0.5*EXP(-1/2*((Q124-入力部分!I$26/2)/入力部分!I$34)^2)","v":2.2201100746578454E-3},0.26197298880962577,null,null,118,{"$f":"1/入力部分!$I$35/(2*3.14)^0.5*EXP(-1/2*((V124-入力部分!$I$27/2)/入力部分!$I$35)^2)","v":1.4723665696223282E-13},1.7373925521543475E-11]
[null,null,null,null,null,null,null,119,{"$f":"(入力部分!D$7*M125+入力部分!D$8*R125+入力部分!D$9*W125)/(入力部分!D$7+入力部分!D$8+入力部分!D$9)","v":2.2015885861592093E-3},null,null,119,{"$f":"1/入力部分!I$33/(2*3.14)^0.5*EXP(-1/2*((L125-入力部分!I$25)/入力部分!I$33)^2)","v":3.725160501612786E-3},0.44329409969192152,null,null,119,{"$f":"1/入力部分!I$34/(2*3.14)^0.5*EXP(-1/2*((Q125-入力部分!I$26/2)/入力部分!I$34)^2)","v":2.1457423947511688E-3},0.25534334497538907,null,null,119,{"$f":"1/入力部分!$I$35/(2*3.14)^0.5*EXP(-1/2*((V125-入力部分!$I$27/2)/入力部分!$I$35)^2)","v":9.0905361454903731E-14},1.0817738013133545E-11]
[null,null,null,null,null,null,null,120,{"$f":"(入力部分!D$7*M126+入力部分!D$8*R126+入力部分!D$9*W126)/(入力部分!D$7+入力部分!D$8+入力部分!D$9)","v":2.176897296918476E-3},null,null,120,{"$f":"1/入力部分!I$33/(2*3.14)^0.5*EXP(-1/2*((L126-入力部分!I$25)/入力部分!I$33)^2)","v":3.7320935475975148E-3},0.44785122571170177,null,null,120,{"$f":"1/入力部分!I$34/(2*3.14)^0.5*EXP(-1/2*((Q126-入力部分!I$26/2)/入力部分!I$34)^2)","v":2.0729659108145041E-3},0.2487559092977405,null,null,120,{"$f":"1/入力部分!$I$35/(2*3.14)^0.5*EXP(-1/2*((V126-入力部分!$I$27/2)/入力部分!$I$35)^2)","v":5.5876970284784379E-14},6.7052364341741254E-12]
[null,null,null,null,null,null,null,121,{"$f":"(入力部分!D$7*M127+入力部分!D$8*R127+入力部分!D$9*W127)/(入力部分!D$7+入力部分!D$8+入力部分!D$9)","v":2.1526834179091624E-3},null,null,121,{"$f":"1/入力部分!I$33/(2*3.14)^0.5*EXP(-1/2*((L127-入力部分!I$25)/入力部分!I$33)^2)","v":3.7387003704285136E-3},0.45238274482185015,null,null,121,{"$f":"1/入力部分!I$34/(2*3.14)^0.5*EXP(-1/2*((Q127-入力部分!I$26/2)/入力部分!I$34)^2)","v":2.0017887439731249E-3},0.2422164380207481,null,null,121,{"$f":"1/入力部分!$I$35/(2*3.14)^0.5*EXP(-1/2*((V127-入力部分!$I$27/2)/入力部分!$I$35)^2)","v":3.4193692716572332E-14},4.1374368187052524E-12]
[null,null,null,null,null,null,null,122,{"$f":"(入力部分!D$7*M128+入力部分!D$8*R128+入力部分!D$9*W128)/(入力部分!D$7+入力部分!D$8+入力部分!D$9)","v":2.128948456927216E-3},null,null,122,{"$f":"1/入力部分!I$33/(2*3.14)^0.5*EXP(-1/2*((L128-入力部分!I$25)/入力部分!I$33)^2)","v":3.744979193078818E-3},0.45688746155561577,null,null,122,{"$f":"1/入力部分!I$34/(2*3.14)^0.5*EXP(-1/2*((Q128-入力部分!I$26/2)/入力部分!I$34)^2)","v":1.9322166920465378E-3},0.23573043642967761,null,null,122,{"$f":"1/入力部分!$I$35/(2*3.14)^0.5*EXP(-1/2*((V128-入力部分!$I$27/2)/入力部分!$I$35)^2)","v":2.0831903797769176E-14},2.5414922633278394E-12]
[null,null,null,null,null,null,null,123,{"$f":"(入力部分!D$7*M129+入力部分!D$8*R129+入力部分!D$9*W129)/(入力部分!D$7+入力部分!D$8+入力部分!D$9)","v":2.1056931090788038E-3},null,null,123,{"$f":"1/入力部分!I$33/(2*3.14)^0.5*EXP(-1/2*((L129-入力部分!I$25)/入力部分!I$33)^2)","v":3.7509283247804171E-3},0.46136418394799128,null,null,123,{"$f":"1/入力部分!I$34/(2*3.14)^0.5*EXP(-1/2*((Q129-入力部分!I$26/2)/入力部分!I$34)^2)","v":1.8642532994213043E-3},0.22930315582882044,null,null,123,{"$f":"1/入力部分!$I$35/(2*3.14)^0.5*EXP(-1/2*((V129-入力部分!$I$27/2)/入力部分!$I$35)^2)","v":1.2635188353531098E-14},1.5541281674843251E-12]
[null,null,null,null,null,null,null,124,{"$f":"(入力部分!D$7*M130+入力部分!D$8*R130+入力部分!D$9*W130)/(入力部分!D$7+入力部分!D$8+入力部分!D$9)","v":2.0829172841632538E-3},null,null,124,{"$f":"1/入力部分!I$33/(2*3.14)^0.5*EXP(-1/2*((L130-入力部分!I$25)/入力部分!I$33)^2)","v":3.7565461617830144E-3},0.46581172406109378,null,null,124,{"$f":"1/入力部分!I$34/(2*3.14)^0.5*EXP(-1/2*((Q130-入力部分!I$26/2)/入力部分!I$34)^2)","v":1.7978999293139096E-3},0.22293959123492479,null,null,124,{"$f":"1/入力部分!$I$35/(2*3.14)^0.5*EXP(-1/2*((V130-入力部分!$I$27/2)/入力部分!$I$35)^2)","v":7.6296441319150095E-15},9.4607587235746125E-13]
[null,null,null,null,null,null,null,125,{"$f":"(入力部分!D$7*M131+入力部分!D$8*R131+入力部分!D$9*W131)/(入力部分!D$7+入力部分!D$8+入力部分!D$9)","v":2.0606201348375278E-3},null,null,125,{"$f":"1/入力部分!I$33/(2*3.14)^0.5*EXP(-1/2*((L131-入力部分!I$25)/入力部分!I$33)^2)","v":3.7618311880745392E-3},0.47022889850931743,null,null,125,{"$f":"1/入力部分!I$34/(2*3.14)^0.5*EXP(-1/2*((Q131-入力部分!I$26/2)/入力部分!I$34)^2)","v":1.733155838155812E-3},0.21664447976947651,null,null,125,{"$f":"1/入力部分!$I$35/(2*3.14)^0.5*EXP(-1/2*((V131-入力部分!$I$27/2)/入力部分!$I$35)^2)","v":4.5866610289341267E-15},5.7333262861676589E-13]
[null,null,null,null,null,null,null,126,{"$f":"(入力部分!D$7*M132+入力部分!D$8*R132+入力部分!D$9*W132)/(入力部分!D$7+入力部分!D$8+入力部分!D$9)","v":2.0388000854627405E-3},null,null,126,{"$f":"1/入力部分!I$33/(2*3.14)^0.5*EXP(-1/2*((L132-入力部分!I$25)/入力部分!I$33)^2)","v":3.7667819760629517E-3},0.47461452898393192,null,null,126,{"$f":"1/入力部分!I$34/(2*3.14)^0.5*EXP(-1/2*((Q132-入力部分!I$26/2)/入力部分!I$34)^2)","v":1.6700182518358604E-3},0.2104222997313184,null,null,126,{"$f":"1/入力部分!$I$35/(2*3.14)^0.5*EXP(-1/2*((V132-入力部分!$I$27/2)/入力部分!$I$35)^2)","v":2.7451040549981809E-15},3.4588311092977079E-13]
[null,null,null,null,null,null,null,127,{"$f":"(入力部分!D$7*M133+入力部分!D$8*R133+入力部分!D$9*W133)/(入力部分!D$7+入力部分!D$8+入力部分!D$9)","v":2.0174548615346549E-3},null,null,127,{"$f":"1/入力部分!I$33/(2*3.14)^0.5*EXP(-1/2*((L133-入力部分!I$25)/入力部分!I$33)^2)","v":3.7713971872189119E-3},0.47896744277680181,null,null,127,{"$f":"1/入力部分!I$34/(2*3.14)^0.5*EXP(-1/2*((Q133-入力部分!I$26/2)/入力部分!I$34)^2)","v":1.6084824435390777E-3},0.20427727032946286,null,null,127,{"$f":"1/入力部分!$I$35/(2*3.14)^0.5*EXP(-1/2*((V133-入力部分!$I$27/2)/入力部分!$I$35)^2)","v":1.6356515124958202E-15},2.0772774208696916E-13]
[null,null,null,null,null,null,null,128,{"$f":"(入力部分!D$7*M134+入力部分!D$8*R134+入力部分!D$9*W134)/(入力部分!D$7+入力部分!D$8+入力部分!D$9)","v":1.9965815196018549E-3},null,null,128,{"$f":"1/入力部分!I$33/(2*3.14)^0.5*EXP(-1/2*((L134-入力部分!I$25)/入力部分!I$33)^2)","v":3.7756755726789095E-3},0.48328647330290042,null,null,128,{"$f":"1/入力部分!I$34/(2*3.14)^0.5*EXP(-1/2*((Q134-入力部分!I$26/2)/入力部分!I$34)^2)","v":1.5485418129253905E-3},0.19821335205444998,null,null,128,{"$f":"1/入力部分!$I$35/(2*3.14)^0.5*EXP(-1/2*((V134-入力部分!$I$27/2)/入力部分!$I$35)^2)","v":9.7026988070314063E-16},1.24194544730002E-13]
[null,null,null,null,null,null,null,129,{"$f":"(入力部分!D$7*M135+入力部分!D$8*R135+入力部分!D$9*W135)/(入力部分!D$7+入力部分!D$8+入力部分!D$9)","v":1.9761764775772656E-3},null,null,129,{"$f":"1/入力部分!I$33/(2*3.14)^0.5*EXP(-1/2*((L135-入力部分!I$25)/入力部分!I$33)^2)","v":3.7796159738084684E-3},{"$f":"L135*$M135","v":0.48757046062129245},null,null,129,{"$f":"1/入力部分!I$34/(2*3.14)^0.5*EXP(-1/2*((Q135-入力部分!I$26/2)/入力部分!I$34)^2)","v":1.4901879663971906E-3},{"$f":"Q135*$R135","v":0.19223424766523758},null,null,129,{"$f":"1/入力部分!$I$35/(2*3.14)^0.5*EXP(-1/2*((V135-入力部分!$I$27/2)/入力部分!$I$35)^2)","v":5.7301253562770979E-16},{"$f":"V135*$W135","v":7.3918617095974564E-14}]
[null,null,null,null,null,null,null,130,{"$f":"(入力部分!D$7*M136+入力部分!D$8*R136+入力部分!D$9*W136)/(入力部分!D$7+入力部分!D$8+入力部分!D$9)","v":1.9562355453509486E-3},null,null,130,{"$f":"1/入力部分!I$33/(2*3.14)^0.5*EXP(-1/2*((L136-入力部分!I$25)/入力部分!I$33)^2)","v":3.7832173227250829E-3},0.49181825195426077,null,null,130,{"$f":"1/入力部分!I$34/(2*3.14)^0.5*EXP(-1/2*((Q136-入力部分!I$26/2)/入力部分!I$34)^2)","v":1.4334107982105554E-3},0.18634340376737218,null,null,130,{"$f":"1/入力部分!$I$35/(2*3.14)^0.5*EXP(-1/2*((V136-入力部分!$I$27/2)/入力部分!$I$35)^2)","v":3.3690348091529211E-16},4.3797452518987972E-14]
[null,null,null,null,null,null,null,131,{"$f":"(入力部分!D$7*M137+入力部分!D$8*R137+入力部分!D$9*W137)/(入力部分!D$7+入力部分!D$8+入力部分!D$9)","v":1.9367539556145684E-3},null,null,131,{"$f":"1/入力部分!I$33/(2*3.14)^0.5*EXP(-1/2*((L137-入力部分!I$25)/入力部分!I$33)^2)","v":3.7864786427805395E-3},0.49602870220425066,null,null,131,{"$f":"1/入力部分!I$34/(2*3.14)^0.5*EXP(-1/2*((Q137-入力部分!I$26/2)/入力部分!I$34)^2)","v":1.3781985721915116E-3},0.18054401295708802,null,null,131,{"$f":"1/入力部分!$I$35/(2*3.14)^0.5*EXP(-1/2*((V137-入力部分!$I$27/2)/入力部分!$I$35)^2)","v":1.972044340576291E-16},2.5833780861549411E-14]
[null,null,null,null,null,null,null,132,{"$f":"(入力部分!D$7*M138+入力部分!D$8*R138+入力部分!D$9*W138)/(入力部分!D$7+入力部分!D$8+入力部分!D$9)","v":1.917726394810613E-3},null,null,132,{"$f":"1/入力部分!I$33/(2*3.14)^0.5*EXP(-1/2*((L138-入力部分!I$25)/入力部分!I$33)^2)","v":3.789399049002328E-3},0.50020067446830729,null,null,132,{"$f":"1/入力部分!I$34/(2*3.14)^0.5*EXP(-1/2*((Q138-入力部分!I$26/2)/入力部分!I$34)^2)","v":1.3245380038258967E-3},0.17483901650501837,null,null,132,{"$f":"1/入力部分!$I$35/(2*3.14)^0.5*EXP(-1/2*((V138-入力部分!$I$27/2)/入力部分!$I$35)^2)","v":1.1492053930748515E-16},1.5169511188588038E-14]
[null,null,null,null,null,null,null,133,{"$f":"(入力部分!D$7*M139+入力部分!D$8*R139+入力部分!D$9*W139)/(入力部分!D$7+入力部分!D$8+入力部分!D$9)","v":1.8991470341223403E-3},null,null,133,{"$f":"1/入力部分!I$33/(2*3.14)^0.5*EXP(-1/2*((L139-入力部分!I$25)/入力部分!I$33)^2)","v":3.7919777484938678E-3},0.50433304054968442,null,null,133,{"$f":"1/入力部分!I$34/(2*3.14)^0.5*EXP(-1/2*((Q139-入力部分!I$26/2)/入力部分!I$34)^2)","v":1.2724143424989955E-3},0.16923110755236639,null,null,133,{"$f":"1/入力部分!$I$35/(2*3.14)^0.5*EXP(-1/2*((V139-入力部分!$I$27/2)/入力部分!$I$35)^2)","v":6.6672760589877881E-17},8.8674771584537577E-15]
[null,null,null,null,null,null,null,134,{"$f":"(入力部分!D$7*M140+入力部分!D$8*R140+入力部分!D$9*W140)/(入力部分!D$7+入力部分!D$8+入力部分!D$9)","v":1.881009560423464E-3},null,null,134,{"$f":"1/入力部分!I$33/(2*3.14)^0.5*EXP(-1/2*((L140-入力部分!I$25)/入力部分!I$33)^2)","v":3.7942140407932804E-3},0.5084246814662996,null,null,134,{"$f":"1/入力部分!I$34/(2*3.14)^0.5*EXP(-1/2*((Q140-入力部分!I$26/2)/入力部分!I$34)^2)","v":1.2218114536692646E-3},0.16372273479168145,null,null,134,{"$f":"1/入力部分!$I$35/(2*3.14)^0.5*EXP(-1/2*((V140-入力部分!$I$27/2)/入力部分!$I$35)^2)","v":3.8509601263164258E-17},5.1602865692640108E-15]
[null,null,null,null,null,null,null,135,{"$f":"(入力部分!D$7*M141+入力部分!D$8*R141+入力部分!D$9*W141)/(入力部分!D$7+入力部分!D$8+入力部分!D$9)","v":1.863307207109825E-3},null,null,135,{"$f":"1/入力部分!I$33/(2*3.14)^0.5*EXP(-1/2*((L141-入力部分!I$25)/入力部分!I$33)^2)","v":3.7961073181904969E-3},0.51247448795571704,null,null,135,{"$f":"1/入力部分!I$34/(2*3.14)^0.5*EXP(-1/2*((Q141-入力部分!I$26/2)/入力部分!I$34)^2)","v":1.172711900769022E-3},0.15831610660381798,null,null,135,{"$f":"1/入力部分!$I$35/(2*3.14)^0.5*EXP(-1/2*((V141-入力部分!$I$27/2)/入力部分!$I$35)^2)","v":2.214417008634937E-17},2.989462961657165E-15]
[null,null,null,null,null,null,null,136,{"$f":"(入力部分!D$7*M142+入力部分!D$8*R142+入力部分!D$9*W142)/(入力部分!D$7+入力部分!D$8+入力部分!D$9)","v":1.8460327847386378E-3},null,null,136,{"$f":"1/入力部分!I$33/(2*3.14)^0.5*EXP(-1/2*((L142-入力部分!I$25)/入力部分!I$33)^2)","v":3.7976570660024907E-3},0.51648136097633868,null,null,136,{"$f":"1/入力部分!I$34/(2*3.14)^0.5*EXP(-1/2*((Q142-入力部分!I$26/2)/入力部分!I$34)^2)","v":1.1250970266338692E-3},0.15301319562220622,null,null,136,{"$f":"1/入力部分!$I$35/(2*3.14)^0.5*EXP(-1/2*((V142-入力部分!$I$27/2)/入力部分!$I$35)^2)","v":1.2677090699112187E-17},1.7240843350792575E-15]
[null,null,null,null,null,null,null,137,{"$f":"(入力部分!D$7*M143+入力部分!D$8*R143+入力部分!D$9*W143)/(入力部分!D$7+入力部分!D$8+入力部分!D$9)","v":1.8291787114043778E-3},null,null,137,{"$f":"1/入力部分!I$33/(2*3.14)^0.5*EXP(-1/2*((L143-入力部分!I$25)/入力部分!I$33)^2)","v":3.7988628628064605E-3},0.52044421220448511,null,null,137,{"$f":"1/入力部分!I$34/(2*3.14)^0.5*EXP(-1/2*((Q143-入力部分!I$26/2)/入力部分!I$34)^2)","v":1.0789470342718753E-3},0.14781574369524692,null,null,137,{"$f":"1/入力部分!$I$35/(2*3.14)^0.5*EXP(-1/2*((V143-入力部分!$I$27/2)/入力部分!$I$35)^2)","v":7.2251952678717458E-18},9.8985175169842915E-16]
[null,null,null,null,null,null,null,138,{"$f":"(入力部分!D$7*M144+入力部分!D$8*R144+入力部分!D$9*W144)/(入力部分!D$7+入力部分!D$8+入力部分!D$9)","v":1.8127370427839598E-3},null,null,138,{"$f":"1/入力部分!I$33/(2*3.14)^0.5*EXP(-1/2*((L144-入力部分!I$25)/入力部分!I$33)^2)","v":3.7997243806308229E-3},0.52436196452705353,null,null,138,{"$f":"1/入力部分!I$34/(2*3.14)^0.5*EXP(-1/2*((Q144-入力部分!I$26/2)/入力部分!I$34)^2)","v":1.034241066793068E-3},0.14272526721744339,null,null,138,{"$f":"1/入力部分!$I$35/(2*3.14)^0.5*EXP(-1/2*((V144-入力部分!$I$27/2)/入力部分!$I$35)^2)","v":4.0996745547178729E-18},5.6575508855106648E-16]
[null,null,null,null,null,null,null,139,{"$f":"(入力部分!D$7*M145+入力部分!D$8*R145+入力部分!D$9*W145)/(入力部分!D$7+入力部分!D$8+入力部分!D$9)","v":1.7966995017875214E-3},null,null,139,{"$f":"1/入力部分!I$33/(2*3.14)^0.5*EXP(-1/2*((L145-入力部分!I$25)/入力部分!I$33)^2)","v":3.8002413851038852E-3},0.52823355252944004,null,null,139,{"$f":"1/入力部分!I$34/(2*3.14)^0.5*EXP(-1/2*((Q145-入力部分!I$26/2)/入力部分!I$34)^2)","v":9.9095728632950437E-4},0.13774306279980111,null,null,139,{"$f":"1/入力部分!$I$35/(2*3.14)^0.5*EXP(-1/2*((V145-入力部分!$I$27/2)/入力部分!$I$35)^2)","v":2.3158956036499701E-18},3.2190948890734583E-16]
[null,null,null,null,null,null,null,140,{"$f":"(入力部分!D$7*M146+入力部分!D$8*R146+入力部分!D$9*W146)/(入力部分!D$7+入力部分!D$8+入力部分!D$9)","v":1.7810575077548501E-3},null,null,140,{"$f":"1/入力部分!I$33/(2*3.14)^0.5*EXP(-1/2*((L146-入力部分!I$25)/入力部分!I$33)^2)","v":3.8004137355601062E-3},0.53205792297841492,null,null,140,{"$f":"1/入力部分!I$34/(2*3.14)^0.5*EXP(-1/2*((Q146-入力部分!I$26/2)/入力部分!I$34)^2)","v":9.4907295178616033E-4},0.13287021325006246,null,null,140,{"$f":"1/入力部分!$I$35/(2*3.14)^0.5*EXP(-1/2*((V146-入力部分!$I$27/2)/入力部分!$I$35)^2)","v":1.3024419519289275E-18},1.8234187327004986E-16]
[null,null,null,null,null,null,null,141,{"$f":"(入力部分!D$7*M147+入力部分!D$8*R147+入力部分!D$9*W147)/(入力部分!D$7+入力部分!D$8+入力部分!D$9)","v":1.7658022051412886E-3},null,null,141,{"$f":"1/入力部分!I$33/(2*3.14)^0.5*EXP(-1/2*((L147-入力部分!I$25)/入力部分!I$33)^2)","v":3.8002413851038852E-3},0.53583403529964779,null,null,141,{"$f":"1/入力部分!I$34/(2*3.14)^0.5*EXP(-1/2*((Q147-入力部分!I$26/2)/入力部分!I$34)^2)","v":9.0856449527288406E-4},0.12810759383347664,null,null,141,{"$f":"1/入力部分!$I$35/(2*3.14)^0.5*EXP(-1/2*((V147-入力部分!$I$27/2)/入力部分!$I$35)^2)","v":7.2923512143126167E-19},1.028221521218079E-16]
[null,null,null,null,null,null,null,142,{"$f":"(入力部分!D$7*M148+入力部分!D$8*R148+入力部分!D$9*W148)/(入力部分!D$7+入力部分!D$8+入力部分!D$9)","v":1.7509244916407562E-3},null,null,142,{"$f":"1/入力部分!I$33/(2*3.14)^0.5*EXP(-1/2*((L148-入力部分!I$25)/入力部分!I$33)^2)","v":3.7997243806308229E-3},0.53956086204957687,null,null,142,{"$f":"1/入力部分!I$34/(2*3.14)^0.5*EXP(-1/2*((Q148-入力部分!I$26/2)/入力部分!I$34)^2)","v":8.6940759707786056E-4},0.12345587878505621,null,null,142,{"$f":"1/入力部分!$I$35/(2*3.14)^0.5*EXP(-1/2*((V148-入力部分!$I$27/2)/入力部分!$I$35)^2)","v":4.0648692413978077E-19},5.772114322784887E-17]
[null,null,null,null,null,null,null,143,{"$f":"(入力部分!D$7*M149+入力部分!D$8*R149+入力部分!D$9*W149)/(入力部分!D$7+入力部分!D$8+入力部分!D$9)","v":1.7364150456973823E-3},null,null,143,{"$f":"1/入力部分!I$33/(2*3.14)^0.5*EXP(-1/2*((L149-入力部分!I$25)/入力部分!I$33)^2)","v":3.7988628628064605E-3},0.54323738938132382,null,null,143,{"$f":"1/入力部分!I$34/(2*3.14)^0.5*EXP(-1/2*((Q149-入力部分!I$26/2)/入力部分!I$34)^2)","v":8.3157725905322626E-4},0.11891554804461135,null,null,143,{"$f":"1/入力部分!$I$35/(2*3.14)^0.5*EXP(-1/2*((V149-入力部分!$I$27/2)/入力部分!$I$35)^2)","v":2.255772951838936E-19},3.2257553211296788E-17]
[null,null,null,null,null,null,null,144,{"$f":"(入力部分!D$7*M150+入力部分!D$8*R150+入力部分!D$9*W150)/(入力部分!D$7+入力部分!D$8+入力部分!D$9)","v":1.7222643533610566E-3},null,null,144,{"$f":"1/入力部分!I$33/(2*3.14)^0.5*EXP(-1/2*((L150-入力部分!I$25)/入力部分!I$33)^2)","v":3.7976570660024907E-3},0.54686261750435861,null,null,144,{"$f":"1/入力部分!I$34/(2*3.14)^0.5*EXP(-1/2*((Q150-入力部分!I$26/2)/入力部分!I$34)^2)","v":7.9504787629366112E-4},0.1144868941862872,null,null,144,{"$f":"1/入力部分!$I$35/(2*3.14)^0.5*EXP(-1/2*((V150-入力部分!$I$27/2)/入力部分!$I$35)^2)","v":1.2462753128762977E-19},1.7946364505418687E-17]
[null,null,null,null,null,null,null,145,{"$f":"(入力部分!D$7*M151+入力部分!D$8*R151+入力部分!D$9*W151)/(入力部分!D$7+入力部分!D$8+入力部分!D$9)","v":1.7084627344460604E-3},null,null,145,{"$f":"1/入力部分!I$33/(2*3.14)^0.5*EXP(-1/2*((L151-入力部分!I$25)/入力部分!I$33)^2)","v":3.7961073181904969E-3},0.55043556113762204,null,null,145,{"$f":"1/入力部分!I$34/(2*3.14)^0.5*EXP(-1/2*((Q151-入力部分!I$26/2)/入力部分!I$34)^2)","v":7.5979330699899798E-4},0.1101700295148547,null,null,145,{"$f":"1/入力部分!$I$35/(2*3.14)^0.5*EXP(-1/2*((V151-入力部分!$I$27/2)/入力部分!$I$35)^2)","v":6.8549201775843178E-20},9.9396342574972613E-18]
[null,null,null,null,null,null,null,146,{"$f":"(入力部分!D$7*M152+入力部分!D$8*R152+入力部分!D$9*W152)/(入力部分!D$7+入力部分!D$8+入力部分!D$9)","v":1.6950003679557252E-3},null,null,146,{"$f":"1/入力部分!I$33/(2*3.14)^0.5*EXP(-1/2*((L152-入力部分!I$25)/入力部分!I$33)^2)","v":3.7942140407932804E-3},0.55395524995581891,null,null,146,{"$f":"1/入力部分!I$34/(2*3.14)^0.5*EXP(-1/2*((Q152-入力部分!I$26/2)/入力部分!I$34)^2)","v":7.2578694042198754E-4},0.10596489330161019,null,null,146,{"$f":"1/入力部分!$I$35/(2*3.14)^0.5*EXP(-1/2*((V152-入力部分!$I$27/2)/入力部分!$I$35)^2)","v":3.7537091068741119E-20},5.4804152960362033E-18]
[null,null,null,null,null,null,null,147,{"$f":"(入力部分!D$7*M153+入力部分!D$8*R153+入力部分!D$9*W153)/(入力部分!D$7+入力部分!D$8+入力部分!D$9)","v":1.6818673167398337E-3},null,null,147,{"$f":"1/入力部分!I$33/(2*3.14)^0.5*EXP(-1/2*((L153-入力部分!I$25)/入力部分!I$33)^2)","v":3.7919777484938678E-3},0.55742072902859852,null,null,147,{"$f":"1/入力部分!I$34/(2*3.14)^0.5*EXP(-1/2*((Q153-入力部分!I$26/2)/入力部分!I$34)^2)","v":6.9300176281235587E-4},0.10187125913341631,null,null,147,{"$f":"1/入力部分!$I$35/(2*3.14)^0.5*EXP(-1/2*((V153-入力部分!$I$27/2)/入力部分!$I$35)^2)","v":2.0463910527644648E-20},3.0081948475637631E-18]
[null,null,null,null,null,null,null,148,{"$f":"(入力部分!D$7*M154+入力部分!D$8*R154+入力部分!D$9*W154)/(入力部分!D$7+入力部分!D$8+入力部分!D$9)","v":1.6690535513551894E-3},null,null,148,{"$f":"1/入力部分!I$33/(2*3.14)^0.5*EXP(-1/2*((L154-入力部分!I$25)/入力部分!I$33)^2)","v":3.789399049002328E-3},0.56083105925234455,null,null,148,{"$f":"1/入力部分!I$34/(2*3.14)^0.5*EXP(-1/2*((Q154-入力部分!I$26/2)/入力部分!I$34)^2)","v":6.614104212781767E-4},9.7888742349170152E-2,null,null,148,{"$f":"1/入力部分!$I$35/(2*3.14)^0.5*EXP(-1/2*((V154-入力部分!$I$27/2)/入力部分!$I$35)^2)","v":1.1106735893649178E-20},1.6437969122600784E-18]
[null,null,null,null,null,null,null,149,{"$f":"(入力部分!D$7*M155+入力部分!D$8*R155+入力部分!D$9*W155)/(入力部分!D$7+入力部分!D$8+入力部分!D$9)","v":1.6565489731034315E-3},null,null,149,{"$f":"1/入力部分!I$33/(2*3.14)^0.5*EXP(-1/2*((L155-入力部分!I$25)/入力部分!I$33)^2)","v":3.7864786427805395E-3},0.56418531777430037,null,null,149,{"$f":"1/入力部分!I$34/(2*3.14)^0.5*EXP(-1/2*((Q155-入力部分!I$26/2)/入力部分!I$34)^2)","v":6.3098528549527827E-4},9.401680753879646E-2,null,null,149,{"$f":"1/入力部分!$I$35/(2*3.14)^0.5*EXP(-1/2*((V155-入力部分!$I$27/2)/入力部分!$I$35)^2)","v":6.001420588640619E-21},8.9421166770745216E-19]
[null,null,null,null,null,null,null,150,{"$f":"(入力部分!D$7*M156+入力部分!D$8*R156+入力部分!D$9*W156)/(入力部分!D$7+入力部分!D$8+入力部分!D$9)","v":1.6443434362237402E-3},null,null,150,{"$f":"1/入力部分!I$33/(2*3.14)^0.5*EXP(-1/2*((L156-入力部分!I$25)/入力部分!I$33)^2)","v":3.7832173227250829E-3},0.56748259840876247,null,null,150,{"$f":"1/入力部分!I$34/(2*3.14)^0.5*EXP(-1/2*((Q156-入力部分!I$26/2)/入力部分!I$34)^2)","v":6.0169850720489127E-4},9.0254776080733692E-2,null,null,150,{"$f":"1/入力部分!$I$35/(2*3.14)^0.5*EXP(-1/2*((V156-入力部分!$I$27/2)/入力部分!$I$35)^2)","v":3.2284308233253637E-21},4.8426462349880456E-19]
[null,null,null,null,null,null,null,151,{"$f":"(入力部分!D$7*M157+入力部分!D$8*R157+入力部分!D$9*W157)/(入力部分!D$7+入力部分!D$8+入力部分!D$9)","v":1.6324267692215638E-3},null,null,151,{"$f":"1/入力部分!I$33/(2*3.14)^0.5*EXP(-1/2*((L157-入力部分!I$25)/入力部分!I$33)^2)","v":3.7796159738084684E-3},0.57072201204507877,null,null,151,{"$f":"1/入力部分!I$34/(2*3.14)^0.5*EXP(-1/2*((Q157-入力部分!I$26/2)/入力部分!I$34)^2)","v":5.7352207744903528E-4},8.6601833694804328E-2,null,null,151,{"$f":"1/入力部分!$I$35/(2*3.14)^0.5*EXP(-1/2*((V157-入力部分!$I$27/2)/入力部分!$I$35)^2)","v":1.7290147913669933E-21},2.6108123349641598E-19]
[null,null,null,null,null,null,null,152,{"$f":"(入力部分!D$7*M158+入力部分!D$8*R158+入力部分!D$9*W158)/(入力部分!D$7+入力部分!D$8+入力部分!D$9)","v":1.6207887953179024E-3},null,null,152,{"$f":"1/入力部分!I$33/(2*3.14)^0.5*EXP(-1/2*((L158-入力部分!I$25)/入力部分!I$33)^2)","v":3.7756755726789095E-3},0.57390268704719427,null,null,152,{"$f":"1/入力部分!I$34/(2*3.14)^0.5*EXP(-1/2*((Q158-入力部分!I$26/2)/入力部分!I$34)^2)","v":5.4642788150216395E-4},8.3057037988328919E-2,null,null,152,{"$f":"1/入力部分!$I$35/(2*3.14)^0.5*EXP(-1/2*((V158-入力部分!$I$27/2)/入力部分!$I$35)^2)","v":9.2188284712352076E-22},1.4012619276277515E-19]
[null,null,null,null,null,null,null,153,{"$f":"(入力部分!D$7*M159+入力部分!D$8*R159+入力部分!D$9*W159)/(入力部分!D$7+入力部分!D$8+入力部分!D$9)","v":1.6094193520069635E-3},null,null,153,{"$f":"1/入力部分!I$33/(2*3.14)^0.5*EXP(-1/2*((L159-入力部分!I$25)/入力部分!I$33)^2)","v":3.7713971872189119E-3},0.57702376964449353,null,null,153,{"$f":"1/入力部分!I$34/(2*3.14)^0.5*EXP(-1/2*((Q159-入力部分!I$26/2)/入力部分!I$34)^2)","v":5.2038775146632393E-4},7.9619325974347566E-2,null,null,153,{"$f":"1/入力部分!$I$35/(2*3.14)^0.5*EXP(-1/2*((V159-入力部分!$I$27/2)/入力部分!$I$35)^2)","v":4.8935334639265256E-22},7.487106199807584E-20]
[null,null,null,null,null,null,null,154,{"$f":"(入力部分!D$7*M160+入力部分!D$8*R160+入力部分!D$9*W160)/(入力部分!D$7+入力部分!D$8+入力部分!D$9)","v":1.5983083097131871E-3},null,null,154,{"$f":"1/入力部分!I$33/(2*3.14)^0.5*EXP(-1/2*((L160-入力部分!I$25)/入力部分!I$33)^2)","v":3.7667819760629517E-3},0.58008442431369456,null,null,154,{"$f":"1/入力部分!I$34/(2*3.14)^0.5*EXP(-1/2*((Q160-入力部分!I$26/2)/入力部分!I$34)^2)","v":4.9537351650554755E-4},7.6287521541854322E-2,null,null,154,{"$f":"1/入力部分!$I$35/(2*3.14)^0.5*EXP(-1/2*((V160-入力部分!$I$27/2)/入力部分!$I$35)^2)","v":2.586063549602758E-22},3.9825378663882471E-20]
[null,null,null,null,null,null,null,155,{"$f":"(入力部分!D$7*M161+入力部分!D$8*R161+入力部分!D$9*W161)/(入力部分!D$7+入力部分!D$8+入力部分!D$9)","v":1.5874455895417072E-3},null,null,155,{"$f":"1/入力部分!I$33/(2*3.14)^0.5*EXP(-1/2*((L161-入力部分!I$25)/入力部分!I$33)^2)","v":3.7618311880745392E-3},0.58308383415155363,null,null,155,{"$f":"1/入力部分!I$34/(2*3.14)^0.5*EXP(-1/2*((Q161-入力部分!I$26/2)/入力部分!I$34)^2)","v":4.7135705070334744E-4},7.3060342859018856E-2,null,null,155,{"$f":"1/入力部分!$I$35/(2*3.14)^0.5*EXP(-1/2*((V161-入力部分!$I$27/2)/入力部分!$I$35)^2)","v":1.3605848339875073E-22},2.1089064926806365E-20]
[null,null,null,null,null,null,null,156,{"$f":"(入力部分!D$7*M162+入力部分!D$8*R162+入力部分!D$9*W162)/(入力部分!D$7+入力部分!D$8+入力部分!D$9)","v":1.5768211801192437E-3},null,null,156,{"$f":"1/入力部分!I$33/(2*3.14)^0.5*EXP(-1/2*((L162-入力部分!I$25)/入力部分!I$33)^2)","v":3.7565461617830144E-3},0.58602120123815027,null,null,156,{"$f":"1/入力部分!I$34/(2*3.14)^0.5*EXP(-1/2*((Q162-入力部分!I$26/2)/入力部分!I$34)^2)","v":4.4831031853496825E-4},6.9936409691455051E-2,null,null,156,{"$f":"1/入力部分!$I$35/(2*3.14)^0.5*EXP(-1/2*((V162-入力部分!$I$27/2)/入力部分!$I$35)^2)","v":7.1265914216014292E-23},1.111748261769823E-20]
[null,null,null,null,null,null,null,157,{"$f":"(入力部分!D$7*M163+入力部分!D$8*R163+入力部分!D$9*W163)/(入力部分!D$7+入力部分!D$8+入力部分!D$9)","v":1.5664251535252337E-3},null,null,157,{"$f":"1/入力部分!I$33/(2*3.14)^0.5*EXP(-1/2*((L163-入力部分!I$25)/入力部分!I$33)^2)","v":3.7509283247804171E-3},0.58889574699052549,null,null,157,{"$f":"1/入力部分!I$34/(2*3.14)^0.5*EXP(-1/2*((Q163-入力部分!I$26/2)/入力部分!I$34)^2)","v":4.2620541795353948E-4},6.6914250618705692E-2,null,null,157,{"$f":"1/入力部分!$I$35/(2*3.14)^0.5*EXP(-1/2*((V163-入力部分!$I$27/2)/入力部分!$I$35)^2)","v":3.7162754645405845E-23},5.8345524793287175E-21]
[null,null,null,null,null,null,null,158,{"$f":"(入力部分!D$7*M164+入力部分!D$8*R164+入力部分!D$9*W164)/(入力部分!D$7+入力部分!D$8+入力部分!D$9)","v":1.5562476803156994E-3},null,null,158,{"$f":"1/入力部分!I$33/(2*3.14)^0.5*EXP(-1/2*((L164-入力部分!I$25)/入力部分!I$33)^2)","v":3.744979193078818E-3},0.59170671250645324,null,null,158,{"$f":"1/入力部分!I$34/(2*3.14)^0.5*EXP(-1/2*((Q164-入力部分!I$26/2)/入力部分!I$34)^2)","v":4.050146210963802E-4},6.3992310133228078E-2,null,null,158,{"$f":"1/入力部分!$I$35/(2*3.14)^0.5*EXP(-1/2*((V164-入力部分!$I$27/2)/入力部分!$I$35)^2)","v":1.9293176515135309E-23},3.0483218893913788E-21]
[null,null,null,null,null,null,null,159,{"$f":"(入力部分!D$7*M165+入力部分!D$8*R165+入力部分!D$9*W165)/(入力部分!D$7+入力部分!D$8+入力部分!D$9)","v":1.5462790436448564E-3},null,null,159,{"$f":"1/入力部分!I$33/(2*3.14)^0.5*EXP(-1/2*((L165-入力部分!I$25)/入力部分!I$33)^2)","v":3.7387003704285136E-3},0.59445335889813367,null,null,159,{"$f":"1/入力部分!I$34/(2*3.14)^0.5*EXP(-1/2*((Q165-入力部分!I$26/2)/入力部分!I$34)^2)","v":3.8471041262443735E-4},6.1168955607285538E-2,null,null,159,{"$f":"1/入力部分!$I$35/(2*3.14)^0.5*EXP(-1/2*((V165-入力部分!$I$27/2)/入力部分!$I$35)^2)","v":9.9717040284316297E-24},1.5855009405206292E-21]
[null,null,null,null,null,null,null,160,{"$f":"(入力部分!D$7*M166+入力部分!D$8*R166+入力部分!D$9*W166)/(入力部分!D$7+入力部分!D$8+入力部分!D$9)","v":1.5365096524919035E-3},null,null,160,{"$f":"1/入力部分!I$33/(2*3.14)^0.5*EXP(-1/2*((L166-入力部分!I$25)/入力部分!I$33)^2)","v":3.7320935475975148E-3},0.59713496761560236,null,null,160,{"$f":"1/入力部分!I$34/(2*3.14)^0.5*EXP(-1/2*((Q166-入力部分!I$26/2)/入力部分!I$34)^2)","v":3.6526552571422859E-4},5.8442484114276577E-2,null,null,160,{"$f":"1/入力部分!$I$35/(2*3.14)^0.5*EXP(-1/2*((V166-入力部分!$I$27/2)/入力部分!$I$35)^2)","v":5.1310331902630768E-24},8.2096531044209231E-22]
[null,null,null,null,null,null,null,161,{"$f":"(入力部分!D$7*M167+入力部分!D$8*R167+入力部分!D$9*W167)/(入力部分!D$7+入力部分!D$8+入力部分!D$9)","v":1.5269300540026618E-3},null,null,161,{"$f":"1/入力部分!I$33/(2*3.14)^0.5*EXP(-1/2*((L167-入力部分!I$25)/入力部分!I$33)^2)","v":3.725160501612786E-3},0.59975084075965857,null,null,161,{"$f":"1/入力部分!I$34/(2*3.14)^0.5*EXP(-1/2*((Q167-入力部分!I$26/2)/入力部分!I$34)^2)","v":3.466529757276459E-4},5.5811129092150989E-2,null,null,161,{"$f":"1/入力部分!$I$35/(2*3.14)^0.5*EXP(-1/2*((V167-入力部分!$I$27/2)/入力部分!$I$35)^2)","v":2.6285126440316539E-24},4.2319053568909629E-22]
[null,null,null,null,null,null,null,162,{"$f":"(入力部分!D$7*M168+入力部分!D$8*R168+入力部分!D$9*W168)/(入力部分!D$7+入力部分!D$8+入力部分!D$9)","v":1.517530944957855E-3},null,null,162,{"$f":"1/入力部分!I$33/(2*3.14)^0.5*EXP(-1/2*((L168-入力部分!I$25)/入力部分!I$33)^2)","v":3.7179030949637012E-3},0.60230030138411961,null,null,162,{"$f":"1/入力部分!I$34/(2*3.14)^0.5*EXP(-1/2*((Q168-入力部分!I$26/2)/入力部分!I$34)^2)","v":3.2884609159057908E-4},5.3273066837673813E-2,null,null,162,{"$f":"1/入力部分!$I$35/(2*3.14)^0.5*EXP(-1/2*((V168-入力部分!$I$27/2)/入力部分!$I$35)^2)","v":1.340556489322317E-24},2.1717015127021537E-22]
[null,null,null,null,null,null,null,163,{"$f":"(入力部分!D$7*M169+入力部分!D$8*R169+入力部分!D$9*W169)/(入力部分!D$7+入力部分!D$8+入力部分!D$9)","v":1.5083031823817903E-3},null,null,163,{"$f":"1/入力部分!I$33/(2*3.14)^0.5*EXP(-1/2*((L169-入力部分!I$25)/入力部分!I$33)^2)","v":3.7103232747682296E-3},0.60478269378722138,null,null,163,{"$f":"1/入力部分!I$34/(2*3.14)^0.5*EXP(-1/2*((Q169-入力部分!I$26/2)/入力部分!I$34)^2)","v":3.118185449165451E-4},5.0826422821396849E-2,null,null,163,{"$f":"1/入力部分!$I$35/(2*3.14)^0.5*EXP(-1/2*((V169-入力部分!$I$27/2)/入力部分!$I$35)^2)","v":6.806595941958919E-25},1.1094751385393038E-22]
[null,null,null,null,null,null,null,164,{"$f":"(入力部分!D$7*M170+入力部分!D$8*R170+入力部分!D$9*W170)/(入力部分!D$7+入力部分!D$8+入力部分!D$9)","v":1.4992377933070195E-3},null,null,164,{"$f":"1/入力部分!I$33/(2*3.14)^0.5*EXP(-1/2*((L170-入力部分!I$25)/入力部分!I$33)^2)","v":3.7024230719023654E-3},0.60719738379198795,null,null,164,{"$f":"1/入力部分!I$34/(2*3.14)^0.5*EXP(-1/2*((Q170-入力部分!I$26/2)/入力部分!I$34)^2)","v":2.9554437691635388E-4},4.8469277814282036E-2,null,null,164,{"$f":"1/入力部分!$I$35/(2*3.14)^0.5*EXP(-1/2*((V170-入力部分!$I$27/2)/入力部分!$I$35)^2)","v":3.4406827009959245E-25},5.6427196296333159E-23]
[null,null,null,null,null,null,null,165,{"$f":"(入力部分!D$7*M171+入力部分!D$8*R171+入力部分!D$9*W171)/(入力部分!D$7+入力部分!D$8+入力部分!D$9)","v":1.4903259837122317E-3},null,null,165,{"$f":"1/入力部分!I$33/(2*3.14)^0.5*EXP(-1/2*((L171-入力部分!I$25)/入力部分!I$33)^2)","v":3.6942046000933461E-3},0.60954375901540214,null,null,165,{"$f":"1/入力部分!I$34/(2*3.14)^0.5*EXP(-1/2*((Q171-入力部分!I$26/2)/入力部分!I$34)^2)","v":2.7999802313927223E-4},4.6199673817979917E-2,null,null,165,{"$f":"1/入力部分!$I$35/(2*3.14)^0.5*EXP(-1/2*((V171-入力部分!$I$27/2)/入力部分!$I$35)^2)","v":1.7315262493227932E-25},2.8570183113826085E-23]
[null,null,null,null,null,null,null,166,{"$f":"(入力部分!D$7*M172+入力部分!D$8*R172+入力部分!D$9*W172)/(入力部分!D$7+入力部分!D$8+入力部分!D$9)","v":1.4815591466521749E-3},null,null,166,{"$f":"1/入力部分!I$33/(2*3.14)^0.5*EXP(-1/2*((L172-入力部分!I$25)/入力部分!I$33)^2)","v":3.6856700549772322E-3},0.6118212291262205,null,null,166,{"$f":"1/入力部分!I$34/(2*3.14)^0.5*EXP(-1/2*((Q172-入力部分!I$26/2)/入力部分!I$34)^2)","v":2.6515433609523495E-4},4.4015619791808999E-2,null,null,166,{"$f":"1/入力部分!$I$35/(2*3.14)^0.5*EXP(-1/2*((V172-入力部分!$I$27/2)/入力部分!$I$35)^2)","v":8.6752767427263285E-26},1.4400959392925705E-23]
[null,null,null,null,null,null,null,167,{"$f":"(入力部分!D$7*M173+入力部分!D$8*R173+入力部分!D$9*W173)/(入力部分!D$7+入力部分!D$8+入力部分!D$9)","v":1.4729288695997883E-3},null,null,167,{"$f":"1/入力部分!I$33/(2*3.14)^0.5*EXP(-1/2*((L173-入力部分!I$25)/入力部分!I$33)^2)","v":3.6768217131214311E-3},0.61402922609127897,null,null,167,{"$f":"1/入力部分!I$34/(2*3.14)^0.5*EXP(-1/2*((Q173-入力部分!I$26/2)/入力部分!I$34)^2)","v":2.5098860581133816E-4},4.1915097170493472E-2,null,null,167,{"$f":"1/入力部分!$I$35/(2*3.14)^0.5*EXP(-1/2*((V173-入力部分!$I$27/2)/入力部分!$I$35)^2)","v":4.3272042812138818E-26},7.2264311496271823E-24]
[null,null,null,null,null,null,null,168,{"$f":"(入力部分!D$7*M174+入力部分!D$8*R174+入力部分!D$9*W174)/(入力部分!D$7+入力部分!D$8+入力部分!D$9)","v":1.464426941021975E-3},null,null,168,{"$f":"1/入力部分!I$33/(2*3.14)^0.5*EXP(-1/2*((L174-入力部分!I$25)/入力部分!I$33)^2)","v":3.6676619310127756E-3},0.61616720441014627,null,null,168,{"$f":"1/入力部分!I$34/(2*3.14)^0.5*EXP(-1/2*((Q174-入力部分!I$26/2)/入力部分!I$34)^2)","v":2.3747657837915861E-4},3.9896065167698648E-2,null,null,168,{"$f":"1/入力部分!$I$35/(2*3.14)^0.5*EXP(-1/2*((V174-入力部分!$I$27/2)/入力部分!$I$35)^2)","v":2.1488260525540925E-26},3.6100277682908753E-24]
[null,null,null,null,null,null,null,169,{"$f":"(入力部分!D$7*M175+入力部分!D$8*R175+入力部分!D$9*W175)/(入力部分!D$7+入力部分!D$8+入力部分!D$9)","v":1.456045356211573E-3},null,null,169,{"$f":"1/入力部分!I$33/(2*3.14)^0.5*EXP(-1/2*((L175-入力部分!I$25)/入力部分!I$33)^2)","v":3.6581931440117861E-3},0.61823464133799189,null,null,169,{"$f":"1/入力部分!I$34/(2*3.14)^0.5*EXP(-1/2*((Q175-入力部分!I$26/2)/入力部分!I$34)^2)","v":2.2459447255240909E-4},3.795646586135714E-2,null,null,169,{"$f":"1/入力部分!$I$35/(2*3.14)^0.5*EXP(-1/2*((V175-入力部分!$I$27/2)/入力部分!$I$35)^2)","v":1.0623434040204354E-26},1.7953603527945358E-24]
[null,null,null,null,null,null,null,170,{"$f":"(入力部分!D$7*M176+入力部分!D$8*R176+入力部分!D$9*W176)/(入力部分!D$7+入力部分!D$8+入力部分!D$9)","v":1.4477763223990497E-3},null,null,170,{"$f":"1/入力部分!I$33/(2*3.14)^0.5*EXP(-1/2*((L176-入力部分!I$25)/入力部分!I$33)^2)","v":3.6484178652737708E-3},0.62023103709654104,null,null,170,{"$f":"1/入力部分!I$34/(2*3.14)^0.5*EXP(-1/2*((Q176-入力部分!I$26/2)/入力部分!I$34)^2)","v":2.1231899445702879E-4},3.6094229057694896E-2,null,null,170,{"$f":"1/入力部分!$I$35/(2*3.14)^0.5*EXP(-1/2*((V176-入力部分!$I$27/2)/入力部分!$I$35)^2)","v":5.228756205660982E-27},8.8888855496236698E-25]
[null,null,null,null,null,null,null,171,{"$f":"(入力部分!D$7*M177+入力部分!D$8*R177+入力部分!D$9*W177)/(入力部分!D$7+入力部分!D$8+入力部分!D$9)","v":1.4396122631683036E-3},null,null,171,{"$f":"1/入力部分!I$33/(2*3.14)^0.5*EXP(-1/2*((L177-入力部分!I$25)/入力部分!I$33)^2)","v":3.6383386846374237E-3},0.6221559150729995,null,null,171,{"$f":"1/入力部分!I$34/(2*3.14)^0.5*EXP(-1/2*((Q177-入力部分!I$26/2)/入力部分!I$34)^2)","v":2.0062735047805285E-4},3.4307276931747038E-2,null,null,171,{"$f":"1/入力部分!$I$35/(2*3.14)^0.5*EXP(-1/2*((V177-入力部分!$I$27/2)/入力部分!$I$35)^2)","v":2.5621329553659067E-27},4.3812473536757003E-25]
[null,null,null,null,null,null,null,172,{"$f":"(入力部分!D$7*M178+入力部分!D$8*R178+入力部分!D$9*W178)/(入力部分!D$7+入力部分!D$8+入力部分!D$9)","v":1.4315458222016754E-3},null,null,172,{"$f":"1/入力部分!I$33/(2*3.14)^0.5*EXP(-1/2*((L178-入力部分!I$25)/入力部分!I$33)^2)","v":3.6279582674816177E-3},0.62400882200683827,null,null,172,{"$f":"1/入力部分!I$34/(2*3.14)^0.5*EXP(-1/2*((Q178-入力部分!I$26/2)/入力部分!I$34)^2)","v":1.8949725838951674E-4},3.2593528442996879E-2,null,null,172,{"$f":"1/入力部分!$I$35/(2*3.14)^0.5*EXP(-1/2*((V178-入力部分!$I$27/2)/入力部分!$I$35)^2)","v":1.249898464352459E-27},2.1498253586862293E-25]
[null,null,null,null,null,null,null,173,{"$f":"(入力部分!D$7*M179+入力部分!D$8*R179+入力部分!D$9*W179)/(入力部分!D$7+入力部分!D$8+入力部分!D$9)","v":1.4235698663798741E-3},null,null,173,{"$f":"1/入力部分!I$33/(2*3.14)^0.5*EXP(-1/2*((L179-入力部分!I$25)/入力部分!I$33)^2)","v":3.6172793535510944E-3},0.6257893281643393,null,null,173,{"$f":"1/入力部分!I$34/(2*3.14)^0.5*EXP(-1/2*((Q179-入力部分!I$26/2)/入力部分!I$34)^2)","v":1.7890695679523657E-4},3.0950903525575928E-2,null,null,173,{"$f":"1/入力部分!$I$35/(2*3.14)^0.5*EXP(-1/2*((V179-入力部分!$I$27/2)/入力部分!$I$35)^2)","v":6.0704041856043345E-28},1.0501799241095498E-25]
[null,null,null,null,null,null,null,174,{"$f":"(入力部分!D$7*M180+入力部分!D$8*R180+入力部分!D$9*W180)/(入力部分!D$7+入力部分!D$8+入力部分!D$9)","v":1.4156774882629996E-3},null,null,174,{"$f":"1/入力部分!I$33/(2*3.14)^0.5*EXP(-1/2*((L180-入力部分!I$25)/入力部分!I$33)^2)","v":3.60630475575177E-3},0.62749702750080794,null,null,174,{"$f":"1/入力部分!I$34/(2*3.14)^0.5*EXP(-1/2*((Q180-入力部分!I$26/2)/入力部分!I$34)^2)","v":1.68835212949563E-4},2.9377327053223962E-2,null,null,174,{"$f":"1/入力部分!$I$35/(2*3.14)^0.5*EXP(-1/2*((V180-入力部分!$I$27/2)/入力部分!$I$35)^2)","v":2.9351498952228337E-28},5.1071608176877306E-26]
[null,null,null,null,null,null,null,175,{"$f":"(入力部分!D$7*M181+入力部分!D$8*R181+入力部分!D$9*W181)/(入力部分!D$7+入力部分!D$8+入力部分!D$9)","v":1.4078620079792225E-3},null,null,175,{"$f":"1/入力部分!I$33/(2*3.14)^0.5*EXP(-1/2*((L181-入力部分!I$25)/入力部分!I$33)^2)","v":3.5950373589164145E-3},0.62913153781037257,null,null,175,{"$f":"1/入力部分!I$34/(2*3.14)^0.5*EXP(-1/2*((Q181-入力部分!I$26/2)/入力部分!I$34)^2)","v":1.5926132902817987E-4},2.7870732579931477E-2,null,null,175,{"$f":"1/入力部分!$I$35/(2*3.14)^0.5*EXP(-1/2*((V181-入力部分!$I$27/2)/入力部分!$I$35)^2)","v":1.4129043555555078E-28},2.4725826222221387E-26]
[null,null,null,null,null,null,null,176,{"$f":"(入力部分!D$7*M182+入力部分!D$8*R182+入力部分!D$9*W182)/(入力部分!D$7+入力部分!D$8+入力部分!D$9)","v":1.4001169745479227E-3},null,null,176,{"$f":"1/入力部分!I$33/(2*3.14)^0.5*EXP(-1/2*((L182-入力部分!I$25)/入力部分!I$33)^2)","v":3.5834801185414393E-3},0.63069250086329331,null,null,176,{"$f":"1/入力部分!I$34/(2*3.14)^0.5*EXP(-1/2*((Q182-入力部分!I$26/2)/入力部分!I$34)^2)","v":1.5016514691968842E-4},2.6429065857865162E-2,null,null,176,{"$f":"1/入力部分!$I$35/(2*3.14)^0.5*EXP(-1/2*((V182-入力部分!$I$27/2)/入力部分!$I$35)^2)","v":6.771190697242798E-29},1.1917295627147324E-26]
[null,null,null,null,null,null,null,177,{"$f":"(入力部分!D$7*M183+入力部分!D$8*R183+入力部分!D$9*W183)/(入力部分!D$7+入力部分!D$8+入力部分!D$9)","v":1.3924361666642631E-3},null,null,177,{"$f":"1/入力部分!I$33/(2*3.14)^0.5*EXP(-1/2*((L183-入力部分!I$25)/入力部分!I$33)^2)","v":3.5716360594955886E-3},0.63217958253071915,null,null,177,{"$f":"1/入力部分!I$34/(2*3.14)^0.5*EXP(-1/2*((Q183-入力部分!I$26/2)/入力部分!I$34)^2)","v":1.4152705160911299E-4},2.5050288134813001E-2,null,null,177,{"$f":"1/入力部分!$I$35/(2*3.14)^0.5*EXP(-1/2*((V183-入力部分!$I$27/2)/入力部分!$I$35)^2)","v":3.2306293063011079E-29},5.7182138721529612E-27]
[null,null,null,null,null,null,null,178,{"$f":"(入力部分!D$7*M184+入力部分!D$8*R184+入力部分!D$9*W184)/(入力部分!D$7+入力部分!D$8+入力部分!D$9)","v":1.3848135929722173E-3},null,null,178,{"$f":"1/入力部分!I$33/(2*3.14)^0.5*EXP(-1/2*((L184-入力部分!I$25)/入力部分!I$33)^2)","v":3.5595082747013084E-3},0.63359247289683285,null,null,178,{"$f":"1/入力部分!I$34/(2*3.14)^0.5*EXP(-1/2*((Q184-入力部分!I$26/2)/入力部分!I$34)^2)","v":1.3332797322460424E-4},2.3732379233979556E-2,null,null,178,{"$f":"1/入力部分!$I$35/(2*3.14)^0.5*EXP(-1/2*((V184-入力部分!$I$27/2)/入力部分!$I$35)^2)","v":1.5345428291178652E-29},2.7314862358297999E-27]
[null,null,null,null,null,null,null,179,{"$f":"(入力部分!D$7*M185+入力部分!D$8*R185+入力部分!D$9*W185)/(入力部分!D$7+入力部分!D$8+入力部分!D$9)","v":1.3772434918530409E-3},null,null,179,{"$f":"1/入力部分!I$33/(2*3.14)^0.5*EXP(-1/2*((L185-入力部分!I$25)/入力部分!I$33)^2)","v":3.5470999237896083E-3},0.63493088635833994,null,null,179,{"$f":"1/入力部分!I$34/(2*3.14)^0.5*EXP(-1/2*((Q185-入力部分!I$26/2)/入力部分!I$34)^2)","v":1.2554938781850143E-4},2.2473340419511757E-2,null,null,179,{"$f":"1/入力部分!$I$35/(2*3.14)^0.5*EXP(-1/2*((V185-入力部分!$I$27/2)/入力部分!$I$35)^2)","v":7.2567256128954895E-30},1.2989538847082926E-27]
[null,null,null,null,null,null,null,180,{"$f":"(入力部分!D$7*M186+入力部分!D$8*R186+入力部分!D$9*W186)/(入力部分!D$7+入力部分!D$8+入力部分!D$9)","v":1.3697203307560483E-3},null,null,180,{"$f":"1/入力部分!I$33/(2*3.14)^0.5*EXP(-1/2*((L186-入力部分!I$25)/入力部分!I$33)^2)","v":3.5344142317292274E-3},0.63619456171126099,null,null,180,{"$f":"1/入力部分!I$34/(2*3.14)^0.5*EXP(-1/2*((Q186-入力部分!I$26/2)/入力部分!I$34)^2)","v":1.1817331695356751E-4},2.1271197051642151E-2,null,null,180,{"$f":"1/入力部分!$I$35/(2*3.14)^0.5*EXP(-1/2*((V186-入力部分!$I$27/2)/入力部分!$I$35)^2)","v":3.4164273694606481E-30},6.1495692650291666E-28]
[null,null,null,null,null,null,null,181,{"$f":"(入力部分!D$7*M187+入力部分!D$8*R187+入力部分!D$9*W187)/(入力部分!D$7+入力部分!D$8+入力部分!D$9)","v":1.3622388050983445E-3},null,null,181,{"$f":"1/入力部分!I$33/(2*3.14)^0.5*EXP(-1/2*((L187-入力部分!I$25)/入力部分!I$33)^2)","v":3.521454487430937E-3},0.63738326222499964,null,null,181,{"$f":"1/入力部分!I$34/(2*3.14)^0.5*EXP(-1/2*((Q187-入力部分!I$26/2)/入力部分!I$34)^2)","v":1.1118232616464833E-4},2.0124001035801347E-2,null,null,181,{"$f":"1/入力部分!$I$35/(2*3.14)^0.5*EXP(-1/2*((V187-入力部分!$I$27/2)/入力部分!$I$35)^2)","v":1.6013028809539584E-30},2.8983582145266648E-28]
[null,null,null,null,null,null,null,182,{"$f":"(入力部分!D$7*M188+入力部分!D$8*R188+入力部分!D$9*W188)/(入力部分!D$7+入力部分!D$8+入力部分!D$9)","v":1.3547938367599016E-3},null,null,182,{"$f":"1/入力部分!I$33/(2*3.14)^0.5*EXP(-1/2*((L188-入力部分!I$25)/入力部分!I$33)^2)","v":3.5082240423278312E-3},0.63849677570366525,null,null,182,{"$f":"1/入力部分!I$34/(2*3.14)^0.5*EXP(-1/2*((Q188-入力部分!I$26/2)/入力部分!I$34)^2)","v":1.0455952236523994E-4},1.9029833070473668E-2,null,null,182,{"$f":"1/入力部分!$I$35/(2*3.14)^0.5*EXP(-1/2*((V188-入力部分!$I$27/2)/入力部分!$I$35)^2)","v":7.472132766099327E-31},1.3599281634300775E-28]
[null,null,null,null,null,null,null,183,{"$f":"(入力部分!D$7*M189+入力部分!D$8*R189+入力部分!D$9*W189)/(入力部分!D$7+入力部分!D$8+入力部分!D$9)","v":1.3473805721999767E-3},null,null,183,{"$f":"1/入力部分!I$33/(2*3.14)^0.5*EXP(-1/2*((L189-入力部分!I$25)/入力部分!I$33)^2)","v":3.4947263089324526E-3},0.63953491453463884,null,null,183,{"$f":"1/入力部分!I$34/(2*3.14)^0.5*EXP(-1/2*((Q189-入力部分!I$26/2)/入力部分!I$34)^2)","v":9.8288550267485242E-5},1.7986804698949799E-2,null,null,183,{"$f":"1/入力部分!$I$35/(2*3.14)^0.5*EXP(-1/2*((V189-入力部分!$I$27/2)/入力部分!$I$35)^2)","v":3.4712466778257749E-31},6.3523814204211679E-29]
[null,null,null,null,null,null,null,184,{"$f":"(入力部分!D$7*M190+入力部分!D$8*R190+入力部分!D$9*W190)/(入力部分!D$7+入力部分!D$8+入力部分!D$9)","v":1.3399943802204842E-3},null,null,184,{"$f":"1/入力部分!I$33/(2*3.14)^0.5*EXP(-1/2*((L190-入力部分!I$25)/入力部分!I$33)^2)","v":3.4809647593716311E-3},0.64049751572438018,null,null,184,{"$f":"1/入力部分!I$34/(2*3.14)^0.5*EXP(-1/2*((Q190-入力部分!I$26/2)/入力部分!I$34)^2)","v":9.2353587882993779E-5},1.6993060170470857E-2,null,null,184,{"$f":"1/入力部分!$I$35/(2*3.14)^0.5*EXP(-1/2*((V190-入力部分!$I$27/2)/入力部分!$I$35)^2)","v":1.6054477529443875E-31},2.9540238654176733E-29]
[null,null,null,null,null,null,null,185,{"$f":"(入力部分!D$7*M191+入力部分!D$8*R191+入力部分!D$9*W191)/(入力部分!D$7+入力部分!D$8+入力部分!D$9)","v":1.3326308494014348E-3},null,null,185,{"$f":"1/入力部分!I$33/(2*3.14)^0.5*EXP(-1/2*((L191-入力部分!I$25)/入力部分!I$33)^2)","v":3.4669429238999077E-3},0.64138444092148295,null,null,185,{"$f":"1/入力部分!I$34/(2*3.14)^0.5*EXP(-1/2*((Q191-入力部分!I$26/2)/入力部分!I$34)^2)","v":8.6739341170585961E-5},1.6046778116558403E-2,null,null,185,{"$f":"1/入力部分!$I$35/(2*3.14)^0.5*EXP(-1/2*((V191-入力部分!$I$27/2)/入力部分!$I$35)^2)","v":7.3922505529244045E-32},1.3675663522910148E-29]
[null,null,null,null,null,null,null,186,{"$f":"(入力部分!D$7*M192+入力部分!D$8*R192+入力部分!D$9*W192)/(入力部分!D$7+入力部分!D$8+入力部分!D$9)","v":1.3252857852330223E-3},null,null,186,{"$f":"1/入力部分!I$33/(2*3.14)^0.5*EXP(-1/2*((L192-入力部分!I$25)/入力部分!I$33)^2)","v":3.4526643893924387E-3},0.64219557642699354,null,null,186,{"$f":"1/入力部分!I$34/(2*3.14)^0.5*EXP(-1/2*((Q192-入力部分!I$26/2)/入力部分!I$34)^2)","v":8.1431037895621008E-5},1.5146173048585508E-2,null,null,186,{"$f":"1/入力部分!$I$35/(2*3.14)^0.5*EXP(-1/2*((V192-入力部分!$I$27/2)/入力部分!$I$35)^2)","v":3.3886520905349059E-32},6.3028928883949251E-30]
[null,null,null,null,null,null,null,187,{"$f":"(入力部分!D$7*M193+入力部分!D$8*R193+入力部分!D$9*W193)/(入力部分!D$7+入力部分!D$8+入力部分!D$9)","v":1.3179552069683561E-3},null,null,187,{"$f":"1/入力部分!I$33/(2*3.14)^0.5*EXP(-1/2*((L193-入力部分!I$25)/入力部分!I$33)^2)","v":3.4381327978182793E-3},0.64293083319201827,null,null,187,{"$f":"1/入力部分!I$34/(2*3.14)^0.5*EXP(-1/2*((Q193-入力部分!I$26/2)/入力部分!I$34)^2)","v":7.6414420764003789E-5},1.4289496682868708E-2,null,null,187,{"$f":"1/入力部分!$I$35/(2*3.14)^0.5*EXP(-1/2*((V193-入力部分!$I$27/2)/入力部分!$I$35)^2)","v":1.5464899034358438E-32},2.8919361194250277E-30]
[null,null,null,null,null,null,null,188,{"$f":"(入力部分!D$7*M194+入力部分!D$8*R194+入力部分!D$9*W194)/(入力部分!D$7+入力部分!D$8+入力部分!D$9)","v":1.3106353442202086E-3},null,null,188,{"$f":"1/入力部分!I$33/(2*3.14)^0.5*EXP(-1/2*((L194-入力部分!I$25)/入力部分!I$33)^2)","v":3.4233518446949466E-3},0.64359014680264992,null,null,188,{"$f":"1/入力部分!I$34/(2*3.14)^0.5*EXP(-1/2*((Q194-入力部分!I$26/2)/入力部分!I$34)^2)","v":7.1675739892277363E-5},1.3475039099748145E-2,null,null,188,{"$f":"1/入力部分!$I$35/(2*3.14)^0.5*EXP(-1/2*((V194-入力部分!$I$27/2)/入力部分!$I$35)^2)","v":7.0264667859091598E-33},1.320975755750922E-30]
[null,null,null,null,null,null,null,189,{"$f":"(入力部分!D$7*M195+入力部分!D$8*R195+入力部分!D$9*W195)/(入力部分!D$7+入力部分!D$8+入力部分!D$9)","v":1.3033226333244775E-3},null,null,189,{"$f":"1/入力部分!I$33/(2*3.14)^0.5*EXP(-1/2*((L195-入力部分!I$25)/入力部分!I$33)^2)","v":3.408325277525191E-3},0.64417347745226106,null,null,189,{"$f":"1/入力部分!I$34/(2*3.14)^0.5*EXP(-1/2*((Q195-入力部分!I$26/2)/入力部分!I$34)^2)","v":6.720174467341585E-5},1.2701129743275596E-2,null,null,189,{"$f":"1/入力部分!$I$35/(2*3.14)^0.5*EXP(-1/2*((V195-入力部分!$I$27/2)/入力部分!$I$35)^2)","v":3.1783133253263327E-33},6.0070121848667687E-31]
[null,null,null,null,null,null,null,190,{"$f":"(入力部分!D$7*M196+入力部分!D$8*R196+入力部分!D$9*W196)/(入力部分!D$7+入力部分!D$8+入力部分!D$9)","v":1.2960137134923535E-3},null,null,190,{"$f":"1/入力部分!I$33/(2*3.14)^0.5*EXP(-1/2*((L196-入力部分!I$25)/入力部分!I$33)^2)","v":3.3930568942168895E-3},0.64468080990120902,null,null,190,{"$f":"1/入力部分!I$34/(2*3.14)^0.5*EXP(-1/2*((Q196-入力部分!I$26/2)/入力部分!I$34)^2)","v":6.2979675096052609E-5},1.1966138268249996E-2,null,null,190,{"$f":"1/入力部分!$I$35/(2*3.14)^0.5*EXP(-1/2*((V196-入力部分!$I$27/2)/入力部分!$I$35)^2)","v":1.4312853367690299E-33},2.7194421398611569E-31]
[null,null,null,null,null,null,null,191,{"$f":"(入力部分!D$7*M197+入力部分!D$8*R197+入力部分!D$9*W197)/(入力部分!D$7+入力部分!D$8+入力部分!D$9)","v":1.2887054227724692E-3},null,null,191,{"$f":"1/入力部分!I$33/(2*3.14)^0.5*EXP(-1/2*((L197-入力部分!I$25)/入力部分!I$33)^2)","v":3.3775505414869989E-3},0.64511215342401684,null,null,191,{"$f":"1/入力部分!I$34/(2*3.14)^0.5*EXP(-1/2*((Q197-入力部分!I$26/2)/入力部分!I$34)^2)","v":5.8997252572919283E-5},1.1268475241427583E-2,null,null,191,{"$f":"1/入力部分!$I$35/(2*3.14)^0.5*EXP(-1/2*((V197-入力部分!$I$27/2)/入力部分!$I$35)^2)","v":6.4169039347940465E-34},1.225628651545663E-31]
[null,null,null,null,null,null,null,192,{"$f":"(入力部分!D$7*M198+入力部分!D$8*R198+入力部分!D$9*W198)/(入力部分!D$7+入力部分!D$8+入力部分!D$9)","v":1.2813947938435267E-3},null,null,192,{"$f":"1/入力部分!I$33/(2*3.14)^0.5*EXP(-1/2*((L198-入力部分!I$25)/入力部分!I$33)^2)","v":3.3618101132504956E-3},0.64546754174409515,null,null,192,{"$f":"1/入力部分!I$34/(2*3.14)^0.5*EXP(-1/2*((Q198-入力部分!I$26/2)/入力部分!I$34)^2)","v":5.5242670332242551E-5},1.0606592703790569E-2,null,null,192,{"$f":"1/入力部分!$I$35/(2*3.14)^0.5*EXP(-1/2*((V198-入力部分!$I$27/2)/入力部分!$I$35)^2)","v":2.8641427237444769E-34},5.4991540295893957E-32]
[null,null,null,null,null,null,null,193,{"$f":"(入力部分!D$7*M199+入力部分!D$8*R199+入力部分!D$9*W199)/(入力部分!D$7+入力部分!D$8+入力部分!D$9)","v":1.274079049657135E-3},null,null,193,{"$f":"1/入力部分!I$33/(2*3.14)^0.5*EXP(-1/2*((L199-入力部分!I$25)/入力部分!I$33)^2)","v":3.3458395489952587E-3},{"$f":"L199*$M199","v":0.64574703295608493},null,null,193,{"$f":"1/入力部分!I$34/(2*3.14)^0.5*EXP(-1/2*((Q199-入力部分!I$26/2)/入力部分!I$34)^2)","v":5.1704583423768564E-5},{"$f":"Q199*$R199","v":9.9789846007873328E-3},null,null,193,{"$f":"1/入力部分!$I$35/(2*3.14)^0.5*EXP(-1/2*((V199-入力部分!$I$27/2)/入力部分!$I$35)^2)","v":1.2727220719140621E-34},{"$f":"V199*$W199","v":2.4563535987941399E-32}]
[null,null,null,null,null,null,null,194,{"$f":"(入力部分!D$7*M200+入力部分!D$8*R200+入力部分!D$9*W200)/(入力部分!D$7+入力部分!D$8+入力部分!D$9)","v":1.2667555989497952E-3},null,null,194,{"$f":"1/入力部分!I$33/(2*3.14)^0.5*EXP(-1/2*((L200-入力部分!I$25)/入力部分!I$33)^2)","v":3.3296428321438263E-3},0.64595070943590227,null,null,194,{"$f":"1/入力部分!I$34/(2*3.14)^0.5*EXP(-1/2*((Q200-入力部分!I$26/2)/入力部分!I$34)^2)","v":4.8372098388961444E-5},9.38418708745852E-3,null,null,194,{"$f":"1/入力部分!$I$35/(2*3.14)^0.5*EXP(-1/2*((V200-入力部分!$I$27/2)/入力部分!$I$35)^2)","v":5.6304395272842185E-35},1.0923052682931384E-32]
[null,null,null,null,null,null,null,195,{"$f":"(入力部分!D$7*M201+入力部分!D$8*R201+入力部分!D$9*W201)/(入力部分!D$7+入力部分!D$8+入力部分!D$9)","v":1.2594220316421573E-3},null,null,195,{"$f":"1/入力部分!I$33/(2*3.14)^0.5*EXP(-1/2*((L201-入力部分!I$25)/入力部分!I$33)^2)","v":3.3132239884029885E-3},0.64607867773858274,null,null,195,{"$f":"1/入力部分!I$34/(2*3.14)^0.5*EXP(-1/2*((Q201-入力部分!I$26/2)/入力部分!I$34)^2)","v":4.5234762642764872E-5},8.8207787153391504E-3,null,null,195,{"$f":"1/入力部分!$I$35/(2*3.14)^0.5*EXP(-1/2*((V201-入力部分!$I$27/2)/入力部分!$I$35)^2)","v":2.4798237965977816E-35},4.8356564033656742E-33]
[null,null,null,null,null,null,null,196,{"$f":"(入力部分!D$7*M202+入力部分!D$8*R202+入力部分!D$9*W202)/(入力部分!D$7+入力部分!D$8+入力部分!D$9)","v":1.2520761141428646E-3},null,null,196,{"$f":"1/入力部分!I$33/(2*3.14)^0.5*EXP(-1/2*((L202-入力部分!I$25)/入力部分!I$33)^2)","v":3.2965870841021655E-3},0.64613106848402446,null,null,196,{"$f":"1/入力部分!I$34/(2*3.14)^0.5*EXP(-1/2*((Q202-入力部分!I$26/2)/入力部分!I$34)^2)","v":4.2282553612141264E-5},8.2873805079796883E-3,null,null,196,{"$f":"1/入力部分!$I$35/(2*3.14)^0.5*EXP(-1/2*((V202-入力部分!$I$27/2)/入力部分!$I$35)^2)","v":1.0873494780900296E-35},2.1312049770564582E-33]
[null,null,null,null,null,null,null,197,{"$f":"(入力部分!D$7*M203+入力部分!D$8*R203+入力部分!D$9*W203)/(入力部分!D$7+入力部分!D$8+入力部分!D$9)","v":1.2447157845734773E-3},null,null,197,{"$f":"1/入力部分!I$33/(2*3.14)^0.5*EXP(-1/2*((L203-入力部分!I$25)/入力部分!I$33)^2)","v":3.2797362245215278E-3},0.64610803623074098,null,null,197,{"$f":"1/入力部分!I$34/(2*3.14)^0.5*EXP(-1/2*((Q203-入力部分!I$26/2)/入力部分!I$34)^2)","v":3.9505867674412329E-5},7.782655931859229E-3,null,null,197,{"$f":"1/入力部分!$I$35/(2*3.14)^0.5*EXP(-1/2*((V203-入力部分!$I$27/2)/入力部分!$I$35)^2)","v":4.7466507664933154E-36},9.3509020099918313E-34]
[null,null,null,null,null,null,null,198,{"$f":"(入力部分!D$7*M204+入力部分!D$8*R204+入力部分!D$9*W204)/(入力部分!D$7+入力部分!D$8+入力部分!D$9)","v":1.2373391479301413E-3},null,null,198,{"$f":"1/入力部分!I$33/(2*3.14)^0.5*EXP(-1/2*((L204-入力部分!I$25)/入力部分!I$33)^2)","v":3.2626755522108123E-3},0.64600975933774085,null,null,198,{"$f":"1/入力部分!I$34/(2*3.14)^0.5*EXP(-1/2*((Q204-入力部分!I$26/2)/入力部分!I$34)^2)","v":3.6895508936231142E-5},7.3053107693737658E-3,null,null,198,{"$f":"1/入力部分!$I$35/(2*3.14)^0.5*EXP(-1/2*((V204-入力部分!$I$27/2)/入力部分!$I$35)^2)","v":2.0628859195267544E-36},4.0845141206629734E-34]
[null,null,null,null,null,null,null,199,{"$f":"(入力部分!D$7*M205+入力部分!D$8*R205+入力部分!D$9*W205)/(入力部分!D$7+入力部分!D$8+入力部分!D$9)","v":1.2299444711968632E-3},null,null,199,{"$f":"1/入力部分!I$33/(2*3.14)^0.5*EXP(-1/2*((L205-入力部分!I$25)/入力部分!I$33)^2)","v":3.2454092452998064E-3},0.64583643981466143,null,null,199,{"$f":"1/入力部分!I$34/(2*3.14)^0.5*EXP(-1/2*((Q205-入力部分!I$26/2)/入力部分!I$34)^2)","v":3.4442677891828893E-5},6.8540929004739497E-3,null,null,199,{"$f":"1/入力部分!$I$35/(2*3.14)^0.5*EXP(-1/2*((V205-入力部分!$I$27/2)/入力部分!$I$35)^2)","v":8.9255080412718425E-37},1.7761761002130967E-34]
[null,null,null,null,null,null,null,200,{"$f":"(入力部分!D$7*M206+入力部分!D$8*R206+入力部分!D$9*W206)/(入力部分!D$7+入力部分!D$8+入力部分!D$9)","v":1.2225301784244168E-3},null,null,200,{"$f":"1/入力部分!I$33/(2*3.14)^0.5*EXP(-1/2*((L206-入力部分!I$25)/入力部分!I$33)^2)","v":3.2279415158014404E-3},0.64558830316028804,null,null,200,{"$f":"1/入力部分!I$34/(2*3.14)^0.5*EXP(-1/2*((Q206-入力部分!I$26/2)/入力部分!I$34)^2)","v":3.2138959997005063E-5},6.4277919994010129E-3,null,null,200,{"$f":"1/入力部分!$I$35/(2*3.14)^0.5*EXP(-1/2*((V206-入力部分!$I$27/2)/入力部分!$I$35)^2)","v":3.8446825093791835E-37},7.6893650187583666E-35]
[null,null,null,null,null,null,null,201,{"$f":"(入力部分!D$7*M207+入力部分!D$8*R207+入力部分!D$9*W207)/(入力部分!D$7+入力部分!D$8+入力部分!D$9)","v":1.2150948457881154E-3},null,null,201,{"$f":"1/入力部分!I$33/(2*3.14)^0.5*EXP(-1/2*((L207-入力部分!I$25)/入力部分!I$33)^2)","v":3.2102766079084672E-3},0.64526559818960194,null,null,201,{"$f":"1/入力部分!I$34/(2*3.14)^0.5*EXP(-1/2*((Q207-入力部分!I$26/2)/入力部分!I$34)^2)","v":2.9976314193173776E-5},6.0252391528279291E-3,null,null,201,{"$f":"1/入力部分!$I$35/(2*3.14)^0.5*EXP(-1/2*((V207-入力部分!$I$27/2)/入力部分!$I$35)^2)","v":1.6487614349438949E-37},3.3140104842372288E-35]
[null,null,null,null,null,null,null,202,{"$f":"(入力部分!D$7*M208+入力部分!D$8*R208+入力部分!D$9*W208)/(入力部分!D$7+入力部分!D$8+入力部分!D$9)","v":1.2076371966368729E-3},null,null,202,{"$f":"1/入力部分!I$33/(2*3.14)^0.5*EXP(-1/2*((L208-入力部分!I$25)/入力部分!I$33)^2)","v":3.1924187962846747E-3},0.64486859684950426,null,null,202,{"$f":"1/入力部分!I$34/(2*3.14)^0.5*EXP(-1/2*((Q208-入力部分!I$26/2)/入力部分!I$34)^2)","v":2.7947061413653722E-5},5.6453064055580517E-3,null,null,202,{"$f":"1/入力部分!$I$35/(2*3.14)^0.5*EXP(-1/2*((V208-入力部分!$I$27/2)/入力部分!$I$35)^2)","v":7.0392268551781473E-38},1.4219238247459858E-35]
[null,null,null,null,null,null,null,203,{"$f":"(入力部分!D$7*M209+入力部分!D$8*R209+入力部分!D$9*W209)/(入力部分!D$7+入力部分!D$8+入力部分!D$9)","v":1.2001560965452073E-3},null,null,203,{"$f":"1/入力部分!I$33/(2*3.14)^0.5*EXP(-1/2*((L209-入力部分!I$25)/入力部分!I$33)^2)","v":3.1743723843515917E-3},0.64439759402337315,null,null,203,{"$f":"1/入力部分!I$34/(2*3.14)^0.5*EXP(-1/2*((Q209-入力部分!I$26/2)/入力部分!I$34)^2)","v":2.6043873102294918E-5},5.2869062397658687E-3,null,null,203,{"$f":"1/入力部分!$I$35/(2*3.14)^0.5*EXP(-1/2*((V209-入力部分!$I$27/2)/入力部分!$I$35)^2)","v":2.992002174477737E-38},6.0737644141898062E-36]
[null,null,null,null,null,null,null,204,{"$f":"(入力部分!D$7*M210+入力部分!D$8*R210+入力部分!D$9*W210)/(入力部分!D$7+入力部分!D$8+入力部分!D$9)","v":1.1926505483790457E-3},null,null,204,{"$f":"1/入力部分!I$33/(2*3.14)^0.5*EXP(-1/2*((L210-入力部分!I$25)/入力部分!I$33)^2)","v":3.1561417025716423E-3},0.64385290732461498,null,null,204,{"$f":"1/入力部分!I$34/(2*3.14)^0.5*EXP(-1/2*((Q210-入力部分!I$26/2)/入力部分!I$34)^2)","v":2.4259759772479949E-5},4.9489909935859092E-3,null,null,204,{"$f":"1/入力部分!$I$35/(2*3.14)^0.5*EXP(-1/2*((V210-入力部分!$I$27/2)/入力部分!$I$35)^2)","v":1.2661018704512323E-38},2.5828478157205138E-36]
[null,null,null,null,null,null,null,205,{"$f":"(入力部分!D$7*M211+入力部分!D$8*R211+入力部分!D$9*W211)/(入力部分!D$7+入力部分!D$8+入力部分!D$9)","v":1.1851196873854609E-3},null,null,205,{"$f":"1/入力部分!I$33/(2*3.14)^0.5*EXP(-1/2*((L211-入力部分!I$25)/入力部分!I$33)^2)","v":3.1377311067287009E-3},0.64323487687938363,null,null,205,{"$f":"1/入力部分!I$34/(2*3.14)^0.5*EXP(-1/2*((Q211-入力部分!I$26/2)/入力部分!I$34)^2)","v":2.2588059632528354E-5},4.6305522246683131E-3,null,null,205,{"$f":"1/入力部分!$I$35/(2*3.14)^0.5*EXP(-1/2*((V211-入力部分!$I$27/2)/入力部分!$I$35)^2)","v":5.3339040404199949E-39},1.093450328286099E-36]
[null,null,null,null,null,null,null,206,{"$f":"(入力部分!D$7*M212+入力部分!D$8*R212+入力部分!D$9*W212)/(入力部分!D$7+入力部分!D$8+入力部分!D$9)","v":1.1775627763157101E-3},null,null,206,{"$f":"1/入力部分!I$33/(2*3.14)^0.5*EXP(-1/2*((L212-入力部分!I$25)/入力部分!I$33)^2)","v":3.1191449762069902E-3},0.64254386509863992,null,null,206,{"$f":"1/入力部分!I$34/(2*3.14)^0.5*EXP(-1/2*((Q212-入力部分!I$26/2)/入力部分!I$34)^2)","v":2.1022427301570778E-5},4.3306200241235802E-3,null,null,206,{"$f":"1/入力部分!$I$35/(2*3.14)^0.5*EXP(-1/2*((V212-入力部分!$I$27/2)/入力部分!$I$35)^2)","v":2.2371316827077073E-39},4.6084912663778767E-37]
[null,null,null,null,null,null,null,207,{"$f":"(入力部分!D$7*M213+入力部分!D$8*R213+入力部分!D$9*W213)/(入力部分!D$7+入力部分!D$8+入力部分!D$9)","v":1.1699792005902471E-3},null,null,207,{"$f":"1/入力部分!I$33/(2*3.14)^0.5*EXP(-1/2*((L213-入力部分!I$25)/入力部分!I$33)^2)","v":3.1003877122692757E-3},0.64178025643974002,null,null,207,{"$f":"1/入力部分!I$34/(2*3.14)^0.5*EXP(-1/2*((Q213-入力部分!I$26/2)/入力部分!I$34)^2)","v":1.955682263805044E-5},4.0482622860764407E-3,null,null,207,{"$f":"1/入力部分!$I$35/(2*3.14)^0.5*EXP(-1/2*((V213-入力部分!$I$27/2)/入力部分!$I$35)^2)","v":9.3413081955615074E-40},1.9336507964812322E-37]
[null,null,null,null,null,null,null,208,{"$f":"(入力部分!D$7*M214+入力部分!D$8*R214+入力部分!D$9*W214)/(入力部分!D$7+入力部分!D$8+入力部分!D$9)","v":1.162368463513666E-3},null,null,208,{"$f":"1/入力部分!I$33/(2*3.14)^0.5*EXP(-1/2*((L214-入力部分!I$25)/入力部分!I$33)^2)","v":3.0814637363352848E-3},0.64094445715773929,null,null,208,{"$f":"1/入力部分!I$34/(2*3.14)^0.5*EXP(-1/2*((Q214-入力部分!I$26/2)/入力部分!I$34)^2)","v":1.8185499701158063E-5},3.782583937840877E-3,null,null,208,{"$f":"1/入力部分!$I$35/(2*3.14)^0.5*EXP(-1/2*((V214-入力部分!$I$27/2)/入力部分!$I$35)^2)","v":3.8832348418940506E-40},8.0771284711396255E-38]
[null,null,null,null,null,null,null,209,{"$f":"(入力部分!D$7*M215+入力部分!D$8*R215+入力部分!D$9*W215)/(入力部分!D$7+入力部分!D$8+入力部分!D$9)","v":1.1547301815468748E-3},null,null,209,{"$f":"1/入力部分!I$33/(2*3.14)^0.5*EXP(-1/2*((L215-入力部分!I$25)/入力部分!I$33)^2)","v":3.0623774882612867E-3},0.64003689504660888,null,null,209,{"$f":"1/入力部分!I$34/(2*3.14)^0.5*EXP(-1/2*((Q215-入力部分!I$26/2)/入力部分!I$34)^2)","v":1.6902995863713567E-5},3.5327261355161356E-3,null,null,209,{"$f":"1/入力部分!$I$35/(2*3.14)^0.5*EXP(-1/2*((V215-入力部分!$I$27/2)/入力部分!$I$35)^2)","v":1.6071240964344944E-40},3.3588893615480935E-38]
[null,null,null,null,null,null,null,210,{"$f":"(入力部分!D$7*M216+入力部分!D$8*R216+入力部分!D$9*W216)/(入力部分!D$7+入力部分!D$8+入力部分!D$9)","v":1.1470640796431403E-3},null,null,210,{"$f":"1/入力部分!I$33/(2*3.14)^0.5*EXP(-1/2*((L216-入力部分!I$25)/入力部分!I$33)^2)","v":3.0431334246217643E-3},0.63905801917057048,null,null,210,{"$f":"1/入力部分!I$34/(2*3.14)^0.5*EXP(-1/2*((Q216-入力部分!I$26/2)/入力部分!I$34)^2)","v":1.5704121093277201E-5},3.2978654295882123E-3,null,null,210,{"$f":"1/入力部分!$I$35/(2*3.14)^0.5*EXP(-1/2*((V216-入力部分!$I$27/2)/入力部分!$I$35)^2)","v":6.6217834204343241E-41},1.390574518291208E-38]
[null,null,null,null,null,null,null,211,{"$f":"(入力部分!D$7*M217+入力部分!D$8*R217+入力部分!D$9*W217)/(入力部分!D$7+入力部分!D$8+入力部分!D$9)","v":1.1393699866540112E-3},null,null,211,{"$f":"1/入力部分!I$33/(2*3.14)^0.5*EXP(-1/2*((L217-入力部分!I$25)/入力部分!I$33)^2)","v":3.0237360169940893E-3},0.63800829958575278,null,null,211,{"$f":"1/入力部分!I$34/(2*3.14)^0.5*EXP(-1/2*((Q217-入力部分!I$26/2)/入力部分!I$34)^2)","v":1.4583947416607285E-5},3.077212904904137E-3,null,null,211,{"$f":"1/入力部分!$I$35/(2*3.14)^0.5*EXP(-1/2*((V217-入力部分!$I$27/2)/入力部分!$I$35)^2)","v":2.7162537180737384E-41},5.7312953451355879E-39]
[null,null,null,null,null,null,null,212,{"$f":"(入力部分!D$7*M218+入力部分!D$8*R218+入力部分!D$9*W218)/(入力部分!D$7+入力部分!D$8+入力部分!D$9)","v":1.1316478308105375E-3},null,null,212,{"$f":"1/入力部分!I$33/(2*3.14)^0.5*EXP(-1/2*((L218-入力部分!I$25)/入力部分!I$33)^2)","v":3.0041897502471183E-3},0.63688822705238912,null,null,212,{"$f":"1/入力部分!I$34/(2*3.14)^0.5*EXP(-1/2*((Q218-入力部分!I$26/2)/入力部分!I$34)^2)","v":1.3537798580982164E-5},2.8700132991682187E-3,null,null,212,{"$f":"1/入力部分!$I$35/(2*3.14)^0.5*EXP(-1/2*((V218-入力部分!$I$27/2)/入力部分!$I$35)^2)","v":1.109265479227161E-41},2.3516428159615813E-39]
[null,null,null,null,null,null,null,213,{"$f":"(入力部分!D$7*M219+入力部分!D$8*R219+入力部分!D$9*W219)/(入力部分!D$7+入力部分!D$8+入力部分!D$9)","v":1.1238976352846181E-3},null,null,213,{"$f":"1/入力部分!I$33/(2*3.14)^0.5*EXP(-1/2*((L219-入力部分!I$25)/入力部分!I$33)^2)","v":2.9844991208346112E-3},0.63569831273777222,null,null,213,{"$f":"1/入力部分!I$34/(2*3.14)^0.5*EXP(-1/2*((Q219-入力部分!I$26/2)/入力部分!I$34)^2)","v":1.2561239924370959E-5},2.6755441038910145E-3,null,null,213,{"$f":"1/入力部分!$I$35/(2*3.14)^0.5*EXP(-1/2*((V219-入力部分!$I$27/2)/入力部分!$I$35)^2)","v":4.5099368845138327E-42},9.6061655640144641E-40]
[null,null,null,null,null,null,null,214,{"$f":"(入力部分!D$7*M220+入力部分!D$8*R220+入力部分!D$9*W220)/(入力部分!D$7+入力部分!D$8+入力部分!D$9)","v":1.1161195138347543E-3},null,null,214,{"$f":"1/入力部分!I$33/(2*3.14)^0.5*EXP(-1/2*((L220-入力部分!I$25)/入力部分!I$33)^2)","v":2.9646686350943705E-3},0.63443908791019532,null,null,214,{"$f":"1/入力部分!I$34/(2*3.14)^0.5*EXP(-1/2*((Q220-入力部分!I$26/2)/入力部分!I$34)^2)","v":1.1650068464975002E-5},2.4931146515046504E-3,null,null,214,{"$f":"1/入力部分!$I$35/(2*3.14)^0.5*EXP(-1/2*((V220-入力部分!$I$27/2)/入力部分!$I$35)^2)","v":1.8254722385439934E-42},3.9065105904841457E-40]
[null,null,null,null,null,null,null,215,{"$f":"(入力部分!D$7*M221+入力部分!D$8*R221+入力部分!D$9*W221)/(入力部分!D$7+入力部分!D$8+入力部分!D$9)","v":1.1083136665399665E-3},null,null,215,{"$f":"1/入力部分!I$33/(2*3.14)^0.5*EXP(-1/2*((L221-入力部分!I$25)/入力部分!I$33)^2)","v":2.9447028075539777E-3},0.63311110362410516,null,null,215,{"$f":"1/入力部分!I$34/(2*3.14)^0.5*EXP(-1/2*((Q221-入力部分!I$26/2)/入力部分!I$34)^2)","v":1.0800303219266971E-5},2.3220651921423987E-3,null,null,215,{"$f":"1/入力部分!$I$35/(2*3.14)^0.5*EXP(-1/2*((V221-入力部分!$I$27/2)/入力部分!$I$35)^2)","v":7.3561369094596255E-43},1.5815694355338196E-40]
[null,null,null,null,null,null,null,216,{"$f":"(入力部分!D$7*M222+入力部分!D$8*R222+入力部分!D$9*W222)/(入力部分!D$7+入力部分!D$8+入力部分!D$9)","v":1.1004803756251296E-3},null,null,216,{"$f":"1/入力部分!I$33/(2*3.14)^0.5*EXP(-1/2*((L222-入力部分!I$25)/入力部分!I$33)^2)","v":2.9246061592440157E-3},0.63171493039670734,null,null,216,{"$f":"1/入力部分!I$34/(2*3.14)^0.5*EXP(-1/2*((Q222-入力部分!I$26/2)/入力部分!I$34)^2)","v":1.0008175756329678E-5},2.1617659633672106E-3,null,null,216,{"$f":"1/入力部分!$I$35/(2*3.14)^0.5*EXP(-1/2*((V222-入力部分!$I$27/2)/入力部分!$I$35)^2)","v":2.9511696555609775E-43},6.3745264560117118E-41]
[null,null,null,null,null,null,null,217,{"$f":"(入力部分!D$7*M223+入力部分!D$8*R223+入力部分!D$9*W223)/(入力部分!D$7+入力部分!D$8+入力部分!D$9)","v":1.0926200013805017E-3},null,null,217,{"$f":"1/入力部分!I$33/(2*3.14)^0.5*EXP(-1/2*((L223-入力部分!I$25)/入力部分!I$33)^2)","v":2.9043832160196301E-3},0.63025115787625974,null,null,217,{"$f":"1/入力部分!I$34/(2*3.14)^0.5*EXP(-1/2*((Q223-入力部分!I$26/2)/入力部分!I$34)^2)","v":9.2701209950411307E-6},2.0116162559239252E-3,null,null,217,{"$f":"1/入力部分!$I$35/(2*3.14)^0.5*EXP(-1/2*((V223-入力部分!$I$27/2)/入力部分!$I$35)^2)","v":1.1787137568663174E-43},2.5578088523999085E-41]
[null,null,null,null,null,null,null,218,{"$f":"(入力部分!D$7*M224+入力部分!D$8*R224+入力部分!D$9*W224)/(入力部分!D$7+入力部分!D$8+入力部分!D$9)","v":1.084732978177785E-3},null,null,218,{"$f":"1/入力部分!I$33/(2*3.14)^0.5*EXP(-1/2*((L224-入力部分!I$25)/入力部分!I$33)^2)","v":2.8840385068912935E-3},0.62872039450230199,null,null,218,{"$f":"1/入力部分!I$34/(2*3.14)^0.5*EXP(-1/2*((Q224-入力部分!I$26/2)/入力部分!I$34)^2)","v":8.5827682494662354E-6},1.8710434783836393E-3,null,null,218,{"$f":"1/入力部分!$I$35/(2*3.14)^0.5*EXP(-1/2*((V224-入力部分!$I$27/2)/入力部分!$I$35)^2)","v":4.686971687010339E-44},1.0217598277682539E-41]
[null,null,null,null,null,null,null,219,{"$f":"(入力部分!D$7*M225+入力部分!D$8*R225+入力部分!D$9*W225)/(入力部分!D$7+入力部分!D$8+入力部分!D$9)","v":1.0768198105846143E-3},null,null,219,{"$f":"1/入力部分!I$33/(2*3.14)^0.5*EXP(-1/2*((L225-入力部分!I$25)/入力部分!I$33)^2)","v":2.8635765623656077E-3},0.6271232671580681,null,null,219,{"$f":"1/入力部分!I$34/(2*3.14)^0.5*EXP(-1/2*((Q225-入力部分!I$26/2)/入力部分!I$34)^2)","v":7.9429325266973964E-6},1.7395022233467298E-3,null,null,219,{"$f":"1/入力部分!$I$35/(2*3.14)^0.5*EXP(-1/2*((V225-入力部分!$I$27/2)/入力部分!$I$35)^2)","v":1.8554365615178498E-44},4.0634060697240911E-42]
[null,null,null,null,null,null,null,220,{"$f":"(入力部分!D$7*M226+入力部分!D$8*R226+入力部分!D$9*W226)/(入力部分!D$7+入力部分!D$8+入力部分!D$9)","v":1.0688810695789921E-3},null,null,220,{"$f":"1/入力部分!I$33/(2*3.14)^0.5*EXP(-1/2*((L226-入力部分!I$25)/入力部分!I$33)^2)","v":2.8430019127969764E-3},0.62546042081533482,null,null,220,{"$f":"1/入力部分!I$34/(2*3.14)^0.5*EXP(-1/2*((Q226-入力部分!I$26/2)/入力部分!I$34)^2)","v":7.3476060803366505E-6},1.6164733376740632E-3,null,null,220,{"$f":"1/入力部分!$I$35/(2*3.14)^0.5*EXP(-1/2*((V226-入力部分!$I$27/2)/入力部分!$I$35)^2)","v":7.3125642101145705E-45},1.6087641262252054E-42]
[null,null,null,null,null,null,null,221,{"$f":"(入力部分!D$7*M227+入力部分!D$8*R227+入力部分!D$9*W227)/(入力部分!D$7+入力部分!D$8+入力部分!D$9)","v":1.0609173888647984E-3},null,null,221,{"$f":"1/入力部分!I$33/(2*3.14)^0.5*EXP(-1/2*((L227-入力部分!I$25)/入力部分!I$33)^2)","v":2.8223190867509673E-3},0.62373251817196373,null,null,221,{"$f":"1/入力部分!I$34/(2*3.14)^0.5*EXP(-1/2*((Q227-入力部分!I$26/2)/入力部分!I$34)^2)","v":6.7939502218287508E-6},1.5014629990241538E-3,null,null,221,{"$f":"1/入力部分!$I$35/(2*3.14)^0.5*EXP(-1/2*((V227-入力部分!$I$27/2)/入力部分!$I$35)^2)","v":2.8692148985435883E-45},6.3409649257813305E-43]
[null,null,null,null,null,null,null,222,{"$f":"(入力部分!D$7*M228+入力部分!D$8*R228+入力部分!D$9*W228)/(入力部分!D$7+入力部分!D$8+入力部分!D$9)","v":1.0529294612891659E-3},null,null,222,{"$f":"1/入力部分!I$33/(2*3.14)^0.5*EXP(-1/2*((L228-入力部分!I$25)/入力部分!I$33)^2)","v":2.8015326093801729E-3},0.62194023928239839,null,null,222,{"$f":"1/入力部分!I$34/(2*3.14)^0.5*EXP(-1/2*((Q228-入力部分!I$26/2)/入力部分!I$34)^2)","v":6.279287390936513E-6},1.394001800787906E-3,null,null,222,{"$f":"1/入力部分!$I$35/(2*3.14)^0.5*EXP(-1/2*((V228-入力部分!$I$27/2)/入力部分!$I$35)^2)","v":1.1207952049965032E-45},2.4881653550922374E-43]
[null,null,null,null,null,null,null,223,{"$f":"(入力部分!D$7*M229+入力部分!D$8*R229+入力部分!D$9*W229)/(入力部分!D$7+入力部分!D$8+入力部分!D$9)","v":1.0449180353621782E-3},null,null,223,{"$f":"1/入力部分!I$33/(2*3.14)^0.5*EXP(-1/2*((L229-入力部分!I$25)/入力部分!I$33)^2)","v":2.7806470008133453E-3},0.62008428118137604,null,null,223,{"$f":"1/入力部分!I$34/(2*3.14)^0.5*EXP(-1/2*((Q229-入力部分!I$26/2)/入力部分!I$34)^2)","v":5.8010934857965415E-6},1.2936438473326287E-3,null,null,223,{"$f":"1/入力部分!$I$35/(2*3.14)^0.5*EXP(-1/2*((V229-入力部分!$I$27/2)/入力部分!$I$35)^2)","v":4.3587228336353252E-46},9.719951919006775E-44]
[null,null,null,null,null,null,null,224,{"$f":"(入力部分!D$7*M230+入力部分!D$8*R230+入力部分!D$9*W230)/(入力部分!D$7+入力部分!D$8+入力部分!D$9)","v":1.0368839118790505E-3},null,null,224,{"$f":"1/入力部分!I$33/(2*3.14)^0.5*EXP(-1/2*((L230-入力部分!I$25)/入力部分!I$33)^2)","v":2.7596667745585996E-3},0.61816535750112633,null,null,224,{"$f":"1/入力部分!I$34/(2*3.14)^0.5*EXP(-1/2*((Q230-入力部分!I$26/2)/入力部分!I$34)^2)","v":5.3569904522021404E-6},1.1999658612932794E-3,null,null,224,{"$f":"1/入力部分!$I$35/(2*3.14)^0.5*EXP(-1/2*((V230-入力部分!$I$27/2)/入力部分!$I$35)^2)","v":1.6875709671622471E-46},3.7801589664434333E-44]
[null,null,null,null,null,null,null,225,{"$f":"(入力部分!D$7*M231+入力部分!D$8*R231+入力部分!D$9*W231)/(入力部分!D$7+入力部分!D$8+入力部分!D$9)","v":1.028827940644676E-3},null,null,225,{"$f":"1/入力部分!I$33/(2*3.14)^0.5*EXP(-1/2*((L231-入力部分!I$25)/入力部分!I$33)^2)","v":2.7385964359214398E-3},0.61618419808232394,null,null,225,{"$f":"1/入力部分!I$34/(2*3.14)^0.5*EXP(-1/2*((Q231-入力部分!I$26/2)/入力部分!I$34)^2)","v":4.9447391310297893E-6},1.1125663044817026E-3,null,null,225,{"$f":"1/入力部分!$I$35/(2*3.14)^0.5*EXP(-1/2*((V231-入力部分!$I$27/2)/入力部分!$I$35)^2)","v":6.5048103507332741E-47},1.4635823289149866E-44]
[null,null,null,null,null,null,null,226,{"$f":"(入力部分!D$7*M232+入力部分!D$8*R232+入力部分!D$9*W232)/(入力部分!D$7+入力部分!D$8+入力部分!D$9)","v":1.0207510173001508E-3},null,null,226,{"$f":"1/入力部分!I$33/(2*3.14)^0.5*EXP(-1/2*((L232-入力部分!I$25)/入力部分!I$33)^2)","v":2.7174404804383486E-3},0.61414154857906678,null,null,226,{"$f":"1/入力部分!I$34/(2*3.14)^0.5*EXP(-1/2*((Q232-入力部分!I$26/2)/入力部分!I$34)^2)","v":4.5622323620541487E-6},1.0310645138242377E-3,null,null,226,{"$f":"1/入力部分!$I$35/(2*3.14)^0.5*EXP(-1/2*((V232-入力部分!$I$27/2)/入力部分!$I$35)^2)","v":2.4961865302307653E-47},5.6413815583215298E-45]
[null,null,null,null,null,null,null,227,{"$f":"(入力部分!D$7*M233+入力部分!D$8*R233+入力部分!D$9*W233)/(入力部分!D$7+入力部分!D$8+入力部分!D$9)","v":1.0126540802506772E-3},null,null,227,{"$f":"1/入力部分!I$33/(2*3.14)^0.5*EXP(-1/2*((L233-入力部分!I$25)/入力部分!I$33)^2)","v":2.6962033923266905E-3},0.61203817005815875,null,null,227,{"$f":"1/入力部分!I$34/(2*3.14)^0.5*EXP(-1/2*((Q233-入力部分!I$26/2)/入力部分!I$34)^2)","v":4.2074883417823737E-6},9.5509985358459889E-4,null,null,227,{"$f":"1/入力部分!$I$35/(2*3.14)^0.5*EXP(-1/2*((V233-入力部分!$I$27/2)/入力部分!$I$35)^2)","v":9.5365048475506112E-48},2.1647866003939887E-45]
[null,null,null,null,null,null,null,228,{"$f":"(入力部分!D$7*M234+入力部分!D$8*R234+入力部分!D$9*W234)/(入力部分!D$7+入力部分!D$8+入力部分!D$9)","v":1.0045381076939995E-3},null,null,228,{"$f":"1/入力部分!I$33/(2*3.14)^0.5*EXP(-1/2*((L234-入力部分!I$25)/入力部分!I$33)^2)","v":2.6748896429516205E-3},0.60987483859296943,null,null,228,{"$f":"1/入力部分!I$34/(2*3.14)^0.5*EXP(-1/2*((Q234-入力部分!I$26/2)/入力部分!I$34)^2)","v":3.8786442323784687E-6},8.843308849822908E-4,null,null,228,{"$f":"1/入力部分!$I$35/(2*3.14)^0.5*EXP(-1/2*((V234-入力部分!$I$27/2)/入力部分!$I$35)^2)","v":3.6271977609733567E-48},8.2700108950192529E-46]
[null,null,null,null,null,null,null,229,{"$f":"(入力部分!D$7*M235+入力部分!D$8*R235+入力部分!D$9*W235)/(入力部分!D$7+入力部分!D$8+入力部分!D$9)","v":9.9640411474835947E-4},null,null,229,{"$f":"1/入力部分!I$33/(2*3.14)^0.5*EXP(-1/2*((L235-入力部分!I$25)/入力部分!I$33)^2)","v":2.6535036893107168E-3},0.60765234485215414,null,null,229,{"$f":"1/入力部分!I$34/(2*3.14)^0.5*EXP(-1/2*((Q235-入力部分!I$26/2)/入力部分!I$34)^2)","v":3.5739500182421758E-6},8.1843455417745831E-4,null,null,229,{"$f":"1/入力部分!$I$35/(2*3.14)^0.5*EXP(-1/2*((V235-入力部分!$I$27/2)/入力部分!$I$35)^2)","v":1.3734822075472819E-48},3.1452742552832754E-46]
[null,null,null,null,null,null,null,230,{"$f":"(入力部分!D$7*M236+入力部分!D$8*R236+入力部分!D$9*W236)/(入力部分!D$7+入力部分!D$8+入力部分!D$9)","v":9.882531506787617E-4},null,null,230,{"$f":"1/入力部分!I$33/(2*3.14)^0.5*EXP(-1/2*((L236-入力部分!I$25)/入力部分!I$33)^2)","v":2.632049972537014E-3},0.60537149368351328,null,null,230,{"$f":"1/入力部分!I$34/(2*3.14)^0.5*EXP(-1/2*((Q236-入力部分!I$26/2)/入力部分!I$34)^2)","v":3.2917626063506459E-6},7.5710539946064858E-4,null,null,230,{"$f":"1/入力部分!$I$35/(2*3.14)^0.5*EXP(-1/2*((V236-入力部分!$I$27/2)/入力部分!$I$35)^2)","v":5.1777925138322341E-49},1.1908922781814139E-46]
[null,null,null,null,null,null,null,231,{"$f":"(入力部分!D$7*M237+入力部分!D$8*R237+入力部分!D$9*W237)/(入力部分!D$7+入力部分!D$8+入力部分!D$9)","v":9.8008629622018577E-4},null,null,231,{"$f":"1/入力部分!I$33/(2*3.14)^0.5*EXP(-1/2*((L237-入力部分!I$25)/入力部分!I$33)^2)","v":2.6105329164210992E-3},0.6030331036932739,null,null,231,{"$f":"1/入力部分!I$34/(2*3.14)^0.5*EXP(-1/2*((Q237-入力部分!I$26/2)/入力部分!I$34)^2)","v":3.0305401660633647E-6},7.000547783606372E-4,null,null,231,{"$f":"1/入力部分!$I$35/(2*3.14)^0.5*EXP(-1/2*((V237-入力部分!$I$27/2)/入力部分!$I$35)^2)","v":1.9432829979909181E-49},4.4889837253590206E-47]
[null,null,null,null,null,null,null,232,{"$f":"(入力部分!D$7*M238+入力部分!D$8*R238+入力部分!D$9*W238)/(入力部分!D$7+入力部分!D$8+入力部分!D$9)","v":9.7190466099624612E-4},null,null,232,{"$f":"1/入力部分!I$33/(2*3.14)^0.5*EXP(-1/2*((L238-入力部分!I$25)/入力部分!I$33)^2)","v":2.5889569259529271E-3},0.60063800682107904,null,null,232,{"$f":"1/入力部分!I$34/(2*3.14)^0.5*EXP(-1/2*((Q238-入力部分!I$26/2)/入力部分!I$34)^2)","v":2.7888367037295513E-6},6.4701011526525595E-4,null,null,232,{"$f":"1/入力部分!$I$35/(2*3.14)^0.5*EXP(-1/2*((V238-入力部分!$I$27/2)/入力部分!$I$35)^2)","v":7.2610137811144376E-50},1.6845551972185496E-47]
[null,null,null,null,null,null,null,233,{"$f":"(入力部分!D$7*M239+入力部分!D$8*R239+入力部分!D$9*W239)/(入力部分!D$7+入力部分!D$8+入力部分!D$9)","v":9.6370938103166042E-4},null,null,233,{"$f":"1/入力部分!I$33/(2*3.14)^0.5*EXP(-1/2*((L239-入力部分!I$25)/入力部分!I$33)^2)","v":2.5673263858839749E-3},0.59818704791096611,null,null,233,{"$f":"1/入力部分!I$34/(2*3.14)^0.5*EXP(-1/2*((Q239-入力部分!I$26/2)/入力部分!I$34)^2)","v":2.5652968671196061E-6},5.9771417003886824E-4,null,null,233,{"$f":"1/入力部分!$I$35/(2*3.14)^0.5*EXP(-1/2*((V239-入力部分!$I$27/2)/入力部分!$I$35)^2)","v":2.7010229441758712E-50},6.2933834599297796E-48]
[null,null,null,null,null,null,null,234,{"$f":"(入力部分!D$7*M240+入力部分!D$8*R240+入力部分!D$9*W240)/(入力部分!D$7+入力部分!D$8+入力部分!D$9)","v":9.5550161635679491E-4},null,null,234,{"$f":"1/入力部分!I$33/(2*3.14)^0.5*EXP(-1/2*((L240-入力部分!I$25)/入力部分!I$33)^2)","v":2.5456456593103602E-3},0.59568108427862432,null,null,234,{"$f":"1/入力部分!I$34/(2*3.14)^0.5*EXP(-1/2*((Q240-入力部分!I$26/2)/入力部分!I$34)^2)","v":2.3586509744262191E-6},5.5192432801573531E-4,null,null,234,{"$f":"1/入力部分!$I$35/(2*3.14)^0.5*EXP(-1/2*((V240-入力部分!$I$27/2)/入力部分!$I$35)^2)","v":1.0002972803168287E-50},2.3406956359413792E-48]
[null,null,null,null,null,null,null,235,{"$f":"(入力部分!D$7*M241+入力部分!D$8*R241+入力部分!D$9*W241)/(入力部分!D$7+入力部分!D$8+入力部分!D$9)","v":9.4728254870244635E-4},null,null,235,{"$f":"1/入力部分!I$33/(2*3.14)^0.5*EXP(-1/2*((L241-入力部分!I$25)/入力部分!I$33)^2)","v":2.5239190862775128E-3},0.59312098527521551,null,null,235,{"$f":"1/入力部分!I$34/(2*3.14)^0.5*EXP(-1/2*((Q241-入力部分!I$26/2)/入力部分!I$34)^2)","v":2.167710262344405E-6},5.0941191165093517E-4,null,null,235,{"$f":"1/入力部分!$I$35/(2*3.14)^0.5*EXP(-1/2*((V241-入力部分!$I$27/2)/入力部分!$I$35)^2)","v":3.6880746667488786E-51},8.6669754668598649E-49]
[null,null,null,null,null,null,null,236,{"$f":"(入力部分!D$7*M242+入力部分!D$8*R242+入力部分!D$9*W242)/(入力部分!D$7+入力部分!D$8+入力部分!D$9)","v":9.3905337928294167E-4},null,null,236,{"$f":"1/入力部分!I$33/(2*3.14)^0.5*EXP(-1/2*((L242-入力部分!I$25)/入力部分!I$33)^2)","v":2.5021509824069712E-3},0.59050763184804522,null,null,236,{"$f":"1/入力部分!I$34/(2*3.14)^0.5*EXP(-1/2*((Q242-入力部分!I$26/2)/入力部分!I$34)^2)","v":1.9913623475401355E-6},4.6996151401947197E-4,null,null,236,{"$f":"1/入力部分!$I$35/(2*3.14)^0.5*EXP(-1/2*((V242-入力部分!$I$27/2)/入力部分!$I$35)^2)","v":1.3537551575249329E-51},3.1948621717588415E-49]
[null,null,null,null,null,null,null,237,{"$f":"(入力部分!D$7*M243+入力部分!D$8*R243+入力部分!D$9*W243)/(入力部分!D$7+入力部分!D$8+入力部分!D$9)","v":9.3081532666557055E-4},null,null,237,{"$f":"1/入力部分!I$33/(2*3.14)^0.5*EXP(-1/2*((L243-入力部分!I$25)/入力部分!I$33)^2)","v":2.4803456375458686E-3},0.58784191609837089,null,null,237,{"$f":"1/入力部分!I$34/(2*3.14)^0.5*EXP(-1/2*((Q243-入力部分!I$26/2)/入力部分!I$34)^2)","v":1.8285668956530372E-6},4.333703542697698E-4,null,null,237,{"$f":"1/入力部分!$I$35/(2*3.14)^0.5*EXP(-1/2*((V243-入力部分!$I$27/2)/入力部分!$I$35)^2)","v":4.9470960875711583E-52},1.1724617727543646E-49]
[null,null,null,null,null,null,null,238,{"$f":"(入力部分!D$7*M244+入力部分!D$8*R244+入力部分!D$9*W244)/(入力部分!D$7+入力部分!D$8+入力部分!D$9)","v":9.2256962472430954E-4},null,null,238,{"$f":"1/入力部分!I$33/(2*3.14)^0.5*EXP(-1/2*((L244-入力部分!I$25)/入力部分!I$33)^2)","v":2.4585073144396453E-3},0.58512474083663557,null,null,238,{"$f":"1/入力部分!I$34/(2*3.14)^0.5*EXP(-1/2*((Q244-入力部分!I$26/2)/入力部分!I$34)^2)","v":1.6783514918467496E-6},3.9944765505952641E-4,null,null,238,{"$f":"1/入力部分!$I$35/(2*3.14)^0.5*EXP(-1/2*((V244-入力部分!$I$27/2)/入力部分!$I$35)^2)","v":1.7998253714742093E-52},4.2835843841086182E-50]
[null,null,null,null,null,null,null,239,{"$f":"(入力部分!D$7*M245+入力部分!D$8*R245+入力部分!D$9*W245)/(入力部分!D$7+入力部分!D$8+入力部分!D$9)","v":9.1431752067574362E-4},null,null,239,{"$f":"1/入力部分!I$33/(2*3.14)^0.5*EXP(-1/2*((L245-入力部分!I$25)/入力部分!I$33)^2)","v":2.4366402474284973E-3},0.58235701913541082,null,null,239,{"$f":"1/入力部分!I$34/(2*3.14)^0.5*EXP(-1/2*((Q245-入力部分!I$26/2)/入力部分!I$34)^2)","v":1.5398077068193437E-6},3.6801404192982317E-4,null,null,239,{"$f":"1/入力部分!$I$35/(2*3.14)^0.5*EXP(-1/2*((V245-入力部分!$I$27/2)/入力部分!$I$35)^2)","v":6.5189882126429581E-53},1.558038182821667E-50]
[null,null,null,null,null,null,null,240,{"$f":"(入力部分!D$7*M246+入力部分!D$8*R246+入力部分!D$9*W246)/(入力部分!D$7+入力部分!D$8+入力部分!D$9)","v":9.0606027319507191E-4},null,null,240,{"$f":"1/入力部分!I$33/(2*3.14)^0.5*EXP(-1/2*((L246-入力部分!I$25)/入力部分!I$33)^2)","v":2.4147486411680778E-3},0.57953967388033867,null,null,240,{"$f":"1/入力部分!I$34/(2*3.14)^0.5*EXP(-1/2*((Q246-入力部分!I$26/2)/入力部分!I$34)^2)","v":1.4120873521137562E-6},3.389009645073015E-4,null,null,240,{"$f":"1/入力部分!$I$35/(2*3.14)^0.5*EXP(-1/2*((V246-入力部分!$I$27/2)/入力部分!$I$35)^2)","v":2.3507141645269664E-53},5.6417139948647192E-51]
[null,null,null,null,null,null,null,241,{"$f":"(入力部分!D$7*M247+入力部分!D$8*R247+入力部分!D$9*W247)/(入力部分!D$7+入力部分!D$8+入力部分!D$9)","v":8.9779915061003726E-4},null,null,241,{"$f":"1/入力部分!I$33/(2*3.14)^0.5*EXP(-1/2*((L247-入力部分!I$25)/入力部分!I$33)^2)","v":2.3928366693749112E-3},0.57667363731935362,null,null,241,{"$f":"1/入力部分!I$34/(2*3.14)^0.5*EXP(-1/2*((Q247-入力部分!I$26/2)/入力部分!I$34)^2)","v":1.2943989185217953E-6},3.1195013936375265E-4,null,null,241,{"$f":"1/入力部分!$I$35/(2*3.14)^0.5*EXP(-1/2*((V247-入力部分!$I$27/2)/入力部分!$I$35)^2)","v":8.4389663466883897E-54},2.033790889551902E-51]
[null,null,null,null,null,null,null,242,{"$f":"(入力部分!D$7*M248+入力部分!D$8*R248+入力部分!D$9*W248)/(入力部分!D$7+入力部分!D$8+入力部分!D$9)","v":8.89535429170631E-4},null,null,242,{"$f":"1/入力部分!I$33/(2*3.14)^0.5*EXP(-1/2*((L248-入力部分!I$25)/入力部分!I$33)^2)","v":2.370908473596996E-3},0.57375985061047297,null,null,242,{"$f":"1/入力部分!I$34/(2*3.14)^0.5*EXP(-1/2*((Q248-入力部分!I$26/2)/入力部分!I$34)^2)","v":1.1860041913534355E-6},2.8701301430753142E-4,null,null,242,{"$f":"1/入力部分!$I$35/(2*3.14)^0.5*EXP(-1/2*((V248-入力部分!$I$27/2)/入力部分!$I$35)^2)","v":3.0161191081175045E-54},7.2990082416443602E-52]
[null,null,null,null,null,null,null,243,{"$f":"(入力部分!D$7*M249+入力部分!D$8*R249+入力部分!D$9*W249)/(入力部分!D$7+入力部分!D$8+入力部分!D$9)","v":8.8127039139238982E-4},null,null,243,{"$f":"1/入力部分!I$33/(2*3.14)^0.5*EXP(-1/2*((L249-入力部分!I$25)/入力部分!I$33)^2)","v":2.348968162010029E-3},0.570799263368437,null,null,243,{"$f":"1/入力部分!I$34/(2*3.14)^0.5*EXP(-1/2*((Q249-入力部分!I$26/2)/入力部分!I$34)^2)","v":1.0862150363440601E-6},2.639502538316066E-4,null,null,243,{"$f":"1/入力部分!$I$35/(2*3.14)^0.5*EXP(-1/2*((V249-入力部分!$I$27/2)/入力部分!$I$35)^2)","v":1.0731922392301848E-54},2.6078571413293491E-52]
[null,null,null,null,null,null,null,244,{"$f":"(入力部分!D$7*M250+入力部分!D$8*R250+入力部分!D$9*W250)/(入力部分!D$7+入力部分!D$8+入力部分!D$9)","v":8.7300532447112157E-4},null,null,244,{"$f":"1/入力部分!I$33/(2*3.14)^0.5*EXP(-1/2*((L250-入力部分!I$25)/入力部分!I$33)^2)","v":2.3270198082396645E-3},0.56779283321047813,null,null,244,{"$f":"1/入力部分!I$34/(2*3.14)^0.5*EXP(-1/2*((Q250-入力部分!I$26/2)/入力部分!I$34)^2)","v":9.9439034999341802E-7},2.42631245398394E-4,null,null,244,{"$f":"1/入力部分!$I$35/(2*3.14)^0.5*EXP(-1/2*((V250-入力部分!$I$27/2)/入力部分!$I$35)^2)","v":3.8016870294439598E-55},9.2761163518432619E-53]
[null,null,null,null,null,null,null,245,{"$f":"(入力部分!D$7*M251+入力部分!D$8*R251+入力部分!D$9*W251)/(入力部分!D$7+入力部分!D$8+入力部分!D$9)","v":8.6474151876689807E-4},null,null,245,{"$f":"1/入力部分!I$33/(2*3.14)^0.5*EXP(-1/2*((L251-入力部分!I$25)/入力部分!I$33)^2)","v":2.3050674502102246E-3},0.56474152530150501,null,null,245,{"$f":"1/入力部分!I$34/(2*3.14)^0.5*EXP(-1/2*((Q251-入力部分!I$26/2)/入力部分!I$34)^2)","v":9.0993316817037327E-7},2.2293362620174145E-4,null,null,245,{"$f":"1/入力部分!$I$35/(2*3.14)^0.5*EXP(-1/2*((V251-入力部分!$I$27/2)/入力部分!$I$35)^2)","v":1.3407413417689905E-55},3.2848162873340265E-53]
[null,null,null,null,null,null,null,246,{"$f":"(入力部分!D$7*M252+入力部分!D$8*R252+入力部分!D$9*W252)/(入力部分!D$7+入力部分!D$8+入力部分!D$9)","v":8.5648026635516054E-4},null,null,246,{"$f":"1/入力部分!I$33/(2*3.14)^0.5*EXP(-1/2*((L252-入力部分!I$25)/入力部分!I$33)^2)","v":2.2831150890202201E-3},0.56164631189897418,null,null,246,{"$f":"1/入力部分!I$34/(2*3.14)^0.5*EXP(-1/2*((Q252-入力部分!I$26/2)/入力部分!I$34)^2)","v":8.3228792687487608E-7},2.047428300112195E-4,null,null,246,{"$f":"1/入力部分!$I$35/(2*3.14)^0.5*EXP(-1/2*((V252-入力部分!$I$27/2)/入力部分!$I$35)^2)","v":4.7074253673511071E-56},1.1580266403683723E-53]
[null,null,null,null,null,null,null,247,{"$f":"(入力部分!D$7*M253+入力部分!D$8*R253+入力部分!D$9*W253)/(入力部分!D$7+入力部分!D$8+入力部分!D$9)","v":8.4822285964281585E-4},null,null,247,{"$f":"1/入力部分!I$33/(2*3.14)^0.5*EXP(-1/2*((L253-入力部分!I$25)/入力部分!I$33)^2)","v":2.2611666878450546E-3},0.5585081718977285,null,null,247,{"$f":"1/入力部分!I$34/(2*3.14)^0.5*EXP(-1/2*((Q253-入力部分!I$26/2)/入力部分!I$34)^2)","v":7.609378691213266E-7},1.8795165367296767E-4,null,null,247,{"$f":"1/入力部分!$I$35/(2*3.14)^0.5*EXP(-1/2*((V253-入力部分!$I$27/2)/入力部分!$I$35)^2)","v":1.6454765138194556E-56},4.0643269891340551E-54]
[null,null,null,null,null,null,null,248,{"$f":"(入力部分!D$7*M254+入力部分!D$8*R254+入力部分!D$9*W254)/(入力部分!D$7+入力部分!D$8+入力部分!D$9)","v":8.399705900472141E-4},null,null,248,{"$f":"1/入力部分!I$33/(2*3.14)^0.5*EXP(-1/2*((L254-入力部分!I$25)/入力部分!I$33)^2)","v":2.2392261708672435E-3},0.55532809037507636,null,null,248,{"$f":"1/入力部分!I$34/(2*3.14)^0.5*EXP(-1/2*((Q254-入力部分!I$26/2)/入力部分!I$34)^2)","v":6.9540259199415846E-7},1.724598428145513E-4,null,null,248,{"$f":"1/入力部分!$I$35/(2*3.14)^0.5*EXP(-1/2*((V254-入力部分!$I$27/2)/入力部分!$I$35)^2)","v":5.7262424845535383E-57},1.4201081361692776E-54]
[null,null,null,null,null,null,null,249,{"$f":"(入力部分!D$7*M255+入力部分!D$8*R255+入力部分!D$9*W255)/(入力部分!D$7+入力部分!D$8+入力部分!D$9)","v":8.3172474673593409E-4},null,null,249,{"$f":"1/入力部分!I$33/(2*3.14)^0.5*EXP(-1/2*((L255-入力部分!I$25)/入力部分!I$33)^2)","v":2.2172974222344653E-3},0.55210705813638183,null,null,249,{"$f":"1/入力部分!I$34/(2*3.14)^0.5*EXP(-1/2*((Q255-入力部分!I$26/2)/入力部分!I$34)^2)","v":6.3523572802565904E-7},1.5817369627838909E-4,null,null,249,{"$f":"1/入力部分!$I$35/(2*3.14)^0.5*EXP(-1/2*((V255-入力部分!$I$27/2)/入力部分!$I$35)^2)","v":1.9838899801324211E-57},4.9398860505297285E-55]
[null,null,null,null,null,null,null,250,{"$f":"(入力部分!D$7*M256+入力部分!D$8*R256+入力部分!D$9*W256)/(入力部分!D$7+入力部分!D$8+入力部分!D$9)","v":8.234866154253382E-4},null,null,250,{"$f":"1/入力部分!I$33/(2*3.14)^0.5*EXP(-1/2*((L256-入力部分!I$25)/入力部分!I$33)^2)","v":2.195384285045746E-3},0.54884607126143647,null,null,250,{"$f":"1/入力部分!I$34/(2*3.14)^0.5*EXP(-1/2*((Q256-入力部分!I$26/2)/入力部分!I$34)^2)","v":5.8002275515600612E-7},1.4500568878900153E-4,null,null,250,{"$f":"1/入力部分!$I$35/(2*3.14)^0.5*EXP(-1/2*((V256-入力部分!$I$27/2)/入力部分!$I$35)^2)","v":6.8428218813686721E-58},1.7107054703421682E-55]
[null,null,null,null,null,null,null,251,{"$f":"(入力部分!D$7*M257+入力部分!D$8*R257+入力部分!D$9*W257)/(入力部分!D$7+入力部分!D$8+入力部分!D$9)","v":8.1525747723588742E-4},null,null,251,{"$f":"1/入力部分!I$33/(2*3.14)^0.5*EXP(-1/2*((L257-入力部分!I$25)/入力部分!I$33)^2)","v":2.1734905603660449E-3},0.54554613065187729,null,null,251,{"$f":"1/入力部分!I$34/(2*3.14)^0.5*EXP(-1/2*((Q257-入力部分!I$26/2)/入力部分!I$34)^2)","v":5.2937892965516503E-7},1.3287411134344643E-4,null,null,251,{"$f":"1/入力部分!$I$35/(2*3.14)^0.5*EXP(-1/2*((V257-入力部分!$I$27/2)/入力部分!$I$35)^2)","v":2.3497555780904105E-58},5.8978865010069304E-56]
[null,null,null,null,null,null,null,252,{"$f":"(入力部分!D$7*M258+入力部分!D$8*R258+入力部分!D$9*W258)/(入力部分!D$7+入力部分!D$8+入力部分!D$9)","v":8.0703860760225827E-4},null,null,252,{"$f":"1/入力部分!I$33/(2*3.14)^0.5*EXP(-1/2*((L258-入力部分!I$25)/入力部分!I$33)^2)","v":2.1516200062695078E-3},0.54220824157991598,null,null,252,{"$f":"1/入力部分!I$34/(2*3.14)^0.5*EXP(-1/2*((Q258-入力部分!I$26/2)/入力部分!I$34)^2)","v":4.829473365144004E-7},1.217027288016289E-4,null,null,252,{"$f":"1/入力部分!$I$35/(2*3.14)^0.5*EXP(-1/2*((V258-入力部分!$I$27/2)/入力部分!$I$35)^2)","v":8.0330402927658265E-59},2.0243261537769883E-56]
[null,null,null,null,null,null,null,253,{"$f":"(入力部分!D$7*M259+入力部分!D$8*R259+入力部分!D$9*W259)/(入力部分!D$7+入力部分!D$8+入力部分!D$9)","v":7.9883127523633487E-4},null,null,253,{"$f":"1/入力部分!I$33/(2*3.14)^0.5*EXP(-1/2*((L259-入力部分!I$25)/入力部分!I$33)^2)","v":2.1297763369116096E-3},0.5388334132386372,null,null,253,{"$f":"1/入力部分!I$34/(2*3.14)^0.5*EXP(-1/2*((Q259-入力部分!I$26/2)/入力部分!I$34)^2)","v":4.4039705195022157E-7},1.1142045414340605E-4,null,null,253,{"$f":"1/入力部分!$I$35/(2*3.14)^0.5*EXP(-1/2*((V259-入力部分!$I$27/2)/入力部分!$I$35)^2)","v":2.7340534693736299E-59},6.917155277515284E-57]
[null,null,null,null,null,null,null,254,{"$f":"(入力部分!D$7*M260+入力部分!D$8*R260+入力部分!D$9*W260)/(入力部分!D$7+入力部分!D$8+入力部分!D$9)","v":7.9063674114120759E-4},null,null,254,{"$f":"1/入力部分!I$33/(2*3.14)^0.5*EXP(-1/2*((L260-入力部分!I$25)/入力部分!I$33)^2)","v":2.1079632216304154E-3},0.5354226582941255,null,null,254,{"$f":"1/入力部分!I$34/(2*3.14)^0.5*EXP(-1/2*((Q260-入力部分!I$26/2)/入力部分!I$34)^2)","v":4.0142141280481904E-7},1.0196103885242404E-4,null,null,254,{"$f":"1/入力部分!$I$35/(2*3.14)^0.5*EXP(-1/2*((V260-入力部分!$I$27/2)/入力部分!$I$35)^2)","v":9.2641134406685536E-60},2.3530848139298126E-57]
[null,null,null,null,null,null,null,255,{"$f":"(入力部分!D$7*M261+入力部分!D$8*R261+入力部分!D$9*W261)/(入力部分!D$7+入力部分!D$8+入力部分!D$9)","v":7.824562576743421E-4},null,null,255,{"$f":"1/入力部分!I$33/(2*3.14)^0.5*EXP(-1/2*((L261-入力部分!I$25)/入力部分!I$33)^2)","v":2.0861842840771395E-3},0.53197699243967056,null,null,255,{"$f":"1/入力部分!I$34/(2*3.14)^0.5*EXP(-1/2*((Q261-入力部分!I$26/2)/入力部分!I$34)^2)","v":3.6573638777322823E-7},9.3262778882173197E-5,null,null,255,{"$f":"1/入力部分!$I$35/(2*3.14)^0.5*EXP(-1/2*((V261-入力部分!$I$27/2)/入力部分!$I$35)^2)","v":3.1251475541811206E-60},7.9691262631618576E-58]
[null,null,null,null,null,null,null,256,{"$f":"(入力部分!D$7*M262+入力部分!D$8*R262+入力部分!D$9*W262)/(入力部分!D$7+入力部分!D$8+入力部分!D$9)","v":7.7429106765814599E-4},null,null,256,{"$f":"1/入力部分!I$33/(2*3.14)^0.5*EXP(-1/2*((L262-入力部分!I$25)/入力部分!I$33)^2)","v":2.0644431013761852E-3},0.52849743395230342,null,null,256,{"$f":"1/入力部分!I$34/(2*3.14)^0.5*EXP(-1/2*((Q262-入力部分!I$26/2)/入力部分!I$34)^2)","v":3.3307904553759444E-7},8.5268235657624177E-5,null,null,256,{"$f":"1/入力部分!$I$35/(2*3.14)^0.5*EXP(-1/2*((V262-入力部分!$I$27/2)/入力部分!$I$35)^2)","v":1.0495593278358496E-60},2.686871879259775E-58]
[null,null,null,null,null,null,null,257,{"$f":"(入力部分!D$7*M263+入力部分!D$8*R263+入力部分!D$9*W263)/(入力部分!D$7+入力部分!D$8+入力部分!D$9)","v":7.6614240353619647E-4},null,null,257,{"$f":"1/入力部分!I$33/(2*3.14)^0.5*EXP(-1/2*((L263-入力部分!I$25)/入力部分!I$33)^2)","v":2.0427432033148151E-3},{"$f":"L263*$M263","v":0.52498500325190744},null,null,257,{"$f":"1/入力部分!I$34/(2*3.14)^0.5*EXP(-1/2*((Q263-入力部分!I$26/2)/入力部分!I$34)^2)","v":3.032061150421254E-7},{"$f":"Q263*$R263","v":7.7923971565826224E-5},null,null,257,{"$f":"1/入力部分!$I$35/(2*3.14)^0.5*EXP(-1/2*((V263-入力部分!$I$27/2)/入力部分!$I$35)^2)","v":3.5092415297570091E-61},{"$f":"V263*$W263","v":9.0187507314755141E-59}]
[null,null,null,null,null,null,null,258,{"$f":"(入力部分!D$7*M264+入力部分!D$8*R264+入力部分!D$9*W264)/(入力部分!D$7+入力部分!D$8+入力部分!D$9)","v":7.5801148657345422E-4},null,null,258,{"$f":"1/入力部分!I$33/(2*3.14)^0.5*EXP(-1/2*((L264-入力部分!I$25)/入力部分!I$33)^2)","v":2.0210880715625804E-3},0.52144072246314577,null,null,258,{"$f":"1/入力部分!I$34/(2*3.14)^0.5*EXP(-1/2*((Q264-入力部分!I$26/2)/入力部分!I$34)^2)","v":2.7589263329787627E-7},7.1180299390852082E-5,null,null,258,{"$f":"1/入力部分!$I$35/(2*3.14)^0.5*EXP(-1/2*((V264-入力部分!$I$27/2)/入力部分!$I$35)^2)","v":1.1681250309684622E-61},3.0137625798986324E-59]
[null,null,null,null,null,null,null,259,{"$f":"(入力部分!D$7*M265+入力部分!D$8*R265+入力部分!D$9*W265)/(入力部分!D$7+入力部分!D$8+入力部分!D$9)","v":7.498995260988361E-4},null,null,259,{"$f":"1/入力部分!I$33/(2*3.14)^0.5*EXP(-1/2*((L265-入力部分!I$25)/入力部分!I$33)^2)","v":1.9994811389206332E-3},0.51786561498044403,null,null,259,{"$f":"1/入力部分!I$34/(2*3.14)^0.5*EXP(-1/2*((Q265-入力部分!I$26/2)/入力部分!I$34)^2)","v":2.5093067626336827E-7},6.4991045152212388E-5,null,null,259,{"$f":"1/入力部分!$I$35/(2*3.14)^0.5*EXP(-1/2*((V265-入力部分!$I$27/2)/入力部分!$I$35)^2)","v":3.8711072386101036E-62},1.0026167748000168E-59]
[null,null,null,null,null,null,null,260,{"$f":"(入力部分!D$7*M266+入力部分!D$8*R266+入力部分!D$9*W266)/(入力部分!D$7+入力部分!D$8+入力部分!D$9)","v":7.4180771878856278E-4},null,null,260,{"$f":"1/入力部分!I$33/(2*3.14)^0.5*EXP(-1/2*((L266-入力部分!I$25)/入力部分!I$33)^2)","v":1.9779257886009959E-3},0.51426070503625898,null,null,260,{"$f":"1/入力部分!I$34/(2*3.14)^0.5*EXP(-1/2*((Q266-入力部分!I$26/2)/入力部分!I$34)^2)","v":2.2812816850476251E-7},5.9313323811238253E-5,null,null,260,{"$f":"1/入力部分!$I$35/(2*3.14)^0.5*EXP(-1/2*((V266-入力部分!$I$27/2)/入力部分!$I$35)^2)","v":1.2771763765412513E-62},3.3206585790072532E-60]
[null,null,null,null,null,null,null,261,{"$f":"(入力部分!D$7*M267+入力部分!D$8*R267+入力部分!D$9*W267)/(入力部分!D$7+入力部分!D$8+入力部分!D$9)","v":7.3373724798876704E-4},null,null,261,{"$f":"1/入力部分!I$33/(2*3.14)^0.5*EXP(-1/2*((L267-入力部分!I$25)/入力部分!I$33)^2)","v":1.9564253535358819E-3},0.51062701727286519,null,null,261,{"$f":"1/入力部分!I$34/(2*3.14)^0.5*EXP(-1/2*((Q267-入力部分!I$26/2)/入力部分!I$34)^2)","v":2.0730776749710362E-7},5.4107327316744044E-5,null,null,261,{"$f":"1/入力部分!$I$35/(2*3.14)^0.5*EXP(-1/2*((V267-入力部分!$I$27/2)/入力部分!$I$35)^2)","v":4.1950423912815824E-63},1.0949060641244929E-60]
[null,null,null,null,null,null,null,262,{"$f":"(入力部分!D$7*M268+入力部分!D$8*R268+入力部分!D$9*W268)/(入力部分!D$7+入力部分!D$8+入力部分!D$9)","v":7.2568928307588235E-4},null,null,262,{"$f":"1/入力部分!I$33/(2*3.14)^0.5*EXP(-1/2*((L268-入力部分!I$25)/入力部分!I$33)^2)","v":1.9349831157171012E-3},0.50696557631788053,null,null,262,{"$f":"1/入力部分!I$34/(2*3.14)^0.5*EXP(-1/2*((Q268-入力部分!I$26/2)/入力部分!I$34)^2)","v":1.8830581858538536E-7},4.9336124469370964E-5,null,null,262,{"$f":"1/入力部分!$I$35/(2*3.14)^0.5*EXP(-1/2*((V268-入力部分!$I$27/2)/入力部分!$I$35)^2)","v":1.3718026355040414E-63},3.5941229050205883E-61]
[null,null,null,null,null,null,null,263,{"$f":"(入力部分!D$7*M269+入力部分!D$8*R269+入力部分!D$9*W269)/(入力部分!D$7+入力部分!D$8+入力部分!D$9)","v":7.1766497885339018E-4},null,null,263,{"$f":"1/入力部分!I$33/(2*3.14)^0.5*EXP(-1/2*((L269-入力部分!I$25)/入力部分!I$33)^2)","v":1.9136023055655936E-3},0.50327740636375107,null,null,263,{"$f":"1/入力部分!I$34/(2*3.14)^0.5*EXP(-1/2*((Q269-入力部分!I$26/2)/入力部分!I$34)^2)","v":1.7097137678043164E-7},4.4965472093253522E-5,null,null,263,{"$f":"1/入力部分!$I$35/(2*3.14)^0.5*EXP(-1/2*((V269-入力部分!$I$27/2)/入力部分!$I$35)^2)","v":4.4659793878339752E-64},1.1745525790003354E-61]
[null,null,null,null,null,null,null,264,{"$f":"(入力部分!D$7*M270+入力部分!D$8*R270+入力部分!D$9*W270)/(入力部分!D$7+入力部分!D$8+入力部分!D$9)","v":7.0966547498355916E-4},null,null,264,{"$f":"1/入力部分!I$33/(2*3.14)^0.5*EXP(-1/2*((L270-入力部分!I$25)/入力部分!I$33)^2)","v":1.8922861013311056E-3},0.49956353075141186,null,null,264,{"$f":"1/入力部分!I$34/(2*3.14)^0.5*EXP(-1/2*((Q270-入力部分!I$26/2)/入力部分!I$34)^2)","v":1.5516529171928926E-7},4.0963637013892367E-5,null,null,264,{"$f":"1/入力部分!$I$35/(2*3.14)^0.5*EXP(-1/2*((V270-入力部分!$I$27/2)/入力部分!$I$35)^2)","v":1.4474767546723202E-64},3.8213386323349254E-62]
[null,null,null,null,null,null,null,265,{"$f":"(入力部分!D$7*M271+入力部分!D$8*R271+入力部分!D$9*W271)/(入力部分!D$7+入力部分!D$8+入力部分!D$9)","v":7.0169189545284962E-4},null,null,265,{"$f":"1/入力部分!I$33/(2*3.14)^0.5*EXP(-1/2*((L271-入力部分!I$25)/入力部分!I$33)^2)","v":1.8710376285219934E-3},0.49582497155832828,null,null,265,{"$f":"1/入力部分!I$34/(2*3.14)^0.5*EXP(-1/2*((Q271-入力部分!I$26/2)/入力部分!I$34)^2)","v":1.4075935227254408E-7},3.7301228352224182E-5,null,null,265,{"$f":"1/入力部分!$I$35/(2*3.14)^0.5*EXP(-1/2*((V271-入力部分!$I$27/2)/入力部分!$I$35)^2)","v":4.6706388137128142E-65},1.2377192856338957E-62]
[null,null,null,null,null,null,null,266,{"$f":"(入力部分!D$7*M272+入力部分!D$8*R272+入力部分!D$9*W272)/(入力部分!D$7+入力部分!D$8+入力部分!D$9)","v":6.9374534806971601E-4},null,null,266,{"$f":"1/入力部分!I$33/(2*3.14)^0.5*EXP(-1/2*((L272-入力部分!I$25)/入力部分!I$33)^2)","v":1.849859959365145E-3},0.49206274919112858,null,null,266,{"$f":"1/入力部分!I$34/(2*3.14)^0.5*EXP(-1/2*((Q272-入力部分!I$26/2)/入力部分!I$34)^2)","v":1.276354874313311E-7},3.3951039656734074E-5,null,null,266,{"$f":"1/入力部分!$I$35/(2*3.14)^0.5*EXP(-1/2*((V272-入力部分!$I$27/2)/入力部分!$I$35)^2)","v":1.5004128412126791E-65},3.9910981576257264E-63]
[null,null,null,null,null,null,null,267,{"$f":"(入力部分!D$7*M273+入力部分!D$8*R273+入力部分!D$9*W273)/(入力部分!D$7+入力部分!D$8+入力部分!D$9)","v":6.8582692399358147E-4},null,null,267,{"$f":"1/入力部分!I$33/(2*3.14)^0.5*EXP(-1/2*((L273-入力部分!I$25)/入力部分!I$33)^2)","v":1.8287561122959626E-3},0.48827788198302202,null,null,267,{"$f":"1/入力部分!I$34/(2*3.14)^0.5*EXP(-1/2*((Q273-入力部分!I$26/2)/入力部分!I$34)^2)","v":1.1568502025450917E-7},3.088790040795395E-5,null,null,267,{"$f":"1/入力部分!$I$35/(2*3.14)^0.5*EXP(-1/2*((V273-入力部分!$I$27/2)/入力部分!$I$35)^2)","v":4.7986056719726683E-66},1.2812277144167024E-63]
[null,null,null,null,null,null,null,268,{"$f":"(入力部分!D$7*M274+入力部分!D$8*R274+入力部分!D$9*W274)/(入力部分!D$7+入力部分!D$8+入力部分!D$9)","v":6.7793769729380731E-4},null,null,268,{"$f":"1/入力部分!I$33/(2*3.14)^0.5*EXP(-1/2*((L274-入力部分!I$25)/入力部分!I$33)^2)","v":1.8077290514783519E-3},0.48447138579619831,null,null,268,{"$f":"1/入力部分!I$34/(2*3.14)^0.5*EXP(-1/2*((Q274-入力部分!I$26/2)/入力部分!I$34)^2)","v":1.0480797180110715E-7},2.8088536442696714E-5,null,null,268,{"$f":"1/入力部分!$I$35/(2*3.14)^0.5*EXP(-1/2*((V274-入力部分!$I$27/2)/入力部分!$I$35)^2)","v":1.5278796831724301E-66},4.0947175509021128E-64]
[null,null,null,null,null,null,null,269,{"$f":"(入力部分!D$7*M275+入力部分!D$8*R275+入力部分!D$9*W275)/(入力部分!D$7+入力部分!D$8+入力部分!D$9)","v":6.7007872453753235E-4},null,null,269,{"$f":"1/入力部分!I$33/(2*3.14)^0.5*EXP(-1/2*((L275-入力部分!I$25)/入力部分!I$33)^2)","v":1.7867816863546386E-3},0.48064427362939777,null,null,269,{"$f":"1/入力部分!I$34/(2*3.14)^0.5*EXP(-1/2*((Q275-入力部分!I$26/2)/入力部分!I$34)^2)","v":9.4912412114567303E-8},2.5531438858818606E-5,null,null,269,{"$f":"1/入力部分!$I$35/(2*3.14)^0.5*EXP(-1/2*((V275-入力部分!$I$27/2)/入力部分!$I$35)^2)","v":4.8432072216263952E-67},1.3028227426175003E-64]
[null,null,null,null,null,null,null,270,{"$f":"(入力部分!D$7*M276+入力部分!D$8*R276+入力部分!D$9*W276)/(入力部分!D$7+入力部分!D$8+入力部分!D$9)","v":6.6225104440528889E-4},null,null,270,{"$f":"1/入力部分!I$33/(2*3.14)^0.5*EXP(-1/2*((L276-入力部分!I$25)/入力部分!I$33)^2)","v":1.7659168712253076E-3},0.47679755523083306,null,null,270,{"$f":"1/入力部分!I$34/(2*3.14)^0.5*EXP(-1/2*((Q276-入力部分!I$26/2)/入力部分!I$34)^2)","v":8.5913855463246581E-8},2.3196740975076577E-5,null,null,270,{"$f":"1/入力部分!$I$35/(2*3.14)^0.5*EXP(-1/2*((V276-入力部分!$I$27/2)/入力部分!$I$35)^2)","v":1.5284342066564286E-67},4.1267723579723575E-65]
[null,null,null,null,null,null,null,271,{"$f":"(入力部分!D$7*M277+入力部分!D$8*R277+入力部分!D$9*W277)/(入力部分!D$7+入力部分!D$8+入力部分!D$9)","v":6.5445567733336308E-4},null,null,271,{"$f":"1/入力部分!I$33/(2*3.14)^0.5*EXP(-1/2*((L277-入力部分!I$25)/入力部分!I$33)^2)","v":1.7451374048584592E-3},0.47293223671664242,null,null,271,{"$f":"1/入力部分!I$34/(2*3.14)^0.5*EXP(-1/2*((Q277-入力部分!I$26/2)/入力部分!I$34)^2)","v":7.7734697175872191E-8},2.1066102934661362E-5,null,null,271,{"$f":"1/入力部分!$I$35/(2*3.14)^0.5*EXP(-1/2*((V277-入力部分!$I$27/2)/入力部分!$I$35)^2)","v":4.8020894834809513E-68},1.3013662500233377E-65]
[null,null,null,null,null,null,null,272,{"$f":"(入力部分!D$7*M278+入力部分!D$8*R278+入力部分!D$9*W278)/(入力部分!D$7+入力部分!D$8+入力部分!D$9)","v":6.4669362518189263E-4},null,null,272,{"$f":"1/入力部分!I$33/(2*3.14)^0.5*EXP(-1/2*((L278-入力部分!I$25)/入力部分!I$33)^2)","v":1.7244460301288397E-3},0.46904932019504442,null,null,272,{"$f":"1/入力部分!I$34/(2*3.14)^0.5*EXP(-1/2*((Q278-入力部分!I$26/2)/入力部分!I$34)^2)","v":7.0303689541083802E-8},1.9122603555174793E-5,null,null,272,{"$f":"1/入力部分!$I$35/(2*3.14)^0.5*EXP(-1/2*((V278-入力部分!$I$27/2)/入力部分!$I$35)^2)","v":1.5020470984848596E-68},4.0855681078788183E-66]
[null,null,null,null,null,null,null,273,{"$f":"(入力部分!D$7*M279+入力部分!D$8*R279+入力部分!D$9*W279)/(入力部分!D$7+入力部分!D$8+入力部分!D$9)","v":6.3896587092775149E-4},null,null,273,{"$f":"1/入力部分!I$33/(2*3.14)^0.5*EXP(-1/2*((L279-入力部分!I$25)/入力部分!I$33)^2)","v":1.7038454336863039E-3},0.46514980339636097,null,null,273,{"$f":"1/入力部分!I$34/(2*3.14)^0.5*EXP(-1/2*((Q279-入力部分!I$26/2)/入力部分!I$34)^2)","v":6.3555454366675039E-8},1.7350639042102287E-5,null,null,273,{"$f":"1/入力部分!$I$35/(2*3.14)^0.5*EXP(-1/2*((V279-入力部分!$I$27/2)/入力部分!$I$35)^2)","v":4.677423089397303E-69},1.2769365034054638E-66]
[null,null,null,null,null,null,null,274,{"$f":"(入力部分!D$7*M280+入力部分!D$8*R280+入力部分!D$9*W280)/(入力部分!D$7+入力部分!D$8+入力部分!D$9)","v":6.3127337838129517E-4},null,null,274,{"$f":"1/入力部分!I$33/(2*3.14)^0.5*EXP(-1/2*((L280-入力部分!I$25)/入力部分!I$33)^2)","v":1.6833382456535376E-3},0.46123467930906931,null,null,274,{"$f":"1/入力部分!I$34/(2*3.14)^0.5*EXP(-1/2*((Q280-入力部分!I$26/2)/入力部分!I$34)^2)","v":5.7430029916573272E-8},1.5735828197141077E-5,null,null,274,{"$f":"1/入力部分!$I$35/(2*3.14)^0.5*EXP(-1/2*((V280-入力部分!$I$27/2)/入力部分!$I$35)^2)","v":1.4501053736094947E-69},3.9732887236900153E-67]
[null,null,null,null,null,null,null,275,{"$f":"(入力部分!D$7*M281+入力部分!D$8*R281+入力部分!D$9*W281)/(入力部分!D$7+入力部分!D$8+入力部分!D$9)","v":6.236170919260948E-4},null,null,275,{"$f":"1/入力部分!I$33/(2*3.14)^0.5*EXP(-1/2*((L281-入力部分!I$25)/入力部分!I$33)^2)","v":1.662927039352858E-3},0.45730493582203596,null,null,275,{"$f":"1/入力部分!I$34/(2*3.14)^0.5*EXP(-1/2*((Q281-入力部分!I$26/2)/入力部分!I$34)^2)","v":5.1872450061907144E-8},1.4264923767024464E-5,null,null,275,{"$f":"1/入力部分!$I$35/(2*3.14)^0.5*EXP(-1/2*((V281-入力部分!$I$27/2)/入力部分!$I$35)^2)","v":4.4757134209015288E-70},1.2308211907479204E-67]
[null,null,null,null,null,null,null,276,{"$f":"(入力部分!D$7*M282+入力部分!D$8*R282+入力部分!D$9*W282)/(入力部分!D$7+入力部分!D$8+入力部分!D$9)","v":6.1599793628080979E-4},null,null,276,{"$f":"1/入力部分!I$33/(2*3.14)^0.5*EXP(-1/2*((L282-入力部分!I$25)/入力部分!I$33)^2)","v":1.6426143310618961E-3},0.45336155537308331,null,null,276,{"$f":"1/入力部分!I$34/(2*3.14)^0.5*EXP(-1/2*((Q282-入力部分!I$26/2)/入力部分!I$34)^2)","v":4.6832353596674429E-8},1.2925729592682143E-5,null,null,276,{"$f":"1/入力部分!$I$35/(2*3.14)^0.5*EXP(-1/2*((V282-入力部分!$I$27/2)/入力部分!$I$35)^2)","v":1.3752915743147664E-70},3.7958047451087555E-68]
[null,null,null,null,null,null,null,277,{"$f":"(入力部分!D$7*M283+入力部分!D$8*R283+入力部分!D$9*W283)/(入力部分!D$7+入力部分!D$8+入力部分!D$9)","v":6.0841681628239321E-4},null,null,277,{"$f":"1/入力部分!I$33/(2*3.14)^0.5*EXP(-1/2*((L283-入力部分!I$25)/入力部分!I$33)^2)","v":1.6224025797979369E-3},0.4494055146040285,null,null,277,{"$f":"1/入力部分!I$34/(2*3.14)^0.5*EXP(-1/2*((Q283-入力部分!I$26/2)/入力部分!I$34)^2)","v":4.2263621778470569E-8},1.1707023232636348E-5,null,null,277,{"$f":"1/入力部分!$I$35/(2*3.14)^0.5*EXP(-1/2*((V283-入力部分!$I$27/2)/入力部分!$I$35)^2)","v":4.2072381508184154E-71},1.165404967776701E-68]
[null,null,null,null,null,null,null,278,{"$f":"(入力部分!D$7*M284+入力部分!D$8*R284+入力部分!D$9*W284)/(入力部分!D$7+入力部分!D$8+入力部分!D$9)","v":6.0087461668985873E-4},null,null,278,{"$f":"1/入力部分!I$33/(2*3.14)^0.5*EXP(-1/2*((L284-入力部分!I$25)/入力部分!I$33)^2)","v":1.6022941871306963E-3},0.44543778402233358,null,null,278,{"$f":"1/入力部分!I$34/(2*3.14)^0.5*EXP(-1/2*((Q284-入力部分!I$26/2)/入力部分!I$34)^2)","v":3.8124042260510427E-8},1.0598483748421899E-5,null,null,278,{"$f":"1/入力部分!$I$35/(2*3.14)^0.5*EXP(-1/2*((V284-入力部分!$I$27/2)/入力部分!$I$35)^2)","v":1.2813542447437273E-71},3.5621648003875618E-69]
[null,null,null,null,null,null,null,279,{"$f":"(入力部分!D$7*M285+入力部分!D$8*R285+入力部分!D$9*W285)/(入力部分!D$7+入力部分!D$8+入力部分!D$9)","v":5.9337220200786269E-4},null,null,279,{"$f":"1/入力部分!I$33/(2*3.14)^0.5*EXP(-1/2*((L285-入力部分!I$25)/入力部分!I$33)^2)","v":1.5822914970232847E-3},0.44145932766949642,null,null,279,{"$f":"1/入力部分!I$34/(2*3.14)^0.5*EXP(-1/2*((Q285-入力部分!I$26/2)/入力部分!I$34)^2)","v":3.4374997682764417E-8},9.5906243534912722E-6,null,null,279,{"$f":"1/入力部分!$I$35/(2*3.14)^0.5*EXP(-1/2*((V285-入力部分!$I$27/2)/入力部分!$I$35)^2)","v":3.8851798726211361E-72},1.0839651844612969E-69]
[null,null,null,null,null,null,null,280,{"$f":"(入力部分!D$7*M286+入力部分!D$8*R286+入力部分!D$9*W286)/(入力部分!D$7+入力部分!D$8+入力部分!D$9)","v":5.8591041632939211E-4},null,null,280,{"$f":"1/入力部分!I$33/(2*3.14)^0.5*EXP(-1/2*((L286-入力部分!I$25)/入力部分!I$33)^2)","v":1.5623967957010918E-3},0.43747110279630569,null,null,280,{"$f":"1/入力部分!I$34/(2*3.14)^0.5*EXP(-1/2*((Q286-入力部分!I$26/2)/入力部分!I$34)^2)","v":3.0981177287454671E-8},8.6747296404873083E-6,null,null,280,{"$f":"1/入力部分!$I$35/(2*3.14)^0.5*EXP(-1/2*((V286-入力部分!$I$27/2)/入力部分!$I$35)^2)","v":1.1727970118017949E-72},3.283831633045026E-70]
[null,null,null,null,null,null,null,281,{"$f":"(入力部分!D$7*M287+入力部分!D$8*R287+入力部分!D$9*W287)/(入力部分!D$7+入力部分!D$8+入力部分!D$9)","v":5.7849008319687937E-4},null,null,281,{"$f":"1/入力部分!I$33/(2*3.14)^0.5*EXP(-1/2*((L287-入力部分!I$25)/入力部分!I$33)^2)","v":1.5426123115483278E-3},0.43347405954508011,null,null,281,{"$f":"1/入力部分!I$34/(2*3.14)^0.5*EXP(-1/2*((Q287-入力部分!I$26/2)/入力部分!I$34)^2)","v":2.7910310017480367E-8},7.8427971149119835E-6,null,null,281,{"$f":"1/入力部分!$I$35/(2*3.14)^0.5*EXP(-1/2*((V287-入力部分!$I$27/2)/入力部分!$I$35)^2)","v":3.5245556620540784E-73},9.9040014103719596E-71]
[null,null,null,null,null,null,null,282,{"$f":"(入力部分!D$7*M288+入力部分!D$8*R288+入力部分!D$9*W288)/(入力部分!D$7+入力部分!D$8+入力部分!D$9)","v":5.7111200548108686E-4},null,null,282,{"$f":"1/入力部分!I$33/(2*3.14)^0.5*EXP(-1/2*((L288-入力部分!I$25)/入力部分!I$33)^2)","v":1.5229402150319195E-3},0.42946914063900132,null,null,282,{"$f":"1/入力部分!I$34/(2*3.14)^0.5*EXP(-1/2*((Q288-入力部分!I$26/2)/入力部分!I$34)^2)","v":2.5132917645607173E-8},7.0874827760612232E-6,null,null,282,{"$f":"1/入力部分!$I$35/(2*3.14)^0.5*EXP(-1/2*((V288-入力部分!$I$27/2)/入力部分!$I$35)^2)","v":1.0545221314429157E-73},2.9737524106690221E-71]
[null,null,null,null,null,null,null,283,{"$f":"(入力部分!D$7*M289+入力部分!D$8*R289+入力部分!D$9*W289)/(入力部分!D$7+入力部分!D$8+入力部分!D$9)","v":5.6377696527713957E-4},null,null,283,{"$f":"1/入力部分!I$33/(2*3.14)^0.5*EXP(-1/2*((L289-入力部分!I$25)/入力部分!I$33)^2)","v":1.5033826186524714E-3},0.42545728107864939,null,null,283,{"$f":"1/入力部分!I$34/(2*3.14)^0.5*EXP(-1/2*((Q289-入力部分!I$26/2)/入力部分!I$34)^2)","v":2.2622086567530464E-8},6.4020504986111214E-6,null,null,283,{"$f":"1/入力部分!$I$35/(2*3.14)^0.5*EXP(-1/2*((V289-入力部分!$I$27/2)/入力部分!$I$35)^2)","v":3.1410642958620981E-74},8.8892119572897378E-72]
[null,null,null,null,null,null,null,284,{"$f":"(入力部分!D$7*M290+入力部分!D$8*R290+入力部分!D$9*W290)/(入力部分!D$7+入力部分!D$8+入力部分!D$9)","v":5.5648572381710067E-4},null,null,284,{"$f":"1/入力部分!I$33/(2*3.14)^0.5*EXP(-1/2*((L290-入力部分!I$25)/入力部分!I$33)^2)","v":1.4839415769219619E-3},0.42143940784583717,null,null,284,{"$f":"1/入力部分!I$34/(2*3.14)^0.5*EXP(-1/2*((Q290-入力部分!I$26/2)/入力部分!I$34)^2)","v":2.0353256973284786E-8},5.7803249804128794E-6,null,null,284,{"$f":"1/入力部分!$I$35/(2*3.14)^0.5*EXP(-1/2*((V290-入力部分!$I$27/2)/入力部分!$I$35)^2)","v":9.314676063485957E-75},2.6453680020300118E-72]
[null,null,null,null,null,null,null,285,{"$f":"(入力部分!D$7*M291+入力部分!D$8*R291+入力部分!D$9*W291)/(入力部分!D$7+入力部分!D$8+入力部分!D$9)","v":5.4923902139851803E-4},null,null,285,{"$f":"1/入力部分!I$33/(2*3.14)^0.5*EXP(-1/2*((L291-入力部分!I$25)/入力部分!I$33)^2)","v":1.4646190863678594E-3},0.41741643961483993,null,null,285,{"$f":"1/入力部分!I$34/(2*3.14)^0.5*EXP(-1/2*((Q291-入力部分!I$26/2)/入力部分!I$34)^2)","v":1.8304028189014941E-8},5.2166480338692585E-6,null,null,285,{"$f":"1/入力部分!$I$35/(2*3.14)^0.5*EXP(-1/2*((V291-入力部分!$I$27/2)/入力部分!$I$35)^2)","v":2.7499733690660813E-75},7.8374241018383317E-73]
[null,null,null,null,null,null,null,286,{"$f":"(入力部分!D$7*M292+入力部分!D$8*R292+入力部分!D$9*W292)/(入力部分!D$7+入力部分!D$8+入力部分!D$9)","v":5.4203757732838474E-4},null,null,286,{"$f":"1/入力部分!I$33/(2*3.14)^0.5*EXP(-1/2*((L292-入力部分!I$25)/入力部分!I$33)^2)","v":1.4454170855633045E-3},0.41338928647110512,null,null,286,{"$f":"1/入力部分!I$34/(2*3.14)^0.5*EXP(-1/2*((Q292-入力部分!I$26/2)/入力部分!I$34)^2)","v":1.6453979054922466E-8},4.7058380097078257E-6,null,null,286,{"$f":"1/入力部分!$I$35/(2*3.14)^0.5*EXP(-1/2*((V292-入力部分!$I$27/2)/入力部分!$I$35)^2)","v":8.0827476967586548E-76},2.3116658412729751E-73]
[null,null,null,null,null,null,null,287,{"$f":"(入力部分!D$7*M293+入力部分!D$8*R293+入力部分!D$9*W293)/(入力部分!D$7+入力部分!D$8+入力部分!D$9)","v":5.348820898819841E-4},null,null,287,{"$f":"1/入力部分!I$33/(2*3.14)^0.5*EXP(-1/2*((L293-入力部分!I$25)/入力部分!I$33)^2)","v":1.4263374551830158E-3},0.40935884963752556,null,null,287,{"$f":"1/入力部分!I$34/(2*3.14)^0.5*EXP(-1/2*((Q293-入力部分!I$26/2)/入力部分!I$34)^2)","v":1.4784502275371562E-8},4.2431521530316382E-6,null,null,287,{"$f":"1/入力部分!$I$35/(2*3.14)^0.5*EXP(-1/2*((V293-入力部分!$I$27/2)/入力部分!$I$35)^2)","v":2.3651536480966934E-76},6.7879909700375104E-74]
[null,null,null,null,null,null,null,288,{"$f":"(入力部分!D$7*M294+入力部分!D$8*R294+入力部分!D$9*W294)/(入力部分!D$7+入力部分!D$8+入力部分!D$9)","v":5.277732362761081E-4},null,null,288,{"$f":"1/入力部分!I$33/(2*3.14)^0.5*EXP(-1/2*((L294-入力部分!I$25)/入力部分!I$33)^2)","v":1.4073820180845447E-3},0.40532602120834887,null,null,288,{"$f":"1/入力部分!I$34/(2*3.14)^0.5*EXP(-1/2*((Q294-入力部分!I$26/2)/入力部分!I$34)^2)","v":1.3278651743776955E-8},3.8242517022077631E-6,null,null,288,{"$f":"1/入力部分!$I$35/(2*3.14)^0.5*EXP(-1/2*((V294-入力部分!$I$27/2)/入力部分!$I$35)^2)","v":6.8901630327743053E-77},1.9843669534390001E-74]
[null,null,null,null,null,null,null,289,{"$f":"(入力部分!D$7*M295+入力部分!D$8*R295+入力部分!D$9*W295)/(入力部分!D$7+入力部分!D$8+入力部分!D$9)","v":5.2071167265615721E-4},null,null,289,{"$f":"1/入力部分!I$33/(2*3.14)^0.5*EXP(-1/2*((L295-入力部分!I$25)/入力部分!I$33)^2)","v":1.3885525394145113E-3},0.40129168389079373,null,null,289,{"$f":"1/入力部分!I$34/(2*3.14)^0.5*EXP(-1/2*((Q295-入力部分!I$26/2)/入力部分!I$34)^2)","v":1.1921001908106433E-8},3.4451695514427592E-6,null,null,289,{"$f":"1/入力部分!$I$35/(2*3.14)^0.5*EXP(-1/2*((V295-入力部分!$I$27/2)/入力部分!$I$35)^2)","v":1.9983402663387826E-77},5.7752033697190819E-75]
[null,null,null,null,null,null,null,290,{"$f":"(入力部分!D$7*M296+入力部分!D$8*R296+入力部分!D$9*W296)/(入力部分!D$7+入力部分!D$8+入力部分!D$9)","v":5.1369803409664764E-4},null,null,290,{"$f":"1/入力部分!I$33/(2*3.14)^0.5*EXP(-1/2*((L296-入力部分!I$25)/入力部分!I$33)^2)","v":1.3698507267394244E-3},0.39725671075443308,null,null,290,{"$f":"1/入力部分!I$34/(2*3.14)^0.5*EXP(-1/2*((Q296-入力部分!I$26/2)/入力部分!I$34)^2)","v":1.0697518302732958E-8},3.1022803077925579E-6,null,null,290,{"$f":"1/入力部分!$I$35/(2*3.14)^0.5*EXP(-1/2*((V296-入力部分!$I$27/2)/入力部分!$I$35)^2)","v":5.7700447722061722E-78},1.6733129839397898E-75]
[null,null,null,null,null,null,null,291,{"$f":"(入力部分!D$7*M297+入力部分!D$8*R297+入力部分!D$9*W297)/(入力部分!D$7+入力部分!D$8+入力部分!D$9)","v":5.0673293461467371E-4},null,null,291,{"$f":"1/入力部分!I$33/(2*3.14)^0.5*EXP(-1/2*((L297-入力部分!I$25)/入力部分!I$33)^2)","v":1.351278230200701E-3},0.393221964988404,null,null,291,{"$f":"1/入力部分!I$34/(2*3.14)^0.5*EXP(-1/2*((Q297-入力部分!I$26/2)/入力部分!I$34)^2)","v":9.5954384290732826E-9},2.7922725828603252E-6,null,null,291,{"$f":"1/入力部分!$I$35/(2*3.14)^0.5*EXP(-1/2*((V297-入力部分!$I$27/2)/入力部分!$I$35)^2)","v":1.6586651847077649E-78},4.8267156874995961E-76]
[null,null,null,null,null,null,null,292,{"$f":"(入力部分!D$7*M298+入力部分!D$8*R298+入力部分!D$9*W298)/(入力部分!D$7+入力部分!D$8+入力部分!D$9)","v":4.9981696719588234E-4},null,null,292,{"$f":"1/入力部分!I$33/(2*3.14)^0.5*EXP(-1/2*((L298-入力部分!I$25)/入力部分!I$33)^2)","v":1.3328366426934653E-3},0.38918829966649188,null,null,292,{"$f":"1/入力部分!I$34/(2*3.14)^0.5*EXP(-1/2*((Q298-入力部分!I$26/2)/入力部分!I$34)^2)","v":8.6031622210675041E-9},2.5121233685517112E-6,null,null,292,{"$f":"1/入力部分!$I$35/(2*3.14)^0.5*EXP(-1/2*((V298-入力部分!$I$27/2)/入力部分!$I$35)^2)","v":4.7468780778050509E-79},1.3860883987190748E-76]
[null,null,null,null,null,null,null,293,{"$f":"(入力部分!D$7*M299+入力部分!D$8*R299+入力部分!D$9*W299)/(入力部分!D$7+入力部分!D$8+入力部分!D$9)","v":4.9295070383253742E-4},null,null,293,{"$f":"1/入力部分!I$33/(2*3.14)^0.5*EXP(-1/2*((L299-入力部分!I$25)/入力部分!I$33)^2)","v":1.3145275000687178E-3},0.38515655752013433,null,null,293,{"$f":"1/入力部分!I$34/(2*3.14)^0.5*EXP(-1/2*((Q299-入力部分!I$26/2)/入力部分!I$34)^2)","v":7.7101513822039084E-9},2.2590743549857452E-6,null,null,293,{"$f":"1/入力部分!$I$35/(2*3.14)^0.5*EXP(-1/2*((V299-入力部分!$I$27/2)/入力部分!$I$35)^2)","v":1.3524687141875254E-79},3.9627333325694495E-77]
[null,null,null,null,null,null,null,294,{"$f":"(入力部分!D$7*M300+入力部分!D$8*R300+入力部分!D$9*W300)/(入力部分!D$7+入力部分!D$8+入力部分!D$9)","v":4.8613469557326553E-4},null,null,294,{"$f":"1/入力部分!I$33/(2*3.14)^0.5*EXP(-1/2*((L300-入力部分!I$25)/入力部分!I$33)^2)","v":1.2963522813584463E-3},0.38112757071938319,null,null,294,{"$f":"1/入力部分!I$34/(2*3.14)^0.5*EXP(-1/2*((Q300-入力部分!I$26/2)/入力部分!I$34)^2)","v":6.9068369285949153E-9},2.0306100570069051E-6,null,null,294,{"$f":"1/入力部分!$I$35/(2*3.14)^0.5*EXP(-1/2*((V300-入力部分!$I$27/2)/入力部分!$I$35)^2)","v":3.8363319649426213E-80},1.1278815976931307E-77]
[null,null,null,null,null,null,null,295,{"$f":"(入力部分!D$7*M301+入力部分!D$8*R301+入力部分!D$9*W301)/(入力部分!D$7+入力部分!D$8+入力部分!D$9)","v":4.7936947258408547E-4},null,null,295,{"$f":"1/入力部分!I$33/(2*3.14)^0.5*EXP(-1/2*((L301-入力部分!I$25)/入力部分!I$33)^2)","v":1.2783124090232436E-3},0.37710216066185687,null,null,295,{"$f":"1/入力部分!I$34/(2*3.14)^0.5*EXP(-1/2*((Q301-入力部分!I$26/2)/入力部分!I$34)^2)","v":6.1845343176725914E-9},1.8244376237134144E-6,null,null,295,{"$f":"1/入力部分!$I$35/(2*3.14)^0.5*EXP(-1/2*((V301-入力部分!$I$27/2)/入力部分!$I$35)^2)","v":1.0833653360228612E-80},3.1959277412674405E-78]
[null,null,null,null,null,null,null,296,{"$f":"(入力部分!D$7*M302+入力部分!D$8*R302+入力部分!D$9*W302)/(入力部分!D$7+入力部分!D$8+入力部分!D$9)","v":4.7265554422034088E-4},null,null,296,{"$f":"1/入力部分!I$33/(2*3.14)^0.5*EXP(-1/2*((L302-入力部分!I$25)/入力部分!I$33)^2)","v":1.2604092492219912E-3},0.37308113776970941,null,null,296,{"$f":"1/入力部分!I$34/(2*3.14)^0.5*EXP(-1/2*((Q302-入力部分!I$26/2)/入力部分!I$34)^2)","v":5.5353655845184193E-9},1.6384682130174521E-6,null,null,296,{"$f":"1/入力部分!$I$35/(2*3.14)^0.5*EXP(-1/2*((V302-入力部分!$I$27/2)/入力部分!$I$35)^2)","v":3.0458148021704549E-81},9.0156118144245463E-79]
[null,null,null,null,null,null,null,297,{"$f":"(入力部分!D$7*M303+入力部分!D$8*R303+入力部分!D$9*W303)/(入力部分!D$7+入力部分!D$8+入力部分!D$9)","v":4.6599339910916276E-4},null,null,297,{"$f":"1/入力部分!I$33/(2*3.14)^0.5*EXP(-1/2*((L303-入力部分!I$25)/入力部分!I$33)^2)","v":1.2426441121031531E-3},0.36906530129463649,null,null,297,{"$f":"1/入力部分!I$34/(2*3.14)^0.5*EXP(-1/2*((Q303-入力部分!I$26/2)/入力部分!I$34)^2)","v":4.9521879477830193E-9},1.4707998204915567E-6,null,null,297,{"$f":"1/入力部分!$I$35/(2*3.14)^0.5*EXP(-1/2*((V303-入力部分!$I$27/2)/入力部分!$I$35)^2)","v":8.5251465355891037E-82},2.5319685210699639E-79]
[null,null,null,null,null,null,null,298,{"$f":"(入力部分!D$7*M304+入力部分!D$8*R304+入力部分!D$9*W304)/(入力部分!D$7+入力部分!D$8+入力部分!D$9)","v":4.5938350524210391E-4},null,null,298,{"$f":"1/入力部分!I$33/(2*3.14)^0.5*EXP(-1/2*((L304-入力部分!I$25)/入力部分!I$33)^2)","v":1.2250182521172258E-3},0.3650554391309333,null,null,298,{"$f":"1/入力部分!I$34/(2*3.14)^0.5*EXP(-1/2*((Q304-入力部分!I$26/2)/入力部分!I$34)^2)","v":4.4285283846988491E-9},1.319701458640257E-6,null,null,298,{"$f":"1/入力部分!$I$35/(2*3.14)^0.5*EXP(-1/2*((V304-入力部分!$I$27/2)/入力部分!$I$35)^2)","v":2.3755819384054297E-82},7.079234176448181E-80]
[null,null,null,null,null,null,null,299,{"$f":"(入力部分!D$7*M305+入力部分!D$8*R305+入力部分!D$9*W305)/(入力部分!D$7+入力部分!D$8+入力部分!D$9)","v":4.5282631007759682E-4},null,null,299,{"$f":"1/入力部分!I$33/(2*3.14)^0.5*EXP(-1/2*((L305-入力部分!I$25)/入力部分!I$33)^2)","v":1.2075328683498817E-3},0.3610523276366146,null,null,299,{"$f":"1/入力部分!I$34/(2*3.14)^0.5*EXP(-1/2*((Q305-入力部分!I$26/2)/入力部分!I$34)^2)","v":3.9585237099562904E-9},1.1835985892769309E-6,null,null,299,{"$f":"1/入力部分!$I$35/(2*3.14)^0.5*EXP(-1/2*((V305-入力部分!$I$27/2)/入力部分!$I$35)^2)","v":6.5903424017482887E-83},1.9705123781227382E-80]
[null,null,null,null,null,null,null,300,{"$f":"(入力部分!D$7*M306+入力部分!D$8*R306+入力部分!D$9*W306)/(入力部分!D$7+入力部分!D$8+入力部分!D$9)","v":4.463222406528951E-4},null,null,300,{"$f":"1/入力部分!I$33/(2*3.14)^0.5*EXP(-1/2*((L306-入力部分!I$25)/入力部分!I$33)^2)","v":1.1901891048753273E-3},0.3570567314625982,null,null,300,{"$f":"1/入力部分!I$34/(2*3.14)^0.5*EXP(-1/2*((Q306-入力部分!I$26/2)/入力部分!I$34)^2)","v":3.5368657263079557E-9},1.0610597178923867E-6,null,null,300,{"$f":"1/入力部分!$I$35/(2*3.14)^0.5*EXP(-1/2*((V306-入力部分!$I$27/2)/入力部分!$I$35)^2)","v":1.8201858991719071E-83},5.4605576975157208E-81]
[null,null,null,null,null,null,null,301,{"$f":"(入力部分!D$7*M307+入力部分!D$8*R307+入力部分!D$9*W307)/(入力部分!D$7+入力部分!D$8+入力部分!D$9)","v":4.398717037051678E-4},null,null,301,{"$f":"1/入力部分!I$33/(2*3.14)^0.5*EXP(-1/2*((L307-入力部分!I$25)/入力部分!I$33)^2)","v":1.172988051129402E-3},0.35306940338994997,null,null,301,{"$f":"1/入力部分!I$34/(2*3.14)^0.5*EXP(-1/2*((Q307-入力部分!I$26/2)/入力部分!I$34)^2)","v":3.1587510457934367E-9},9.5078406478382446E-7,null,null,301,{"$f":"1/入力部分!$I$35/(2*3.14)^0.5*EXP(-1/2*((V307-入力部分!$I$27/2)/入力部分!$I$35)^2)","v":5.0048759145272165E-84},1.5064676502726922E-81]
[null,null,null,null,null,null,null,302,{"$f":"(入力部分!D$7*M308+入力部分!D$8*R308+入力部分!D$9*W308)/(入力部分!D$7+入力部分!D$8+入力部分!D$9)","v":4.3347508580143075E-4},null,null,302,{"$f":"1/入力部分!I$33/(2*3.14)^0.5*EXP(-1/2*((L308-入力部分!I$25)/入力部分!I$33)^2)","v":1.1559307423019392E-3},0.34909108417518564,null,null,302,{"$f":"1/入力部分!I$34/(2*3.14)^0.5*EXP(-1/2*((Q308-入力部分!I$26/2)/入力部分!I$34)^2)","v":2.8198352095410132E-9},8.51590233281386E-7,null,null,302,{"$f":"1/入力部分!$I$35/(2*3.14)^0.5*EXP(-1/2*((V308-入力部分!$I$27/2)/入力部分!$I$35)^2)","v":1.3700634663939748E-84},4.1375916685098039E-82]
[null,null,null,null,null,null,null,303,{"$f":"(入力部分!D$7*M309+入力部分!D$8*R309+入力部分!D$9*W309)/(入力部分!D$7+入力部分!D$8+入力部分!D$9)","v":4.27132753476994E-4},null,null,303,{"$f":"1/入力部分!I$33/(2*3.14)^0.5*EXP(-1/2*((L309-入力部分!I$25)/入力部分!I$33)^2)","v":1.1390181597478895E-3},0.34512250240361053,null,null,303,{"$f":"1/入力部分!I$34/(2*3.14)^0.5*EXP(-1/2*((Q309-入力部分!I$26/2)/入力部分!I$34)^2)","v":2.5161907613055911E-9},7.6240580067559408E-7,null,null,303,{"$f":"1/入力部分!$I$35/(2*3.14)^0.5*EXP(-1/2*((V309-入力部分!$I$27/2)/入力部分!$I$35)^2)","v":3.7338585306671914E-85},1.131359134792159E-82]
[null,null,null,null,null,null,null,304,{"$f":"(入力部分!D$7*M310+入力部分!D$8*R310+入力部分!D$9*W310)/(入力部分!D$7+入力部分!D$8+入力部分!D$9)","v":4.2084505338213025E-4},null,null,304,{"$f":"1/入力部分!I$33/(2*3.14)^0.5*EXP(-1/2*((L310-入力部分!I$25)/入力部分!I$33)^2)","v":1.1222512314167253E-3},0.34116437435068447,null,null,304,{"$f":"1/入力部分!I$34/(2*3.14)^0.5*EXP(-1/2*((Q310-入力部分!I$26/2)/入力部分!I$34)^2)","v":2.2442689553382856E-9},6.8225776242283885E-7,null,null,304,{"$f":"1/入力部分!$I$35/(2*3.14)^0.5*EXP(-1/2*((V310-入力部分!$I$27/2)/入力部分!$I$35)^2)","v":1.0130825505909285E-85},3.0797709537964224E-83]
[null,null,null,null,null,null,null,305,{"$f":"(入力部分!D$7*M311+入力部分!D$8*R311+入力部分!D$9*W311)/(入力部分!D$7+入力部分!D$8+入力部分!D$9)","v":4.1461231243665838E-4},null,null,305,{"$f":"1/入力部分!I$33/(2*3.14)^0.5*EXP(-1/2*((L311-入力部分!I$25)/入力部分!I$33)^2)","v":1.1056308322996194E-3},0.33721740385138393,null,null,305,{"$f":"1/入力部分!I$34/(2*3.14)^0.5*EXP(-1/2*((Q311-入力部分!I$26/2)/入力部分!I$34)^2)","v":2.0008648029497549E-9},6.1026376489967526E-7,null,null,305,{"$f":"1/入力部分!$I$35/(2*3.14)^0.5*EXP(-1/2*((V311-入力部分!$I$27/2)/入力部分!$I$35)^2)","v":2.7365388193200133E-86},8.3464433989260407E-84]
[null,null,null,null,null,null,null,306,{"$f":"(入力部分!D$7*M312+入力部分!D$8*R312+入力部分!D$9*W312)/(入力部分!D$7+入力部分!D$8+入力部分!D$9)","v":4.0843483799215754E-4},null,null,306,{"$f":"1/入力部分!I$33/(2*3.14)^0.5*EXP(-1/2*((L312-入力部分!I$25)/入力部分!I$33)^2)","v":1.0891577848939026E-3},0.33328228217753419,null,null,306,{"$f":"1/入力部分!I$34/(2*3.14)^0.5*EXP(-1/2*((Q312-入力部分!I$26/2)/入力部分!I$34)^2)","v":1.7830851843164242E-9},5.456240664008258E-7,null,null,306,{"$f":"1/入力部分!$I$35/(2*3.14)^0.5*EXP(-1/2*((V312-入力部分!$I$27/2)/入力部分!$I$35)^2)","v":7.3591591251786953E-87},2.2519026923046808E-84]
[null,null,null,null,null,null,null,307,{"$f":"(入力部分!D$7*M313+入力部分!D$8*R313+入力部分!D$9*W313)/(入力部分!D$7+入力部分!D$8+入力部分!D$9)","v":4.0231291800152337E-4},null,null,307,{"$f":"1/入力部分!I$33/(2*3.14)^0.5*EXP(-1/2*((L313-入力部分!I$25)/入力部分!I$33)^2)","v":1.0728328596842896E-3},0.3293596879230769,null,null,307,{"$f":"1/入力部分!I$34/(2*3.14)^0.5*EXP(-1/2*((Q313-入力部分!I$26/2)/入力部分!I$34)^2)","v":1.5883197727736737E-9},4.8761417024151784E-7,null,null,307,{"$f":"1/入力部分!$I$35/(2*3.14)^0.5*EXP(-1/2*((V313-入力部分!$I$27/2)/入力部分!$I$35)^2)","v":1.9702646998695739E-87},6.0487126285995921E-85]
[null,null,null,null,null,null,null,308,{"$f":"(入力部分!D$7*M314+入力部分!D$8*R314+入力部分!D$9*W314)/(入力部分!D$7+入力部分!D$8+入力部分!D$9)","v":3.9624682119559091E-4},null,null,308,{"$f":"1/入力部分!I$33/(2*3.14)^0.5*EXP(-1/2*((L314-入力部分!I$25)/入力部分!I$33)^2)","v":1.0566567756403709E-3},0.32545028689723426,null,null,308,{"$f":"1/入力部分!I$34/(2*3.14)^0.5*EXP(-1/2*((Q314-入力部分!I$26/2)/入力部分!I$34)^2)","v":1.4142145381283796E-9},4.3557807774354093E-7,null,null,308,{"$f":"1/入力部分!$I$35/(2*3.14)^0.5*EXP(-1/2*((V314-入力部分!$I$27/2)/入力部分!$I$35)^2)","v":5.2515893804022234E-88},1.6174895291638849E-85]
[null,null,null,null,null,null,null,309,{"$f":"(入力部分!D$7*M315+入力部分!D$8*R315+入力部分!D$9*W315)/(入力部分!D$7+入力部分!D$8+入力部分!D$9)","v":3.9023679726655049E-4},null,null,309,{"$f":"1/入力部分!I$33/(2*3.14)^0.5*EXP(-1/2*((L315-入力部分!I$25)/入力部分!I$33)^2)","v":1.0406302007298547E-3},0.32155473202552509,null,null,309,{"$f":"1/入力部分!I$34/(2*3.14)^0.5*EXP(-1/2*((Q315-入力部分!I$26/2)/入力部分!I$34)^2)","v":1.2586476134854683E-9},3.8892211256700968E-7,null,null,309,{"$f":"1/入力部分!$I$35/(2*3.14)^0.5*EXP(-1/2*((V315-入力部分!$I$27/2)/入力部分!$I$35)^2)","v":1.3935634548922307E-88},4.3061110756169932E-86]
[null,null,null,null,null,null,null,310,{"$f":"(入力部分!D$7*M316+入力部分!D$8*R316+入力部分!D$9*W316)/(入力部分!D$7+入力部分!D$8+入力部分!D$9)","v":3.8428307705788944E-4},null,null,310,{"$f":"1/入力部分!I$33/(2*3.14)^0.5*EXP(-1/2*((L316-入力部分!I$25)/入力部分!I$33)^2)","v":1.0247537524470452E-3},0.31767366325858404,null,null,310,{"$f":"1/入力部分!I$34/(2*3.14)^0.5*EXP(-1/2*((Q316-入力部分!I$26/2)/入力部分!I$34)^2)","v":1.1197073267971037E-9},3.4710927130710216E-7,null,null,310,{"$f":"1/入力部分!$I$35/(2*3.14)^0.5*EXP(-1/2*((V316-入力部分!$I$27/2)/入力部分!$I$35)^2)","v":3.6815655581629538E-89},1.1412853230305157E-86]
[null,null,null,null,null,null,null,311,{"$f":"(入力部分!D$7*M317+入力部分!D$8*R317+入力部分!D$9*W317)/(入力部分!D$7+入力部分!D$8+入力部分!D$9)","v":3.783858727605984E-4},null,null,311,{"$f":"1/入力部分!I$33/(2*3.14)^0.5*EXP(-1/2*((L317-入力部分!I$25)/入力部分!I$33)^2)","v":1.0090279983560487E-3},0.31380770748873116,null,null,311,{"$f":"1/入力部分!I$34/(2*3.14)^0.5*EXP(-1/2*((Q317-入力部分!I$26/2)/入力部分!I$34)^2)","v":9.9567221388334606E-10},3.0965405851772065E-7,null,null,311,{"$f":"1/入力部分!$I$35/(2*3.14)^0.5*EXP(-1/2*((V317-入力部分!$I$27/2)/入力部分!$I$35)^2)","v":9.6829598343884002E-90},3.0114005084947923E-87]
[null,null,null,null,null,null,null,312,{"$f":"(入力部分!D$7*M318+入力部分!D$8*R318+入力部分!D$9*W318)/(入力部分!D$7+入力部分!D$8+入力部分!D$9)","v":3.7254537811538514E-4},null,null,312,{"$f":"1/入力部分!I$33/(2*3.14)^0.5*EXP(-1/2*((L318-入力部分!I$25)/入力部分!I$33)^2)","v":9.9345345664818285E-4},0.30995747847423305,null,null,312,{"$f":"1/入力部分!I$34/(2*3.14)^0.5*EXP(-1/2*((Q318-入力部分!I$26/2)/入力部分!I$34)^2)","v":8.8499284411107906E-10},2.7611776736265669E-7,null,null,312,{"$f":"1/入力部分!$I$35/(2*3.14)^0.5*EXP(-1/2*((V318-入力部分!$I$27/2)/入力部分!$I$35)^2)","v":2.5354410916718648E-90},7.9105762060162183E-88]
[null,null,null,null,null,null,null,313,{"$f":"(入力部分!D$7*M319+入力部分!D$8*R319+入力部分!D$9*W319)/(入力部分!D$7+入力部分!D$8+入力部分!D$9)","v":3.6676176862064251E-4},null,null,313,{"$f":"1/入力部分!I$33/(2*3.14)^0.5*EXP(-1/2*((L319-入力部分!I$25)/入力部分!I$33)^2)","v":9.780305967130767E-4},0.30612357677119301,null,null,313,{"$f":"1/入力部分!I$34/(2*3.14)^0.5*EXP(-1/2*((Q319-入力部分!I$26/2)/入力部分!I$34)^2)","v":7.8627530332063142E-10},2.4610416993935763E-7,null,null,313,{"$f":"1/入力部分!$I$35/(2*3.14)^0.5*EXP(-1/2*((V319-入力部分!$I$27/2)/入力部分!$I$35)^2)","v":6.6095017388181977E-91},2.0687740442500959E-88]
[null,null,null,null,null,null,null,314,{"$f":"(入力部分!D$7*M320+入力部分!D$8*R320+入力部分!D$9*W320)/(入力部分!D$7+入力部分!D$8+入力部分!D$9)","v":3.6103520174592428E-4},null,null,314,{"$f":"1/入力部分!I$33/(2*3.14)^0.5*EXP(-1/2*((L320-入力部分!I$25)/入力部分!I$33)^2)","v":9.6275983972294048E-4},0.30230658967300333,null,null,314,{"$f":"1/入力部分!I$34/(2*3.14)^0.5*EXP(-1/2*((Q320-入力部分!I$26/2)/入力部分!I$34)^2)","v":6.9826619102235015E-10},2.1925558398101795E-7,null,null,314,{"$f":"1/入力部分!$I$35/(2*3.14)^0.5*EXP(-1/2*((V320-入力部分!$I$27/2)/入力部分!$I$35)^2)","v":1.7153538437576453E-91},5.3862110693990063E-89]
[null,null,null,null,null,null,null,315,{"$f":"(入力部分!D$7*M321+入力部分!D$8*R321+入力部分!D$9*W321)/(入力部分!D$7+入力部分!D$8+入力部分!D$9)","v":3.5536581715068296E-4},null,null,315,{"$f":"1/入力部分!I$33/(2*3.14)^0.5*EXP(-1/2*((L321-入力部分!I$25)/入力部分!I$33)^2)","v":9.4764155922948763E-4},0.29850709115728863,null,null,315,{"$f":"1/入力部分!I$34/(2*3.14)^0.5*EXP(-1/2*((Q321-入力部分!I$26/2)/入力部分!I$34)^2)","v":6.1983900040947518E-10},1.9524928512898467E-7,null,null,315,{"$f":"1/入力部分!$I$35/(2*3.14)^0.5*EXP(-1/2*((V321-入力部分!$I$27/2)/入力部分!$I$35)^2)","v":4.4320894938098427E-92},1.3961081905501004E-89]
[null,null,null,null,null,null,null,316,{"$f":"(入力部分!D$7*M322+入力部分!D$8*R322+入力部分!D$9*W322)/(入力部分!D$7+入力部分!D$8+入力部分!D$9)","v":3.4975373690803081E-4},null,null,316,{"$f":"1/入力部分!I$33/(2*3.14)^0.5*EXP(-1/2*((L322-入力部分!I$25)/入力部分!I$33)^2)","v":9.3267608177298846E-4},0.29472564184026434,null,null,316,{"$f":"1/入力部分!I$34/(2*3.14)^0.5*EXP(-1/2*((Q322-入力部分!I$26/2)/入力部分!I$34)^2)","v":5.4998176040719349E-10},1.7379423628867315E-7,null,null,316,{"$f":"1/入力部分!$I$35/(2*3.14)^0.5*EXP(-1/2*((V322-入力部分!$I$27/2)/入力部分!$I$35)^2)","v":1.1400742183578927E-92},3.602634530010941E-90]
[null,null,null,null,null,null,null,317,{"$f":"(入力部分!D$7*M323+入力部分!D$8*R323+入力部分!D$9*W323)/(入力部分!D$7+入力部分!D$8+入力部分!D$9)","v":3.4419906573328861E-4},null,null,317,{"$f":"1/入力部分!I$33/(2*3.14)^0.5*EXP(-1/2*((L323-入力部分!I$25)/入力部分!I$33)^2)","v":9.1786368750294085E-4},0.29096278893843225,null,null,317,{"$f":"1/入力部分!I$34/(2*3.14)^0.5*EXP(-1/2*((Q323-入力部分!I$26/2)/入力部分!I$34)^2)","v":4.8778582885645564E-10},1.5462810774749643E-7,null,null,317,{"$f":"1/入力部分!$I$35/(2*3.14)^0.5*EXP(-1/2*((V323-入力部分!$I$27/2)/入力部分!$I$35)^2)","v":2.9196280700056431E-93},9.2552209819178883E-91]
[null,null,null,null,null,null,null,318,{"$f":"(入力部分!D$7*M324+入力部分!D$8*R324+入力部分!D$9*W324)/(入力部分!D$7+入力部分!D$8+入力部分!D$9)","v":3.3870189121708939E-4},null,null,318,{"$f":"1/入力部分!I$33/(2*3.14)^0.5*EXP(-1/2*((L324-入力部分!I$25)/入力部分!I$33)^2)","v":9.0320461080983675E-4},0.28721906623752808,null,null,318,{"$f":"1/入力部分!I$34/(2*3.14)^0.5*EXP(-1/2*((Q324-入力部分!I$26/2)/入力部分!I$34)^2)","v":4.3243573506732318E-10},1.3751456375140878E-7,null,null,318,{"$f":"1/入力部分!$I$35/(2*3.14)^0.5*EXP(-1/2*((V324-入力部分!$I$27/2)/入力部分!$I$35)^2)","v":7.4437493083835575E-94},2.3671122800659712E-91]
[null,null,null,null,null,null,null,319,{"$f":"(入力部分!D$7*M325+入力部分!D$8*R325+入力部分!D$9*W325)/(入力部分!D$7+入力部分!D$8+入力部分!D$9)","v":3.3326228406280813E-4},null,null,319,{"$f":"1/入力部分!I$33/(2*3.14)^0.5*EXP(-1/2*((L325-入力部分!I$25)/入力部分!I$33)^2)","v":8.8869904096751005E-4},0.28349499406863571,null,null,319,{"$f":"1/入力部分!I$34/(2*3.14)^0.5*EXP(-1/2*((Q325-入力部分!I$26/2)/入力部分!I$34)^2)","v":3.831999784196704E-10},1.2224079311587485E-7,null,null,319,{"$f":"1/入力部分!$I$35/(2*3.14)^0.5*EXP(-1/2*((V325-入力部分!$I$27/2)/入力部分!$I$35)^2)","v":1.8894079954761063E-94},6.0272115055687789E-92]
[null,null,null,null,null,null,null,320,{"$f":"(入力部分!D$7*M326+入力部分!D$8*R326+入力部分!D$9*W326)/(入力部分!D$7+入力部分!D$8+入力部分!D$9)","v":3.2788029832809293E-4},null,null,320,{"$f":"1/入力部分!I$33/(2*3.14)^0.5*EXP(-1/2*((L326-入力部分!I$25)/入力部分!I$33)^2)","v":8.7434712278555043E-4},0.27979107929137614,null,null,320,{"$f":"1/入力部分!I$34/(2*3.14)^0.5*EXP(-1/2*((Q326-入力部分!I$26/2)/入力部分!I$34)^2)","v":3.3942269748620343E-10},1.0861526319558509E-7,null,null,320,{"$f":"1/入力部分!$I$35/(2*3.14)^0.5*EXP(-1/2*((V326-入力部分!$I$27/2)/入力部分!$I$35)^2)","v":4.7745182917575118E-95},1.5278458533624038E-92]
[null,null,null,null,null,null,null,321,{"$f":"(入力部分!D$7*M327+入力部分!D$8*R327+入力部分!D$9*W327)/(入力部分!D$7+入力部分!D$8+入力部分!D$9)","v":3.2255597167027579E-4},null,null,321,{"$f":"1/入力部分!I$33/(2*3.14)^0.5*EXP(-1/2*((L327-入力部分!I$25)/入力部分!I$33)^2)","v":8.6014895727127096E-4},{"$f":"L327*$M327","v":0.27610781528407796},null,null,321,{"$f":"1/入力部分!I$34/(2*3.14)^0.5*EXP(-1/2*((Q327-入力部分!I$26/2)/入力部分!I$34)^2)","v":3.0051613134802371E-10},{"$f":"Q327*$R327","v":9.6465678162715606E-8},null,null,321,{"$f":"1/入力部分!$I$35/(2*3.14)^0.5*EXP(-1/2*((V327-入力部分!$I$27/2)/入力部分!$I$35)^2)","v":1.2011664033977006E-95},{"$f":"V327*$W327","v":3.855744154906619E-93}]
[null,null,null,null,null,null,null,322,{"$f":"(入力部分!D$7*M328+入力部分!D$8*R328+入力部分!D$9*W328)/(入力部分!D$7+入力部分!D$8+入力部分!D$9)","v":3.1728932559544509E-4},null,null,322,{"$f":"1/入力部分!I$33/(2*3.14)^0.5*EXP(-1/2*((L328-入力部分!I$25)/入力部分!I$33)^2)","v":8.4610460230071893E-4},0.27244568194083152,null,null,322,{"$f":"1/入力部分!I$34/(2*3.14)^0.5*EXP(-1/2*((Q328-入力部分!I$26/2)/入力部分!I$34)^2)","v":2.6595380140803389E-10},8.5637124053386913E-8,null,null,322,{"$f":"1/入力部分!$I$35/(2*3.14)^0.5*EXP(-1/2*((V328-入力部分!$I$27/2)/入力部分!$I$35)^2)","v":3.008476294340355E-96},9.6872936677759438E-94]
[null,null,null,null,null,null,null,323,{"$f":"(入力部分!D$7*M329+入力部分!D$8*R329+入力部分!D$9*W329)/(入力部分!D$7+入力部分!D$8+入力部分!D$9)","v":3.1208036571096244E-4},null,null,323,{"$f":"1/入力部分!I$33/(2*3.14)^0.5*EXP(-1/2*((L329-入力部分!I$25)/入力部分!I$33)^2)","v":8.3221407329821847E-4},0.26880514567532454,null,null,323,{"$f":"1/入力部分!I$34/(2*3.14)^0.5*EXP(-1/2*((Q329-入力部分!I$26/2)/入力部分!I$34)^2)","v":2.3526434812163812E-10},7.5990384443289119E-8,null,null,323,{"$f":"1/入力部分!$I$35/(2*3.14)^0.5*EXP(-1/2*((V329-入力部分!$I$27/2)/入力部分!$I$35)^2)","v":7.5017020904790492E-97},2.4230497752247328E-94]
[null,null,null,null,null,null,null,324,{"$f":"(入力部分!D$7*M330+入力部分!D$8*R330+入力部分!D$9*W330)/(入力部分!D$7+入力部分!D$8+入力部分!D$9)","v":3.0692908198121511E-4},null,null,324,{"$f":"1/入力部分!I$33/(2*3.14)^0.5*EXP(-1/2*((L330-入力部分!I$25)/入力部分!I$33)^2)","v":8.1847734392394441E-4},0.265186659431358,null,null,324,{"$f":"1/入力部分!I$34/(2*3.14)^0.5*EXP(-1/2*((Q330-入力部分!I$26/2)/入力部分!I$34)^2)","v":2.0802596269447397E-10},6.7400411913009564E-8,null,null,324,{"$f":"1/入力部分!$I$35/(2*3.14)^0.5*EXP(-1/2*((V330-入力部分!$I$27/2)/入力部分!$I$35)^2)","v":1.8622708066326699E-97},6.0337574134898499E-95]
[null,null,null,null,null,null,null,325,{"$f":"(入力部分!D$7*M331+入力部分!D$8*R331+入力部分!D$9*W331)/(入力部分!D$7+入力部分!D$8+入力部分!D$9)","v":3.0183544898639312E-4},null,null,325,{"$f":"1/入力部分!I$33/(2*3.14)^0.5*EXP(-1/2*((L331-入力部分!I$25)/入力部分!I$33)^2)","v":8.0489434676902279E-4},0.26159066269993242,null,null,325,{"$f":"1/入力部分!I$34/(2*3.14)^0.5*EXP(-1/2*((Q331-入力部分!I$26/2)/入力部分!I$34)^2)","v":1.8386135897771313E-10},5.9754941667756762E-8,null,null,325,{"$f":"1/入力部分!$I$35/(2*3.14)^0.5*EXP(-1/2*((V331-入力部分!$I$27/2)/入力部分!$I$35)^2)","v":4.6025197353281247E-98},1.4958189139816405E-95]
[null,null,null,null,null,null,null,326,{"$f":"(入力部分!D$7*M332+入力部分!D$8*R332+入力部分!D$9*W332)/(入力部分!D$7+入力部分!D$8+入力部分!D$9)","v":2.9679942618408524E-4},null,null,326,{"$f":"1/入力部分!I$33/(2*3.14)^0.5*EXP(-1/2*((L332-入力部分!I$25)/入力部分!I$33)^2)","v":7.9146497405765861E-4},0.25801758154279669,null,null,326,{"$f":"1/入力部分!I$34/(2*3.14)^0.5*EXP(-1/2*((Q332-入力部分!I$26/2)/入力部分!I$34)^2)","v":1.624332355555943E-10},5.2953234791123743E-8,null,null,326,{"$f":"1/入力部分!$I$35/(2*3.14)^0.5*EXP(-1/2*((V332-入力部分!$I$27/2)/入力部分!$I$35)^2)","v":1.1324480437644976E-98},3.691780622672262E-96]
[null,null,null,null,null,null,null,327,{"$f":"(入力部分!D$7*M333+入力部分!D$8*R333+入力部分!D$9*W333)/(入力部分!D$7+入力部分!D$8+入力部分!D$9)","v":2.9182095817349246E-4},null,null,327,{"$f":"1/入力部分!I$33/(2*3.14)^0.5*EXP(-1/2*((L333-入力部分!I$25)/入力部分!I$33)^2)","v":7.7818907835579753E-4},0.25446782862234579,null,null,327,{"$f":"1/入力部分!I$34/(2*3.14)^0.5*EXP(-1/2*((Q333-入力部分!I$26/2)/入力部分!I$34)^2)","v":1.434401823976794E-10},4.6904939644041163E-8,null,null,327,{"$f":"1/入力部分!$I$35/(2*3.14)^0.5*EXP(-1/2*((V333-入力部分!$I$27/2)/入力部分!$I$35)^2)","v":2.7740271972247575E-99},9.0710689349249566E-97]
[null,null,null,null,null,null,null,328,{"$f":"(入力部分!D$7*M334+入力部分!D$8*R334+入力部分!D$9*W334)/(入力部分!D$7+入力部分!D$8+入力部分!D$9)","v":2.8689997496205707E-4},null,null,328,{"$f":"1/入力部分!I$33/(2*3.14)^0.5*EXP(-1/2*((L334-入力部分!I$25)/入力部分!I$33)^2)","v":7.6506647328582851E-4},0.25094180323775173,null,null,328,{"$f":"1/入力部分!I$34/(2*3.14)^0.5*EXP(-1/2*((Q334-入力部分!I$26/2)/入力部分!I$34)^2)","v":1.266129904683614E-10},4.1529060873622536E-8,null,null,328,{"$f":"1/入力部分!$I$35/(2*3.14)^0.5*EXP(-1/2*((V334-入力部分!$I$27/2)/入力部分!$I$35)^2)","v":6.7650801416382813E-100},2.2189462864573564E-97]
[null,null,null,null,null,null,null,329,{"$f":"(入力部分!D$7*M335+入力部分!D$8*R335+入力部分!D$9*W335)/(入力部分!D$7+入力部分!D$8+入力部分!D$9)","v":2.8203639223431436E-4},null,null,329,{"$f":"1/入力部分!I$33/(2*3.14)^0.5*EXP(-1/2*((L335-入力部分!I$25)/入力部分!I$33)^2)","v":7.5209693424684531E-4},0.24743989136721212,null,null,329,{"$f":"1/入力部分!I$34/(2*3.14)^0.5*EXP(-1/2*((Q335-入力部分!I$26/2)/入力部分!I$34)^2)","v":1.1171132637521824E-10},3.6753026377446802E-8,null,null,329,{"$f":"1/入力部分!$I$35/(2*3.14)^0.5*EXP(-1/2*((V335-入力部分!$I$27/2)/入力部分!$I$35)^2)","v":1.6424984907569633E-100},5.4038200345904091E-98]
[null,null,null,null,null,null,null,330,{"$f":"(入力部分!D$7*M336+入力部分!D$8*R336+入力部分!D$9*W336)/(入力部分!D$7+入力部分!D$8+入力部分!D$9)","v":2.7723011162276832E-4},null,null,330,{"$f":"1/入力部分!I$33/(2*3.14)^0.5*EXP(-1/2*((L336-入力部分!I$25)/入力部分!I$33)^2)","v":7.3928019913997809E-4},0.24396246571619276,null,null,330,{"$f":"1/入力部分!I$34/(2*3.14)^0.5*EXP(-1/2*((Q336-入力部分!I$26/2)/入力部分!I$34)^2)","v":9.8520737520791859E-11},3.2511843381861312E-8,null,null,330,{"$f":"1/入力部分!$I$35/(2*3.14)^0.5*EXP(-1/2*((V336-入力部分!$I$27/2)/入力部分!$I$35)^2)","v":3.9701490794817918E-101},1.3101491962289913E-98]
[null,null,null,null,null,null,null,331,{"$f":"(入力部分!D$7*M337+入力部分!D$8*R337+入力部分!D$9*W337)/(入力部分!D$7+入力部分!D$8+入力部分!D$9)","v":2.7248102098060553E-4},null,null,331,{"$f":"1/入力部分!I$33/(2*3.14)^0.5*EXP(-1/2*((L337-入力部分!I$25)/入力部分!I$33)^2)","v":7.2661596909832525E-4},0.24050988577154567,null,null,331,{"$f":"1/入力部分!I$34/(2*3.14)^0.5*EXP(-1/2*((Q337-入力部分!I$26/2)/入力部分!I$34)^2)","v":8.6849956322580564E-11},2.8747335542774167E-8,null,null,331,{"$f":"1/入力部分!$I$35/(2*3.14)^0.5*EXP(-1/2*((V337-入力部分!$I$27/2)/入力部分!$I$35)^2)","v":9.5538507589214212E-102},3.1623246012029904E-99]
[null,null,null,null,null,null,null,332,{"$f":"(入力部分!D$7*M338+入力部分!D$8*R338+入力部分!D$9*W338)/(入力部分!D$7+入力部分!D$8+入力部分!D$9)","v":2.6778899465605666E-4},null,null,332,{"$f":"1/入力部分!I$33/(2*3.14)^0.5*EXP(-1/2*((L338-入力部分!I$25)/入力部分!I$33)^2)","v":7.1410390922100947E-4},0.23708249786137514,null,null,332,{"$f":"1/入力部分!I$34/(2*3.14)^0.5*EXP(-1/2*((Q338-入力部分!I$26/2)/入力部分!I$34)^2)","v":7.652847490519467E-11},2.5407453668524631E-8,null,null,332,{"$f":"1/入力部分!$I$35/(2*3.14)^0.5*EXP(-1/2*((V338-入力部分!$I$27/2)/入力部分!$I$35)^2)","v":2.2888634977037432E-102},7.5990268123764279E-100]
[null,null,null,null,null,null,null,333,{"$f":"(入力部分!D$7*M339+入力部分!D$8*R339+入力部分!D$9*W339)/(入力部分!D$7+入力部分!D$8+入力部分!D$9)","v":2.6315389376822113E-4},null,null,333,{"$f":"1/入力部分!I$33/(2*3.14)^0.5*EXP(-1/2*((L339-入力部分!I$25)/入力部分!I$33)^2)","v":7.0174364931089217E-4},0.23368063522052709,null,null,333,{"$f":"1/入力部分!I$34/(2*3.14)^0.5*EXP(-1/2*((Q339-入力部分!I$26/2)/入力部分!I$34)^2)","v":6.7404364267034756E-11},2.2445653300922573E-8,null,null,333,{"$f":"1/入力部分!$I$35/(2*3.14)^0.5*EXP(-1/2*((V339-入力部分!$I$27/2)/入力部分!$I$35)^2)","v":5.4592267826116248E-103},1.8179225186096711E-100]
[null,null,null,null,null,null,null,334,{"$f":"(入力部分!D$7*M340+入力部分!D$8*R340+入力部分!D$9*W340)/(入力部分!D$7+入力部分!D$8+入力部分!D$9)","v":2.5857556648417585E-4},null,null,334,{"$f":"1/入力部分!I$33/(2*3.14)^0.5*EXP(-1/2*((L340-入力部分!I$25)/入力部分!I$33)^2)","v":6.8953478461548803E-4},0.23030461806157301,null,null,334,{"$f":"1/入力部分!I$34/(2*3.14)^0.5*EXP(-1/2*((Q340-入力部分!I$26/2)/入力部分!I$34)^2)","v":5.934231430025832E-11},1.9820332976286279E-8,null,null,334,{"$f":"1/入力部分!$I$35/(2*3.14)^0.5*EXP(-1/2*((V340-入力部分!$I$27/2)/入力部分!$I$35)^2)","v":1.2963198781617712E-103},4.3297083930603159E-101]
[null,null,null,null,null,null,null,335,{"$f":"(入力部分!D$7*M341+入力部分!D$8*R341+入力部分!D$9*W341)/(入力部分!D$7+入力部分!D$8+入力部分!D$9)","v":2.5405384829718587E-4},null,null,335,{"$f":"1/入力部分!I$33/(2*3.14)^0.5*EXP(-1/2*((L341-入力部分!I$25)/入力部分!I$33)^2)","v":6.774768765706225E-4},0.22695475365115853,null,null,335,{"$f":"1/入力部分!I$34/(2*3.14)^0.5*EXP(-1/2*((Q341-入力部分!I$26/2)/入力部分!I$34)^2)","v":5.2221873214818195E-11},1.7494327526964094E-8,null,null,335,{"$f":"1/入力部分!$I$35/(2*3.14)^0.5*EXP(-1/2*((V341-入力部分!$I$27/2)/入力部分!$I$35)^2)","v":3.0645240069965583E-104},1.026615542343847E-101]
[null,null,null,null,null,null,null,336,{"$f":"(入力部分!D$7*M342+入力部分!D$8*R342+入力部分!D$9*W342)/(入力部分!D$7+入力部分!D$8+入力部分!D$9)","v":2.4958856230584308E-4},null,null,336,{"$f":"1/入力部分!I$33/(2*3.14)^0.5*EXP(-1/2*((L342-入力部分!I$25)/入力部分!I$33)^2)","v":6.6556945354638141E-4},0.22363133639158417,null,null,336,{"$f":"1/入力部分!I$34/(2*3.14)^0.5*EXP(-1/2*((Q342-入力部分!I$26/2)/入力部分!I$34)^2)","v":4.5935866901230283E-11},1.5434451278813374E-8,null,null,336,{"$f":"1/入力部分!$I$35/(2*3.14)^0.5*EXP(-1/2*((V342-入力部分!$I$27/2)/入力部分!$I$35)^2)","v":7.2124643148698264E-105},2.4233880097962618E-102]
[null,null,null,null,null,null,null,337,{"$f":"(入力部分!D$7*M343+入力部分!D$8*R343+入力部分!D$9*W343)/(入力部分!D$7+入力部分!D$8+入力部分!D$9)","v":2.4517951949396222E-4},null,null,337,{"$f":"1/入力部分!I$33/(2*3.14)^0.5*EXP(-1/2*((L343-入力部分!I$25)/入力部分!I$33)^2)","v":6.5381201159491874E-4},0.22033464790748761,null,null,337,{"$f":"1/入力部分!I$34/(2*3.14)^0.5*EXP(-1/2*((Q343-入力部分!I$26/2)/入力部分!I$34)^2)","v":4.0388980577556407E-11},1.361108645463651E-8,null,null,337,{"$f":"1/入力部分!$I$35/(2*3.14)^0.5*EXP(-1/2*((V343-入力部分!$I$27/2)/入力部分!$I$35)^2)","v":1.6899510652333322E-105},5.6951350898363296E-103]
[null,null,null,null,null,null,null,338,{"$f":"(入力部分!D$7*M344+入力部分!D$8*R344+入力部分!D$9*W344)/(入力部分!D$7+入力部分!D$8+入力部分!D$9)","v":2.4082651901106115E-4},null,null,338,{"$f":"1/入力部分!I$33/(2*3.14)^0.5*EXP(-1/2*((L344-入力部分!I$25)/入力部分!I$33)^2)","v":6.4220401519967632E-4},0.21706495713749061,null,null,338,{"$f":"1/入力部分!I$34/(2*3.14)^0.5*EXP(-1/2*((Q344-入力部分!I$26/2)/入力部分!I$34)^2)","v":3.5496486717926016E-11},1.1997812510658994E-8,null,null,338,{"$f":"1/入力部分!$I$35/(2*3.14)^0.5*EXP(-1/2*((V344-入力部分!$I$27/2)/入力部分!$I$35)^2)","v":3.9421612379584736E-106},1.3324504984299641E-103]
[null,null,null,null,null,null,null,339,{"$f":"(入力部分!D$7*M345+入力部分!D$8*R345+入力部分!D$9*W345)/(入力部分!D$7+入力部分!D$8+入力部分!D$9)","v":2.3652934845326207E-4},null,null,339,{"$f":"1/入力部分!I$33/(2*3.14)^0.5*EXP(-1/2*((L345-入力部分!I$25)/入力部分!I$33)^2)","v":6.3074489802559413E-4},0.2138225204306764,null,null,339,{"$f":"1/入力部分!I$34/(2*3.14)^0.5*EXP(-1/2*((Q345-入力部分!I$26/2)/入力部分!I$34)^2)","v":3.1183104765734196E-11},1.0571072515583893E-8,null,null,339,{"$f":"1/入力部分!$I$35/(2*3.14)^0.5*EXP(-1/2*((V345-入力部分!$I$27/2)/入力部分!$I$35)^2)","v":9.1551284028752298E-107},3.1035885285747031E-104]
[null,null,null,null,null,null,null,340,{"$f":"(入力部分!D$7*M346+入力部分!D$8*R346+入力部分!D$9*W346)/(入力部分!D$7+入力部分!D$8+入力部分!D$9)","v":2.3228778414444924E-4},null,null,340,{"$f":"1/入力部分!I$33/(2*3.14)^0.5*EXP(-1/2*((L346-入力部分!I$25)/入力部分!I$33)^2)","v":6.194340636698851E-4},0.21060758164776094,null,null,340,{"$f":"1/入力部分!I$34/(2*3.14)^0.5*EXP(-1/2*((Q346-入力部分!I$26/2)/入力部分!I$34)^2)","v":2.7381979506471107E-11},9.3098730322001771E-9,null,null,340,{"$f":"1/入力部分!$I$35/(2*3.14)^0.5*EXP(-1/2*((V346-入力部分!$I$27/2)/入力部分!$I$35)^2)","v":2.1167243144114251E-107},7.1968626689988454E-105]
[null,null,null,null,null,null,null,341,{"$f":"(入力部分!D$7*M347+入力部分!D$8*R347+入力部分!D$9*W347)/(入力部分!D$7+入力部分!D$8+入力部分!D$9)","v":2.2810159141752309E-4},null,null,341,{"$f":"1/入力部分!I$33/(2*3.14)^0.5*EXP(-1/2*((L347-入力部分!I$25)/入力部分!I$33)^2)","v":6.0827088641296208E-4},0.20742037226682006,null,null,341,{"$f":"1/入力部分!I$34/(2*3.14)^0.5*EXP(-1/2*((Q347-入力部分!I$26/2)/入力部分!I$34)^2)","v":2.4033766224083899E-11},8.19551428241261E-9,null,null,341,{"$f":"1/入力部分!$I$35/(2*3.14)^0.5*EXP(-1/2*((V347-入力部分!$I$27/2)/入力部分!$I$35)^2)","v":4.8722993093966921E-108},1.6614540645042719E-105]
[null,null,null,null,null,null,null,342,{"$f":"(入力部分!D$7*M348+入力部分!D$8*R348+入力部分!D$9*W348)/(入力部分!D$7+入力部分!D$8+入力部分!D$9)","v":2.2397052489559448E-4},null,null,342,{"$f":"1/入力部分!I$33/(2*3.14)^0.5*EXP(-1/2*((L348-入力部分!I$25)/入力部分!I$33)^2)","v":5.972547119691068E-4},0.20426111149343451,null,null,342,{"$f":"1/入力部分!I$34/(2*3.14)^0.5*EXP(-1/2*((Q348-入力部分!I$26/2)/入力部分!I$34)^2)","v":2.1085811901143727E-11},7.2113476701911545E-9,null,null,342,{"$f":"1/入力部分!$I$35/(2*3.14)^0.5*EXP(-1/2*((V348-入力部分!$I$27/2)/入力部分!$I$35)^2)","v":1.1165377802016829E-108},3.8185592082897557E-106]
[null,null,null,null,null,null,null,343,{"$f":"(入力部分!D$7*M349+入力部分!D$8*R349+入力部分!D$9*W349)/(入力部分!D$7+入力部分!D$8+入力部分!D$9)","v":2.1989432877296444E-4},null,null,343,{"$f":"1/入力部分!I$33/(2*3.14)^0.5*EXP(-1/2*((L349-入力部分!I$25)/入力部分!I$33)^2)","v":5.8638485823648244E-4},0.20113000637511347,null,null,343,{"$f":"1/入力部分!I$34/(2*3.14)^0.5*EXP(-1/2*((Q349-入力部分!I$26/2)/入力部分!I$34)^2)","v":1.8491422756351087E-11},6.3425580054284231E-9,null,null,343,{"$f":"1/入力部分!$I$35/(2*3.14)^0.5*EXP(-1/2*((V349-入力部分!$I$27/2)/入力部分!$I$35)^2)","v":2.5473152082350087E-109},8.7372911642460795E-107]
[null,null,null,null,null,null,null,344,{"$f":"(入力部分!D$7*M350+入力部分!D$8*R350+入力部分!D$9*W350)/(入力部分!D$7+入力部分!D$8+入力部分!D$9)","v":2.1587273709573927E-4},null,null,344,{"$f":"1/入力部分!I$33/(2*3.14)^0.5*EXP(-1/2*((L350-入力部分!I$25)/入力部分!I$33)^2)","v":5.756606160460954E-4},0.19802725191985682,null,null,344,{"$f":"1/入力部分!I$34/(2*3.14)^0.5*EXP(-1/2*((Q350-入力部分!I$26/2)/入力部分!I$34)^2)","v":1.6209209351852402E-11},5.575968017037226E-9,null,null,344,{"$f":"1/入力部分!$I$35/(2*3.14)^0.5*EXP(-1/2*((V350-入力部分!$I$27/2)/入力部分!$I$35)^2)","v":5.7857778752489697E-110},1.9903075890856455E-107]
[null,null,null,null,null,null,null,345,{"$f":"(入力部分!D$7*M351+入力部分!D$8*R351+入力部分!D$9*W351)/(入力部分!D$7+入力部分!D$8+入力部分!D$9)","v":2.1190547404193502E-4},null,null,345,{"$f":"1/入力部分!I$33/(2*3.14)^0.5*EXP(-1/2*((L351-入力部分!I$25)/入力部分!I$33)^2)","v":5.6508124990932538E-4},0.19495303121871727,null,null,345,{"$f":"1/入力部分!I$34/(2*3.14)^0.5*EXP(-1/2*((Q351-入力部分!I$26/2)/入力部分!I$34)^2)","v":1.4202501355523157E-11},4.8998629676554896E-9,null,null,345,{"$f":"1/入力部分!$I$35/(2*3.14)^0.5*EXP(-1/2*((V351-入力部分!$I$27/2)/入力部分!$I$35)^2)","v":1.3083098967764139E-110},4.5136691438786281E-108]
[null,null,null,null,null,null,null,346,{"$f":"(入力部分!D$7*M352+入力部分!D$8*R352+入力部分!D$9*W352)/(入力部分!D$7+入力部分!D$8+入力部分!D$9)","v":2.0799225420092468E-4},null,null,346,{"$f":"1/入力部分!I$33/(2*3.14)^0.5*EXP(-1/2*((L352-入力部分!I$25)/入力部分!I$33)^2)","v":5.54645998763641E-4},0.1919075155722198,null,null,346,{"$f":"1/入力部分!I$34/(2*3.14)^0.5*EXP(-1/2*((Q352-入力部分!I$26/2)/入力部分!I$34)^2)","v":1.2438824817233574E-11},4.3038333867628163E-9,null,null,346,{"$f":"1/入力部分!$I$35/(2*3.14)^0.5*EXP(-1/2*((V352-入力部分!$I$27/2)/入力部分!$I$35)^2)","v":2.9452983845307338E-111},1.0190732410476338E-108]
[null,null,null,null,null,null,null,347,{"$f":"(入力部分!D$7*M353+入力部分!D$8*R353+入力部分!D$9*W353)/(入力部分!D$7+入力部分!D$8+入力部分!D$9)","v":2.0413278285208954E-4},null,null,347,{"$f":"1/入力部分!I$33/(2*3.14)^0.5*EXP(-1/2*((L353-入力部分!I$25)/入力部分!I$33)^2)","v":5.4435407671613663E-4},0.18889086462049942,null,null,347,{"$f":"1/入力部分!I$34/(2*3.14)^0.5*EXP(-1/2*((Q353-入力部分!I$26/2)/入力部分!I$34)^2)","v":1.0889435520011518E-11},3.7786341254439965E-9,null,null,347,{"$f":"1/入力部分!$I$35/(2*3.14)^0.5*EXP(-1/2*((V353-入力部分!$I$27/2)/入力部分!$I$35)^2)","v":6.6011222234567487E-112},2.2905894115394916E-109]
[null,null,null,null,null,null,null,348,{"$f":"(入力部分!D$7*M354+入力部分!D$8*R354+入力部分!D$9*W354)/(入力部分!D$7+入力部分!D$8+入力部分!D$9)","v":2.0032675624253655E-4},null,null,348,{"$f":"1/入力部分!I$33/(2*3.14)^0.5*EXP(-1/2*((L354-入力部分!I$25)/入力部分!I$33)^2)","v":5.3420467378452821E-4},0.18590322647701582,null,null,348,{"$f":"1/入力部分!I$34/(2*3.14)^0.5*EXP(-1/2*((Q354-入力部分!I$26/2)/入力部分!I$34)^2)","v":9.5289026032451214E-12},3.3160581059293022E-9,null,null,348,{"$f":"1/入力部分!$I$35/(2*3.14)^0.5*EXP(-1/2*((V354-入力部分!$I$27/2)/入力部分!$I$35)^2)","v":1.4729094588791381E-112},5.125724916899401E-110]
[null,null,null,null,null,null,null,349,{"$f":"(入力部分!D$7*M355+入力部分!D$8*R355+入力部分!D$9*W355)/(入力部分!D$7+入力部分!D$8+入力部分!D$9)","v":1.9657386186374689E-4},null,null,349,{"$f":"1/入力部分!I$33/(2*3.14)^0.5*EXP(-1/2*((L355-入力部分!I$25)/入力部分!I$33)^2)","v":5.2419695663525451E-4},0.18294473786570384,null,null,349,{"$f":"1/入力部分!I$34/(2*3.14)^0.5*EXP(-1/2*((Q355-入力部分!I$26/2)/入力部分!I$34)^2)","v":8.3347372314134484E-12},2.9088232937632936E-9,null,null,349,{"$f":"1/入力部分!$I$35/(2*3.14)^0.5*EXP(-1/2*((V355-入力部分!$I$27/2)/入力部分!$I$35)^2)","v":3.2719309557840713E-113},1.1419039035686408E-110]
[null,null,null,null,null,null,null,350,{"$f":"(入力部分!D$7*M356+入力部分!D$8*R356+入力部分!D$9*W356)/(入力部分!D$7+入力部分!D$8+入力部分!D$9)","v":1.9287377872702566E-4},null,null,350,{"$f":"1/入力部分!I$33/(2*3.14)^0.5*EXP(-1/2*((L356-入力部分!I$25)/入力部分!I$33)^2)","v":5.1433006931834026E-4},0.18001552426141909,null,null,350,{"$f":"1/入力部分!I$34/(2*3.14)^0.5*EXP(-1/2*((Q356-入力部分!I$26/2)/入力部分!I$34)^2)","v":7.2870616036128115E-12},2.5504715612644838E-9,null,null,350,{"$f":"1/入力部分!$I$35/(2*3.14)^0.5*EXP(-1/2*((V356-入力部分!$I$27/2)/入力部分!$I$35)^2)","v":7.2360575521671889E-114},2.5326201432585161E-111]
[null,null,null,null,null,null,null,351,{"$f":"(入力部分!D$7*M357+入力部分!D$8*R357+入力部分!D$9*W357)/(入力部分!D$7+入力部分!D$8+入力部分!D$9)","v":1.8922617763762544E-4},null,null,351,{"$f":"1/入力部分!I$33/(2*3.14)^0.5*EXP(-1/2*((L357-入力部分!I$25)/入力部分!I$33)^2)","v":5.046031339986871E-4},0.17711570003353916,null,null,351,{"$f":"1/入力部分!I$34/(2*3.14)^0.5*EXP(-1/2*((Q357-入力部分!I$26/2)/入力部分!I$34)^2)","v":6.3683140712405569E-12},2.2352782390054354E-9,null,null,351,{"$f":"1/入力部分!$I$35/(2*3.14)^0.5*EXP(-1/2*((V357-入力部分!$I$27/2)/入力部分!$I$35)^2)","v":1.5931977941067646E-114},5.5921242573147435E-112]
[null,null,null,null,null,null,null,352,{"$f":"(入力部分!D$7*M358+入力部分!D$8*R358+入力部分!D$9*W358)/(入力部分!D$7+入力部分!D$8+入力部分!D$9)","v":1.8563072146741814E-4},null,null,352,{"$f":"1/入力部分!I$33/(2*3.14)^0.5*EXP(-1/2*((L358-入力部分!I$25)/入力部分!I$33)^2)","v":4.9501525168346185E-4},0.17424536859257858,null,null,352,{"$f":"1/入力部分!I$34/(2*3.14)^0.5*EXP(-1/2*((Q358-入力部分!I$26/2)/入力部分!I$34)^2)","v":5.5629865580695103E-12},1.9581712684404677E-9,null,null,352,{"$f":"1/入力部分!$I$35/(2*3.14)^0.5*EXP(-1/2*((V358-入力部分!$I$27/2)/入力部分!$I$35)^2)","v":3.4922649306140516E-115},1.2292772555761461E-112]
[null,null,null,null,null,null,null,353,{"$f":"(入力部分!D$7*M359+入力部分!D$8*R359+入力部分!D$9*W359)/(入力部分!D$7+入力部分!D$8+入力部分!D$9)","v":1.8208706542599656E-4},null,null,353,{"$f":"1/入力部分!I$33/(2*3.14)^0.5*EXP(-1/2*((L359-入力部分!I$25)/入力部分!I$33)^2)","v":4.8556550294526668E-4},0.17140462253967914,null,null,353,{"$f":"1/入力部分!I$34/(2*3.14)^0.5*EXP(-1/2*((Q359-入力部分!I$26/2)/入力部分!I$34)^2)","v":4.857390862700344E-12},1.7146589745332214E-9,null,null,353,{"$f":"1/入力部分!$I$35/(2*3.14)^0.5*EXP(-1/2*((V359-入力部分!$I$27/2)/入力部分!$I$35)^2)","v":7.6210440423496139E-116},2.6902285469494137E-113]
[null,null,null,null,null,null,null,354,{"$f":"(入力部分!D$7*M360+入力部分!D$8*R360+入力部分!D$9*W360)/(入力部分!D$7+入力部分!D$8+入力部分!D$9)","v":1.7859485733008544E-4},null,null,354,{"$f":"1/入力部分!I$33/(2*3.14)^0.5*EXP(-1/2*((L360-入力部分!I$25)/入力部分!I$33)^2)","v":4.7625294864077719E-4},0.16859354381883512,null,null,354,{"$f":"1/入力部分!I$34/(2*3.14)^0.5*EXP(-1/2*((Q360-入力部分!I$26/2)/入力部分!I$34)^2)","v":4.2394507717620767E-12},1.5007655732037752E-9,null,null,354,{"$f":"1/入力部分!$I$35/(2*3.14)^0.5*EXP(-1/2*((V360-入力部分!$I$27/2)/入力部分!$I$35)^2)","v":1.6557377950070369E-116},5.8613117943249105E-114]
[null,null,null,null,null,null,null,355,{"$f":"(入力部分!D$7*M361+入力部分!D$8*R361+入力部分!D$9*W361)/(入力部分!D$7+入力部分!D$8+入力部分!D$9)","v":1.751537378711513E-4},null,null,355,{"$f":"1/入力部分!I$33/(2*3.14)^0.5*EXP(-1/2*((L361-入力部分!I$25)/入力部分!I$33)^2)","v":4.6707663062455298E-4},0.1658122038717163,null,null,355,{"$f":"1/入力部分!I$34/(2*3.14)^0.5*EXP(-1/2*((Q361-入力部分!I$26/2)/入力部分!I$34)^2)","v":3.6985172266723446E-12},1.3129736154686823E-9,null,null,355,{"$f":"1/入力部分!$I$35/(2*3.14)^0.5*EXP(-1/2*((V361-入力部分!$I$27/2)/入力部分!$I$35)^2)","v":3.5812814703016262E-117},1.2713549219570773E-114]
[null,null,null,null,null,null,null,356,{"$f":"(入力部分!D$7*M362+入力部分!D$8*R362+入力部分!D$9*W362)/(入力部分!D$7+入力部分!D$8+入力部分!D$9)","v":1.7176334088109729E-4},null,null,356,{"$f":"1/入力部分!I$33/(2*3.14)^0.5*EXP(-1/2*((L362-入力部分!I$25)/入力部分!I$33)^2)","v":4.580355724577221E-4},0.16306066379494907,null,null,356,{"$f":"1/入力部分!I$34/(2*3.14)^0.5*EXP(-1/2*((Q362-入力部分!I$26/2)/入力部分!I$34)^2)","v":3.2252040704081176E-12},1.1481726490652898E-9,null,null,356,{"$f":"1/入力部分!$I$35/(2*3.14)^0.5*EXP(-1/2*((V362-入力部分!$I$27/2)/入力部分!$I$35)^2)","v":7.711789226912593E-118},2.7453969647808832E-115]
[null,null,null,null,null,null,null,357,{"$f":"(入力部分!D$7*M363+入力部分!D$8*R363+入力部分!D$9*W363)/(入力部分!D$7+入力部分!D$8+入力部分!D$9)","v":1.6842329359593788E-4},null,null,357,{"$f":"1/入力部分!I$33/(2*3.14)^0.5*EXP(-1/2*((L363-入力部分!I$25)/入力部分!I$33)^2)","v":4.4912878011125888E-4},0.16033897449971943,null,null,357,{"$f":"1/入力部分!I$34/(2*3.14)^0.5*EXP(-1/2*((Q363-入力部分!I$26/2)/入力部分!I$34)^2)","v":2.8112421564369387E-12},1.003613449847987E-9,null,null,357,{"$f":"1/入力部分!$I$35/(2*3.14)^0.5*EXP(-1/2*((V363-入力部分!$I$27/2)/入力部分!$I$35)^2)","v":1.6532618684382846E-118},5.9021448703246761E-116]
[null,null,null,null,null,null,null,358,{"$f":"(入力部分!D$7*M364+入力部分!D$8*R364+入力部分!D$9*W364)/(入力部分!D$7+入力部分!D$8+入力部分!D$9)","v":1.6513321691734949E-4},null,null,358,{"$f":"1/入力部分!I$33/(2*3.14)^0.5*EXP(-1/2*((L364-入力部分!I$25)/入力部分!I$33)^2)","v":4.4035524266358218E-4},0.15764717687356242,null,null,358,{"$f":"1/入力部分!I$34/(2*3.14)^0.5*EXP(-1/2*((Q364-入力部分!I$26/2)/入力部分!I$34)^2)","v":2.4493498323329656E-12},8.7686723997520164E-10,null,null,358,{"$f":"1/入力部分!$I$35/(2*3.14)^0.5*EXP(-1/2*((V364-入力部分!$I$27/2)/入力部分!$I$35)^2)","v":3.5285635964590614E-119},1.2632257675323439E-116]
[null,null,null,null,null,null,null,359,{"$f":"(入力部分!D$7*M365+入力部分!D$8*R365+入力部分!D$9*W365)/(入力部分!D$7+入力部分!D$8+入力部分!D$9)","v":1.6189272567199487E-4},null,null,359,{"$f":"1/入力部分!I$33/(2*3.14)^0.5*EXP(-1/2*((L365-入力部分!I$25)/入力部分!I$33)^2)","v":4.3171393299220169E-4},0.1549853019442004,null,null,359,{"$f":"1/入力部分!I$34/(2*3.14)^0.5*EXP(-1/2*((Q365-入力部分!I$26/2)/入力部分!I$34)^2)","v":2.1331180180363616E-12},7.6578936847505385E-10,null,null,359,{"$f":"1/入力部分!$I$35/(2*3.14)^0.5*EXP(-1/2*((V365-入力部分!$I$27/2)/入力部分!$I$35)^2)","v":7.4976308131224206E-120},2.691649461910949E-117]
[null,null,null,null,null,null,null,360,{"$f":"(入力部分!D$7*M366+入力部分!D$8*R366+入力部分!D$9*W366)/(入力部分!D$7+入力部分!D$8+入力部分!D$9)","v":1.5870142886852668E-4},null,null,360,{"$f":"1/入力部分!I$33/(2*3.14)^0.5*EXP(-1/2*((L366-入力部分!I$25)/入力部分!I$33)^2)","v":4.2320380845916288E-4},0.15235337104529864,null,null,360,{"$f":"1/入力部分!I$34/(2*3.14)^0.5*EXP(-1/2*((Q366-入力部分!I$26/2)/入力部分!I$34)^2)","v":1.8569082853836655E-12},6.6848698273811954E-10,null,null,360,{"$f":"1/入力部分!$I$35/(2*3.14)^0.5*EXP(-1/2*((V366-入力部分!$I$27/2)/入力部分!$I$35)^2)","v":1.5860612564812392E-120},5.7098205233324612E-118]
[null,null,null,null,null,null,null,361,{"$f":"(入力部分!D$7*M367+入力部分!D$8*R367+入力部分!D$9*W367)/(入力部分!D$7+入力部分!D$8+入力部分!D$9)","v":1.5555892995217508E-4},null,null,361,{"$f":"1/入力部分!I$33/(2*3.14)^0.5*EXP(-1/2*((L367-入力部分!I$25)/入力部分!I$33)^2)","v":4.1482381159003767E-4},0.14975139598400361,null,null,361,{"$f":"1/入力部分!I$34/(2*3.14)^0.5*EXP(-1/2*((Q367-入力部分!I$26/2)/入力部分!I$34)^2)","v":1.6157625134177941E-12},5.8329026734382361E-10,null,null,361,{"$f":"1/入力部分!$I$35/(2*3.14)^0.5*EXP(-1/2*((V367-入力部分!$I$27/2)/入力部分!$I$35)^2)","v":3.3403014617924527E-121},1.2058488277070755E-118]
[null,null,null,null,null,null,null,362,{"$f":"(入力部分!D$7*M368+入力部分!D$8*R368+入力部分!D$9*W368)/(入力部分!D$7+入力部分!D$8+入力部分!D$9)","v":1.5246482705682943E-4},null,null,362,{"$f":"1/入力部分!I$33/(2*3.14)^0.5*EXP(-1/2*((L368-入力部分!I$25)/入力部分!I$33)^2)","v":4.0657287074622237E-4},0.14717937921013249,null,null,362,{"$f":"1/入力部分!I$34/(2*3.14)^0.5*EXP(-1/2*((Q368-入力部分!I$26/2)/入力部分!I$34)^2)","v":1.4053228448836994E-12},5.0872686984789924E-10,null,null,362,{"$f":"1/入力部分!$I$35/(2*3.14)^0.5*EXP(-1/2*((V368-入力部分!$I$27/2)/入力部分!$I$35)^2)","v":7.0035974026391446E-122},2.5353022597553704E-119]
[null,null,null,null,null,null,null,363,{"$f":"(入力部分!D$7*M369+入力部分!D$8*R369+入力部分!D$9*W369)/(入力部分!D$7+入力部分!D$8+入力部分!D$9)","v":1.4941871325452815E-4},null,null,363,{"$f":"1/入力部分!I$33/(2*3.14)^0.5*EXP(-1/2*((L369-入力部分!I$25)/入力部分!I$33)^2)","v":3.9844990079031429E-4},0.14463731398688409,null,null,363,{"$f":"1/入力部分!I$34/(2*3.14)^0.5*EXP(-1/2*((Q369-入力部分!I$26/2)/入力部分!I$34)^2)","v":1.2217608048670704E-12},4.4349917216674656E-10,null,null,363,{"$f":"1/入力部分!$I$35/(2*3.14)^0.5*EXP(-1/2*((V369-入力部分!$I$27/2)/入力部分!$I$35)^2)","v":1.4619296849219545E-122},5.3068047562666948E-120]
[null,null,null,null,null,null,null,364,{"$f":"(入力部分!D$7*M370+入力部分!D$8*R370+入力部分!D$9*W370)/(入力部分!D$7+入力部分!D$8+入力部分!D$9)","v":1.4642017680227133E-4},null,null,364,{"$f":"1/入力部分!I$33/(2*3.14)^0.5*EXP(-1/2*((L370-入力部分!I$25)/入力部分!I$33)^2)","v":3.9045380374434237E-4},0.14212518456294063,null,null,364,{"$f":"1/入力部分!I$34/(2*3.14)^0.5*EXP(-1/2*((Q370-入力部分!I$26/2)/入力部分!I$34)^2)","v":1.0617145642278637E-12},3.8646410137894238E-10,null,null,364,{"$f":"1/入力部分!$I$35/(2*3.14)^0.5*EXP(-1/2*((V370-入力部分!$I$27/2)/入力部分!$I$35)^2)","v":3.0380967398200578E-123},1.1058672132945011E-120]
[null,null,null,null,null,null,null,365,{"$f":"(入力部分!D$7*M371+入力部分!D$8*R371+入力部分!D$9*W371)/(入力部分!D$7+入力部分!D$8+入力部分!D$9)","v":1.4346880138607919E-4},null,null,365,{"$f":"1/入力部分!I$33/(2*3.14)^0.5*EXP(-1/2*((L371-入力部分!I$25)/入力部分!I$33)^2)","v":3.8258346944064449E-4},0.13964296634583523,null,null,365,{"$f":"1/入力部分!I$34/(2*3.14)^0.5*EXP(-1/2*((Q371-入力部分!I$26/2)/入力部分!I$34)^2)","v":9.222334396716318E-13},3.3661520548014558E-10,null,null,365,{"$f":"1/入力部分!$I$35/(2*3.14)^0.5*EXP(-1/2*((V371-入力部分!$I$27/2)/入力部分!$I$35)^2)","v":6.285596740818728E-124},2.2942428103988359E-121]
[null,null,null,null,null,null,null,366,{"$f":"(入力部分!D$7*M372+入力部分!D$8*R372+入力部分!D$9*W372)/(入力部分!D$7+入力部分!D$8+入力部分!D$9)","v":1.4056416636221614E-4},null,null,366,{"$f":"1/入力部分!I$33/(2*3.14)^0.5*EXP(-1/2*((L372-入力部分!I$25)/入力部分!I$33)^2)","v":3.7483777616518089E-4},0.13719062607645621,null,null,366,{"$f":"1/入力部分!I$34/(2*3.14)^0.5*EXP(-1/2*((Q372-入力部分!I$26/2)/入力部分!I$34)^2)","v":8.0072882021672813E-13},2.9306674819932252E-10,null,null,366,{"$f":"1/入力部分!$I$35/(2*3.14)^0.5*EXP(-1/2*((V372-入力部分!$I$27/2)/入力部分!$I$35)^2)","v":1.2946764059664535E-124},4.7385156458372201E-122]
[null,null,null,null,null,null,null,367,{"$f":"(入力部分!D$7*M373+入力部分!D$8*R373+入力部分!D$9*W373)/(入力部分!D$7+入力部分!D$8+入力部分!D$9)","v":1.377058469955099E-4},null,null,367,{"$f":"1/入力部分!I$33/(2*3.14)^0.5*EXP(-1/2*((L373-入力部分!I$25)/入力部分!I$33)^2)","v":3.672155912930956E-4},0.13476812200456609,null,null,367,{"$f":"1/入力部分!I$34/(2*3.14)^0.5*EXP(-1/2*((Q373-入力部分!I$26/2)/入力部分!I$34)^2)","v":6.9493079756810991E-13},2.5503960270749631E-10,null,null,367,{"$f":"1/入力部分!$I$35/(2*3.14)^0.5*EXP(-1/2*((V373-入力部分!$I$27/2)/入力部分!$I$35)^2)","v":2.654885248652715E-125},9.743428862555464E-123]
[null,null,null,null,null,null,null,368,{"$f":"(入力部分!D$7*M374+入力部分!D$8*R374+入力部分!D$9*W374)/(入力部分!D$7+入力部分!D$8+入力部分!D$9)","v":1.3489341469469462E-4},null,null,368,{"$f":"1/入力部分!I$33/(2*3.14)^0.5*EXP(-1/2*((L374-入力部分!I$25)/入力部分!I$33)^2)","v":3.5971577191633584E-4},0.13237540406521159,null,null,368,{"$f":"1/入力部分!I$34/(2*3.14)^0.5*EXP(-1/2*((Q374-入力部分!I$26/2)/入力部分!I$34)^2)","v":6.0284985650797182E-13},2.2184874719493364E-10,null,null,368,{"$f":"1/入力部分!$I$35/(2*3.14)^0.5*EXP(-1/2*((V374-入力部分!$I$27/2)/入力部分!$I$35)^2)","v":5.4200098729024812E-126},1.994563633228113E-123]
[null,null,null,null,null,null,null,369,{"$f":"(入力部分!D$7*M375+入力部分!D$8*R375+入力部分!D$9*W375)/(入力部分!D$7+入力部分!D$8+入力部分!D$9)","v":1.3212643724471078E-4},null,null,369,{"$f":"1/入力部分!I$33/(2*3.14)^0.5*EXP(-1/2*((L375-入力部分!I$25)/入力部分!I$33)^2)","v":3.5233716546315239E-4},0.13001241405590322,null,null,369,{"$f":"1/入力部分!I$34/(2*3.14)^0.5*EXP(-1/2*((Q375-入力部分!I$26/2)/入力部分!I$34)^2)","v":5.2274305177433644E-13},1.9289218610473014E-10,null,null,369,{"$f":"1/入力部分!$I$35/(2*3.14)^0.5*EXP(-1/2*((V375-入力部分!$I$27/2)/入力部分!$I$35)^2)","v":1.1016006997948709E-126},4.0649065822430735E-124]
[null,null,null,null,null,null,null,370,{"$f":"(入力部分!D$7*M376+入力部分!D$8*R376+入力部分!D$9*W376)/(入力部分!D$7+入力部分!D$8+入力部分!D$9)","v":1.2940447903589904E-4},null,null,370,{"$f":"1/入力部分!I$33/(2*3.14)^0.5*EXP(-1/2*((L376-入力部分!I$25)/入力部分!I$33)^2)","v":3.4507861030931331E-4},0.12767908581444593,null,null,370,{"$f":"1/入力部分!I$34/(2*3.14)^0.5*EXP(-1/2*((Q376-入力部分!I$26/2)/入力部分!I$34)^2)","v":4.5308416084767311E-13},1.6764113951363906E-10,null,null,370,{"$f":"1/入力部分!$I$35/(2*3.14)^0.5*EXP(-1/2*((V376-入力部分!$I$27/2)/入力部分!$I$35)^2)","v":2.2290413806497148E-127},8.2474531084039449E-125]
[null,null,null,null,null,null,null,371,{"$f":"(入力部分!D$7*M377+入力部分!D$8*R377+入力部分!D$9*W377)/(入力部分!D$7+入力部分!D$8+入力部分!D$9)","v":1.2672710129002889E-4},null,null,371,{"$f":"1/入力部分!I$33/(2*3.14)^0.5*EXP(-1/2*((L377-入力部分!I$25)/入力部分!I$33)^2)","v":3.3793893638087304E-4},0.12537534539730391,null,null,371,{"$f":"1/入力部分!I$34/(2*3.14)^0.5*EXP(-1/2*((Q377-入力部分!I$26/2)/入力部分!I$34)^2)","v":3.9253735835178496E-13},1.4563135994851222E-10,null,null,371,{"$f":"1/入力部分!$I$35/(2*3.14)^0.5*EXP(-1/2*((V377-入力部分!$I$27/2)/入力部分!$I$35)^2)","v":4.4903672427750005E-128},1.6659262470695252E-125]
[null,null,null,null,null,null,null,372,{"$f":"(入力部分!D$7*M378+入力部分!D$8*R378+入力部分!D$9*W378)/(入力部分!D$7+入力部分!D$8+入力部分!D$9)","v":1.2409386228310248E-4},null,null,372,{"$f":"1/入力部分!I$33/(2*3.14)^0.5*EXP(-1/2*((L378-入力部分!I$25)/入力部分!I$33)^2)","v":3.3091696574833932E-4},0.12310111125838223,null,null,372,{"$f":"1/入力部分!I$34/(2*3.14)^0.5*EXP(-1/2*((Q378-入力部分!I$26/2)/入力部分!I$34)^2)","v":3.3993400807478288E-13},1.2645545100381923E-10,null,null,372,{"$f":"1/入力部分!$I$35/(2*3.14)^0.5*EXP(-1/2*((V378-入力部分!$I$27/2)/入力部分!$I$35)^2)","v":9.0056568249958538E-129},3.3501043388984577E-126]
[null,null,null,null,null,null,null,373,{"$f":"(入力部分!D$7*M379+入力部分!D$8*R379+入力部分!D$9*W379)/(入力部分!D$7+入力部分!D$8+入力部分!D$9)","v":1.2150431756488283E-4},null,null,373,{"$f":"1/入力部分!I$33/(2*3.14)^0.5*EXP(-1/2*((L379-入力部分!I$25)/入力部分!I$33)^2)","v":3.2401151321210207E-4},0.12085629442811407,null,null,373,{"$f":"1/入力部分!I$34/(2*3.14)^0.5*EXP(-1/2*((Q379-入力部分!I$26/2)/入力部分!I$34)^2)","v":2.9425221353995369E-13},1.0975607565040273E-10,null,null,373,{"$f":"1/入力部分!$I$35/(2*3.14)^0.5*EXP(-1/2*((V379-入力部分!$I$27/2)/入力部分!$I$35)^2)","v":1.7981202341946093E-129},6.7069884735458925E-127]
[null,null,null,null,null,null,null,374,{"$f":"(入力部分!D$7*M380+入力部分!D$8*R380+入力部分!D$9*W380)/(入力部分!D$7+入力部分!D$8+入力部分!D$9)","v":1.1895802017509405E-4},null,null,374,{"$f":"1/入力部分!I$33/(2*3.14)^0.5*EXP(-1/2*((L380-入力部分!I$25)/入力部分!I$33)^2)","v":3.1722138687898535E-4},0.11864079869274052,null,null,374,{"$f":"1/入力部分!I$34/(2*3.14)^0.5*EXP(-1/2*((Q380-入力部分!I$26/2)/入力部分!I$34)^2)","v":2.545988081566794E-13},9.5219954250598096E-11,null,null,374,{"$f":"1/入力部分!$I$35/(2*3.14)^0.5*EXP(-1/2*((V380-入力部分!$I$27/2)/入力部分!$I$35)^2)","v":3.5743071112560473E-130},1.3367908596097618E-127]
[null,null,null,null,null,null,null,375,{"$f":"(入力部分!D$7*M381+入力部分!D$8*R381+入力部分!D$9*W381)/(入力部分!D$7+入力部分!D$8+入力部分!D$9)","v":1.1645452085624696E-4},null,null,375,{"$f":"1/入力部分!I$33/(2*3.14)^0.5*EXP(-1/2*((L381-入力部分!I$25)/入力部分!I$33)^2)","v":3.1054538872979842E-4},0.11645452077367441,null,null,375,{"$f":"1/入力部分!I$34/(2*3.14)^0.5*EXP(-1/2*((Q381-入力部分!I$26/2)/入力部分!I$34)^2)","v":2.2019350175576218E-13},8.2572563158410818E-11,null,null,375,{"$f":"1/入力部分!$I$35/(2*3.14)^0.5*EXP(-1/2*((V381-入力部分!$I$27/2)/入力部分!$I$35)^2)","v":7.0735072744288138E-131},2.6525652279108054E-128]
[null,null,null,null,null,null,null,376,{"$f":"(入力部分!D$7*M382+入力部分!D$8*R382+入力部分!D$9*W382)/(入力部分!D$7+入力部分!D$8+入力部分!D$9)","v":1.1399336826304594E-4},null,null,376,{"$f":"1/入力部分!I$33/(2*3.14)^0.5*EXP(-1/2*((L382-入力部分!I$25)/入力部分!I$33)^2)","v":3.0398231517776762E-4},0.11429735050684063,null,null,376,{"$f":"1/入力部分!I$34/(2*3.14)^0.5*EXP(-1/2*((Q382-入力部分!I$26/2)/入力部分!I$34)^2)","v":1.9035493221023033E-13},7.1573454511046602E-11,null,null,376,{"$f":"1/入力部分!$I$35/(2*3.14)^0.5*EXP(-1/2*((V382-入力部分!$I$27/2)/入力部分!$I$35)^2)","v":1.3936301909452863E-131},5.2400495179542763E-129]
[null,null,null,null,null,null,null,377,{"$f":"(入力部分!D$7*M383+入力部分!D$8*R383+入力部分!D$9*W383)/(入力部分!D$7+入力部分!D$8+入力部分!D$9)","v":1.1157410916833488E-4},null,null,377,{"$f":"1/入力部分!I$33/(2*3.14)^0.5*EXP(-1/2*((L383-入力部分!I$25)/入力部分!I$33)^2)","v":2.9753095761773799E-4},0.11216917102188723,null,null,377,{"$f":"1/入力部分!I$34/(2*3.14)^0.5*EXP(-1/2*((Q383-入力部分!I$26/2)/入力部分!I$34)^2)","v":1.6448839926619068E-13},6.2012126523353891E-11,null,null,377,{"$f":"1/入力部分!$I$35/(2*3.14)^0.5*EXP(-1/2*((V383-入力部分!$I$27/2)/入力部分!$I$35)^2)","v":2.7335693104932422E-132},1.0305556300559523E-129]
[null,null,null,null,null,null,null,378,{"$f":"(入力部分!D$7*M384+入力部分!D$8*R384+入力部分!D$9*W384)/(入力部分!D$7+入力部分!D$8+入力部分!D$9)","v":1.0919628866554552E-4},null,null,378,{"$f":"1/入力部分!I$33/(2*3.14)^0.5*EXP(-1/2*((L384-入力部分!I$25)/入力部分!I$33)^2)","v":2.9119010296604632E-4},0.11006985892116551,null,null,378,{"$f":"1/入力部分!I$34/(2*3.14)^0.5*EXP(-1/2*((Q384-入力部分!I$26/2)/入力部分!I$34)^2)","v":1.4207508302259201E-13},5.3704381382539783E-11,null,null,378,{"$f":"1/入力部分!$I$35/(2*3.14)^0.5*EXP(-1/2*((V384-入力部分!$I$27/2)/入力部分!$I$35)^2)","v":5.3380475279552E-133},2.0177819655670655E-130]
[null,null,null,null,null,null,null,379,{"$f":"(入力部分!D$7*M385+入力部分!D$8*R385+入力部分!D$9*W385)/(入力部分!D$7+入力部分!D$8+入力部分!D$9)","v":1.0685945036761157E-4},null,null,379,{"$f":"1/入力部分!I$33/(2*3.14)^0.5*EXP(-1/2*((L385-入力部分!I$25)/入力部分!I$33)^2)","v":2.8495853419096829E-4},0.10799928445837698,null,null,379,{"$f":"1/入力部分!I$34/(2*3.14)^0.5*EXP(-1/2*((Q385-入力部分!I$26/2)/入力部分!I$34)^2)","v":1.226625720311368E-13},4.6489114799800849E-11,null,null,379,{"$f":"1/入力部分!$I$35/(2*3.14)^0.5*EXP(-1/2*((V385-入力部分!$I$27/2)/入力部分!$I$35)^2)","v":1.037778298702128E-133},3.9331797520810654E-131]
[null,null,null,null,null,null,null,380,{"$f":"(入力部分!D$7*M386+入力部分!D$8*R386+入力部分!D$9*W386)/(入力部分!D$7+入力部分!D$8+入力部分!D$9)","v":1.0456313660231821E-4},null,null,380,{"$f":"1/入力部分!I$33/(2*3.14)^0.5*EXP(-1/2*((L386-入力部分!I$25)/入力部分!I$33)^2)","v":2.7883503083365872E-4},0.10595731171679031,null,null,380,{"$f":"1/入力部分!I$34/(2*3.14)^0.5*EXP(-1/2*((Q386-入力部分!I$26/2)/入力部分!I$34)^2)","v":1.0585654603269852E-13},4.0225487492425438E-11,null,null,380,{"$f":"1/入力部分!$I$35/(2*3.14)^0.5*EXP(-1/2*((V386-入力部分!$I$27/2)/入力部分!$I$35)^2)","v":2.0086142323081586E-134},7.6327340827710032E-132]
[null,null,null,null,null,null,null,381,{"$f":"(入力部分!D$7*M387+入力部分!D$8*R387+入力部分!D$9*W387)/(入力部分!D$7+入力部分!D$8+入力部分!D$9)","v":1.0230688860405584E-4},null,null,381,{"$f":"1/入力部分!I$33/(2*3.14)^0.5*EXP(-1/2*((L387-入力部分!I$25)/入力部分!I$33)^2)","v":2.728183695195021E-4},0.1039437987869303,null,null,381,{"$f":"1/入力部分!I$34/(2*3.14)^0.5*EXP(-1/2*((Q387-入力部分!I$26/2)/入力部分!I$34)^2)","v":9.1313476168983128E-14},3.4790434420382573E-11,null,null,381,{"$f":"1/入力部分!$I$35/(2*3.14)^0.5*EXP(-1/2*((V387-入力部分!$I$27/2)/入力部分!$I$35)^2)","v":3.8704217249697152E-135},1.4746306772134615E-132]
[null,null,null,null,null,null,null,382,{"$f":"(入力部分!D$7*M388+入力部分!D$8*R388+入力部分!D$9*W388)/(入力部分!D$7+入力部分!D$8+入力部分!D$9)","v":1.0009024670195281E-4},null,null,382,{"$f":"1/入力部分!I$33/(2*3.14)^0.5*EXP(-1/2*((L388-入力部分!I$25)/入力部分!I$33)^2)","v":2.6690732445980661E-4},0.10195859794364612,null,null,382,{"$f":"1/入力部分!I$34/(2*3.14)^0.5*EXP(-1/2*((Q388-入力部分!I$26/2)/入力部分!I$34)^2)","v":7.8734221345435917E-14},3.0076472553956523E-11,null,null,382,{"$f":"1/入力部分!$I$35/(2*3.14)^0.5*EXP(-1/2*((V388-入力部分!$I$27/2)/入力部分!$I$35)^2)","v":7.4248869267176577E-136},2.8363068060061451E-133]
[null,null,null,null,null,null,null,383,{"$f":"(入力部分!D$7*M389+入力部分!D$8*R389+入力部分!D$9*W389)/(入力部分!D$7+入力部分!D$8+入力部分!D$9)","v":9.7912750504363958E-5},null,null,383,{"$f":"1/入力部分!I$33/(2*3.14)^0.5*EXP(-1/2*((L389-入力部分!I$25)/入力部分!I$33)^2)","v":2.6110066794377885E-4},0.10000155582246729,null,null,383,{"$f":"1/入力部分!I$34/(2*3.14)^0.5*EXP(-1/2*((Q389-入力部分!I$26/2)/入力部分!I$34)^2)","v":6.7858413486881924E-14},2.5989772365475775E-11,null,null,383,{"$f":"1/入力部分!$I$35/(2*3.14)^0.5*EXP(-1/2*((V389-入力部分!$I$27/2)/入力部分!$I$35)^2)","v":1.4180488823972735E-136},5.4311272195815573E-134]
[null,null,null,null,null,null,null,384,{"$f":"(入力部分!D$7*M390+入力部分!D$8*R390+入力部分!D$9*W390)/(入力部分!D$7+入力部分!D$8+入力部分!D$9)","v":9.5773939079693598E-5},null,null,384,{"$f":"1/入力部分!I$33/(2*3.14)^0.5*EXP(-1/2*((L390-入力部分!I$25)/入力部分!I$33)^2)","v":2.5539717082072338E-4},9.8072513595157784E-2,null,null,384,{"$f":"1/入力部分!I$34/(2*3.14)^0.5*EXP(-1/2*((Q390-入力部分!I$26/2)/入力部分!I$34)^2)","v":5.8459536912352113E-14},2.2448462174343211E-11,null,null,384,{"$f":"1/入力部分!$I$35/(2*3.14)^0.5*EXP(-1/2*((V390-入力部分!$I$27/2)/入力部分!$I$35)^2)","v":2.6962636823311185E-137},1.0353652540151495E-134]
[null,null,null,null,null,null,null,385,{"$f":"(入力部分!D$7*M391+入力部分!D$8*R391+入力部分!D$9*W391)/(入力部分!D$7+入力部分!D$8+入力部分!D$9)","v":9.3673351133534394E-5},null,null,385,{"$f":"1/入力部分!I$33/(2*3.14)^0.5*EXP(-1/2*((L391-入力部分!I$25)/入力部分!I$33)^2)","v":2.4979560297241779E-4},{"$f":"L391*$M391","v":9.6171307144380852E-2},null,null,385,{"$f":"1/入力部分!I$34/(2*3.14)^0.5*EXP(-1/2*((Q391-入力部分!I$26/2)/入力部分!I$34)^2)","v":5.0340618131452467E-14},{"$f":"Q391*$R391","v":1.9381137980609199E-11},null,null,385,{"$f":"1/入力部分!$I$35/(2*3.14)^0.5*EXP(-1/2*((V391-入力部分!$I$27/2)/入力部分!$I$35)^2)","v":5.1039137216595241E-138},{"$f":"V391*$W391","v":1.9650067828389168E-135}]
[null,null,null,null,null,null,null,386,{"$f":"(入力部分!D$7*M392+入力部分!D$8*R392+入力部分!D$9*W392)/(入力部分!D$7+入力部分!D$8+入力部分!D$9)","v":9.1610525182109199E-5},null,null,386,{"$f":"1/入力部分!I$33/(2*3.14)^0.5*EXP(-1/2*((L392-入力部分!I$25)/入力部分!I$33)^2)","v":2.4429473377562743E-4},9.4297767237392194E-2,null,null,386,{"$f":"1/入力部分!I$34/(2*3.14)^0.5*EXP(-1/2*((Q392-入力部分!I$26/2)/入力部分!I$34)^2)","v":4.3330452185083875E-14},1.6725554543442375E-11,null,null,386,{"$f":"1/入力部分!$I$35/(2*3.14)^0.5*EXP(-1/2*((V392-入力部分!$I$27/2)/入力部分!$I$35)^2)","v":9.61864926659204E-139},3.7127986169045272E-136]
[null,null,null,null,null,null,null,387,{"$f":"(入力部分!D$7*M393+入力部分!D$8*R393+入力部分!D$9*W393)/(入力部分!D$7+入力部分!D$8+入力部分!D$9)","v":8.9584999722000321E-5},null,null,387,{"$f":"1/入力部分!I$33/(2*3.14)^0.5*EXP(-1/2*((L393-入力部分!I$25)/入力部分!I$33)^2)","v":2.3889333255472058E-4},9.2451719698676868E-2,null,null,387,{"$f":"1/入力部分!I$34/(2*3.14)^0.5*EXP(-1/2*((Q393-入力部分!I$26/2)/入力部分!I$34)^2)","v":3.7280300355848057E-14},1.4427476237713197E-11,null,null,387,{"$f":"1/入力部分!$I$35/(2*3.14)^0.5*EXP(-1/2*((V393-入力部分!$I$27/2)/入力部分!$I$35)^2)","v":1.8046569396908748E-139},6.9840223566036858E-137]
[null,null,null,null,null,null,null,388,{"$f":"(入力部分!D$7*M394+入力部分!D$8*R394+入力部分!D$9*W394)/(入力部分!D$7+入力部分!D$8+入力部分!D$9)","v":8.7596313396158505E-5},null,null,388,{"$f":"1/入力部分!I$33/(2*3.14)^0.5*EXP(-1/2*((L394-入力部分!I$25)/入力部分!I$33)^2)","v":2.3359016902436169E-4},9.063298558145233E-2,null,null,388,{"$f":"1/入力部分!I$34/(2*3.14)^0.5*EXP(-1/2*((Q394-入力部分!I$26/2)/入力部分!I$34)^2)","v":3.2061001781048596E-14},1.2439668691046854E-11,null,null,388,{"$f":"1/入力部分!$I$35/(2*3.14)^0.5*EXP(-1/2*((V394-入力部分!$I$27/2)/入力部分!$I$35)^2)","v":3.3708934496739286E-140},1.3079066584734843E-137]
[null,null,null,null,null,null,null,389,{"$f":"(入力部分!D$7*M395+入力部分!D$8*R395+入力部分!D$9*W395)/(入力部分!D$7+入力部分!D$8+入力部分!D$9)","v":8.564400515618335E-5},null,null,389,{"$f":"1/入力部分!I$33/(2*3.14)^0.5*EXP(-1/2*((L395-入力部分!I$25)/入力部分!I$33)^2)","v":2.2838401372226181E-4},8.8841381337959852E-2,null,null,389,{"$f":"1/入力部分!I$34/(2*3.14)^0.5*EXP(-1/2*((Q395-入力部分!I$26/2)/入力部分!I$34)^2)","v":2.7560448323867709E-14},1.0721014397984539E-11,null,null,389,{"$f":"1/入力部分!$I$35/(2*3.14)^0.5*EXP(-1/2*((V395-入力部分!$I$27/2)/入力部分!$I$35)^2)","v":6.268522610658468E-141},2.4384552955461439E-138]
[null,null,null,null,null,null,null,390,{"$f":"(入力部分!D$7*M396+入力部分!D$8*R396+入力部分!D$9*W396)/(入力部分!D$7+入力部分!D$8+入力部分!D$9)","v":8.3727614420869983E-5},null,null,390,{"$f":"1/入力部分!I$33/(2*3.14)^0.5*EXP(-1/2*((L396-入力部分!I$25)/入力部分!I$33)^2)","v":2.2327363843197196E-4},8.7076718988469068E-2,null,null,390,{"$f":"1/入力部分!I$34/(2*3.14)^0.5*EXP(-1/2*((Q396-入力部分!I$26/2)/入力部分!I$34)^2)","v":2.3681378094337157E-14},9.2357374567914906E-12,null,null,390,{"$f":"1/入力部分!$I$35/(2*3.14)^0.5*EXP(-1/2*((V396-入力部分!$I$27/2)/入力部分!$I$35)^2)","v":1.1605267906803116E-141},4.5260544836532155E-139]
[null,null,null,null,null,null,null,391,{"$f":"(入力部分!D$7*M397+入力部分!D$8*R397+入力部分!D$9*W397)/(入力部分!D$7+入力部分!D$8+入力部分!D$9)","v":8.1846681231020123E-5},null,null,391,{"$f":"1/入力部分!I$33/(2*3.14)^0.5*EXP(-1/2*((L397-入力部分!I$25)/入力部分!I$33)^2)","v":2.1825781659571422E-4},8.5338806288924263E-2,null,null,391,{"$f":"1/入力部分!I$34/(2*3.14)^0.5*EXP(-1/2*((Q397-入力部分!I$26/2)/入力部分!I$34)^2)","v":2.0339448348895864E-14},7.9527243044182832E-12,null,null,391,{"$f":"1/入力部分!$I$35/(2*3.14)^0.5*EXP(-1/2*((V397-入力部分!$I$27/2)/入力部分!$I$35)^2)","v":2.1390204996581364E-142},8.3635701536633135E-140]
[null,null,null,null,null,null,null,392,{"$f":"(入力部分!D$7*M398+入力部分!D$8*R398+入力部分!D$9*W398)/(入力部分!D$7+入力部分!D$8+入力部分!D$9)","v":8.0000746400517124E-5},null,null,392,{"$f":"1/入力部分!I$33/(2*3.14)^0.5*EXP(-1/2*((L398-入力部分!I$25)/入力部分!I$33)^2)","v":2.1333532371725078E-4},8.3627446897162311E-2,null,null,392,{"$f":"1/入力部分!I$34/(2*3.14)^0.5*EXP(-1/2*((Q398-入力部分!I$26/2)/入力部分!I$34)^2)","v":1.7461553213995118E-14},6.8449288598860864E-12,null,null,392,{"$f":"1/入力部分!$I$35/(2*3.14)^0.5*EXP(-1/2*((V398-入力部分!$I$27/2)/入力部分!$I$35)^2)","v":3.9250439603104842E-143},1.5386172324417097E-140]
[null,null,null,null,null,null,null,393,{"$f":"(入力部分!D$7*M399+入力部分!D$8*R399+入力部分!D$9*W399)/(入力部分!D$7+入力部分!D$8+入力部分!D$9)","v":7.8189351663667417E-5},null,null,393,{"$f":"1/入力部分!I$33/(2*3.14)^0.5*EXP(-1/2*((L399-入力部分!I$25)/入力部分!I$33)^2)","v":2.0850493775479543E-4},8.1942440537634609E-2,null,null,393,{"$f":"1/入力部分!I$34/(2*3.14)^0.5*EXP(-1/2*((Q399-入力部分!I$26/2)/入力部分!I$34)^2)","v":1.4984355845237198E-14},5.8888518471782185E-12,null,null,393,{"$f":"1/入力部分!$I$35/(2*3.14)^0.5*EXP(-1/2*((V399-入力部分!$I$27/2)/入力部分!$I$35)^2)","v":7.1704086273134788E-144},2.817970590534197E-141]
[null,null,null,null,null,null,null,394,{"$f":"(入力部分!D$7*M400+入力部分!D$8*R400+入力部分!D$9*W400)/(入力部分!D$7+入力部分!D$8+入力部分!D$9)","v":7.6412039818812933E-5},null,null,394,{"$f":"1/入力部分!I$33/(2*3.14)^0.5*EXP(-1/2*((L400-入力部分!I$25)/入力部分!I$33)^2)","v":2.0376543950398153E-4},8.0283583164568725E-2,null,null,394,{"$f":"1/入力部分!I$34/(2*3.14)^0.5*EXP(-1/2*((Q400-入力部分!I$26/2)/入力部分!I$34)^2)","v":1.2853008311199078E-14},5.064085274612437E-12,null,null,394,{"$f":"1/入力部分!$I$35/(2*3.14)^0.5*EXP(-1/2*((V400-入力部分!$I$27/2)/入力部分!$I$35)^2)","v":1.3041065884857244E-144},5.1381799586337544E-142]
[null,null,null,null,null,null,null,395,{"$f":"(入力部分!D$7*M401+入力部分!D$8*R401+入力部分!D$9*W401)/(入力部分!D$7+入力部分!D$8+入力部分!D$9)","v":7.4668354868221326E-5},null,null,395,{"$f":"1/入力部分!I$33/(2*3.14)^0.5*EXP(-1/2*((L401-入力部分!I$25)/入力部分!I$33)^2)","v":1.9911561297090353E-4},7.8650667123506893E-2,null,null,395,{"$f":"1/入力部分!I$34/(2*3.14)^0.5*EXP(-1/2*((Q401-入力部分!I$26/2)/入力部分!I$34)^2)","v":1.1020035735887518E-14},4.3529141156755696E-12,null,null,395,{"$f":"1/入力部分!$I$35/(2*3.14)^0.5*EXP(-1/2*((V401-入力部分!$I$27/2)/入力部分!$I$35)^2)","v":2.3613049329286684E-145},9.3271544850682399E-143]
[null,null,null,null,null,null,null,396,{"$f":"(入力部分!D$7*M402+入力部分!D$8*R402+入力部分!D$9*W402)/(入力部分!D$7+入力部分!D$8+入力部分!D$9)","v":7.2957842154262843E-5},null,null,396,{"$f":"1/入力部分!I$33/(2*3.14)^0.5*EXP(-1/2*((L402-入力部分!I$25)/入力部分!I$33)^2)","v":1.9455424573525657E-4},7.7043481311161607E-2,null,null,396,{"$f":"1/入力部分!I$34/(2*3.14)^0.5*EXP(-1/2*((Q402-入力部分!I$26/2)/入力部分!I$34)^2)","v":9.4443640951024111E-15},3.7399681816605544E-12,null,null,396,{"$f":"1/入力部分!$I$35/(2*3.14)^0.5*EXP(-1/2*((V402-入力部分!$I$27/2)/入力部分!$I$35)^2)","v":4.2565806070580735E-146},1.6856059203949972E-143]
[null,null,null,null,null,null,null,397,{"$f":"(入力部分!D$7*M403+入力部分!D$8*R403+入力部分!D$9*W403)/(入力部分!D$7+入力部分!D$8+入力部分!D$9)","v":7.1280048491885551E-5},null,null,397,{"$f":"1/入力部分!I$33/(2*3.14)^0.5*EXP(-1/2*((L403-入力部分!I$25)/入力部分!I$33)^2)","v":1.9008012930360433E-4},7.5461811333530915E-2,null,null,397,{"$f":"1/入力部分!I$34/(2*3.14)^0.5*EXP(-1/2*((Q403-入力部分!I$26/2)/入力部分!I$34)^2)","v":8.0904735837921507E-15},3.2119180127654838E-12,null,null,397,{"$f":"1/入力部分!$I$35/(2*3.14)^0.5*EXP(-1/2*((V403-入力部分!$I$27/2)/入力部分!$I$35)^2)","v":7.6390517484665777E-147},3.0327035441412312E-144]
[null,null,null,null,null,null,null,398,{"$f":"(入力部分!D$7*M404+入力部分!D$8*R404+入力部分!D$9*W404)/(入力部分!D$7+入力部分!D$8+入力部分!D$9)","v":6.963452229740108E-5},null,null,398,{"$f":"1/入力部分!I$33/(2*3.14)^0.5*EXP(-1/2*((L404-入力部分!I$25)/入力部分!I$33)^2)","v":1.8569205945280856E-4},7.3905439662217812E-2,null,null,398,{"$f":"1/入力部分!I$34/(2*3.14)^0.5*EXP(-1/2*((Q404-入力部分!I$26/2)/入力部分!I$34)^2)","v":6.9276616928695359E-15},2.7572093537620753E-12,null,null,398,{"$f":"1/入力部分!$I$35/(2*3.14)^0.5*EXP(-1/2*((V404-入力部分!$I$27/2)/入力部分!$I$35)^2)","v":1.3648591773799202E-147},5.4321395259720826E-145]
[null,null,null,null,null,null,null,399,{"$f":"(入力部分!D$7*M405+入力部分!D$8*R405+入力部分!D$9*W405)/(入力部分!D$7+入力部分!D$8+入力部分!D$9)","v":6.8020813713597238E-5},null,null,399,{"$f":"1/入力部分!I$33/(2*3.14)^0.5*EXP(-1/2*((L405-入力部分!I$25)/入力部分!I$33)^2)","v":1.8138883656366322E-4},7.2374145788901625E-2,null,null,399,{"$f":"1/入力部分!I$34/(2*3.14)^0.5*EXP(-1/2*((Q405-入力部分!I$26/2)/入力部分!I$34)^2)","v":5.9294020896498831E-15},2.3658314337703035E-12,null,null,399,{"$f":"1/入力部分!$I$35/(2*3.14)^0.5*EXP(-1/2*((V405-入力部分!$I$27/2)/入力部分!$I$35)^2)","v":2.4277616056323357E-148},9.6867688064730191E-146]
[null,null,null,null,null,null,null,400,{"$f":"(入力部分!D$7*M406+入力部分!D$8*R406+入力部分!D$9*W406)/(入力部分!D$7+入力部分!D$8+入力部分!D$9)","v":6.6438474731194097E-5},null,null,400,{"$f":"1/入力部分!I$33/(2*3.14)^0.5*EXP(-1/2*((L406-入力部分!I$25)/入力部分!I$33)^2)","v":1.7716926594477816E-4},7.086770637791126E-2,null,null,400,{"$f":"1/入力部分!I$34/(2*3.14)^0.5*EXP(-1/2*((Q406-入力部分!I$26/2)/入力部分!I$34)^2)","v":5.0727871169257782E-15},2.0291148467703113E-12,null,null,400,{"$f":"1/入力部分!$I$35/(2*3.14)^0.5*EXP(-1/2*((V406-入力部分!$I$27/2)/入力部分!$I$35)^2)","v":4.2992632240334185E-149},1.7197052896133674E-146]
[null,null,null,null,null,null,null,401,{"$f":"(入力部分!D$7*M407+入力部分!D$8*R407+入力部分!D$9*W407)/(入力部分!D$7+入力部分!D$8+入力部分!D$9)","v":6.488705930666249E-5},null,null,401,{"$f":"1/入力部分!I$33/(2*3.14)^0.5*EXP(-1/2*((L407-入力部分!I$25)/入力部分!I$33)^2)","v":1.7303215814676193E-4},6.9385895416851529E-2,null,null,401,{"$f":"1/入力部分!I$34/(2*3.14)^0.5*EXP(-1/2*((Q407-入力部分!I$26/2)/入力部分!I$34)^2)","v":4.3380432390967614E-15},1.7395553388778012E-12,null,null,401,{"$f":"1/入力部分!$I$35/(2*3.14)^0.5*EXP(-1/2*((V407-入力部分!$I$27/2)/入力部分!$I$35)^2)","v":7.5796968254282166E-150},3.0394584269967148E-147]
[null,null,null,null,null,null,null,402,{"$f":"(入力部分!D$7*M408+入力部分!D$8*R408+入力部分!D$9*W408)/(入力部分!D$7+入力部分!D$8+入力部分!D$9)","v":6.3366123476426189E-5},null,null,402,{"$f":"1/入力部分!I$33/(2*3.14)^0.5*EXP(-1/2*((L408-入力部分!I$25)/入力部分!I$33)^2)","v":1.6897632926676177E-4},6.7928484365238226E-2,null,null,402,{"$f":"1/入力部分!I$34/(2*3.14)^0.5*EXP(-1/2*((Q408-入力部分!I$26/2)/入力部分!I$34)^2)","v":3.708110094021621E-15},1.4906602577966916E-12,null,null,402,{"$f":"1/入力部分!$I$35/(2*3.14)^0.5*EXP(-1/2*((V408-入力部分!$I$27/2)/入力部分!$I$35)^2)","v":1.3303914233545279E-150},5.3481735218852024E-148]
[null,null,null,null,null,null,null,403,{"$f":"(入力部分!D$7*M409+入力部分!D$8*R409+入力部分!D$9*W409)/(入力部分!D$7+入力部分!D$8+入力部分!D$9)","v":6.1875225467470472E-5},null,null,403,{"$f":"1/入力部分!I$33/(2*3.14)^0.5*EXP(-1/2*((L409-入力部分!I$25)/入力部分!I$33)^2)","v":1.6500060124341969E-4},6.6495242301098129E-2,null,null,403,{"$f":"1/入力部分!I$34/(2*3.14)^0.5*EXP(-1/2*((Q409-入力部分!I$26/2)/入力部分!I$34)^2)","v":3.1682749778930129E-15},1.2768148160908842E-12,null,null,403,{"$f":"1/入力部分!$I$35/(2*3.14)^0.5*EXP(-1/2*((V409-入力部分!$I$27/2)/入力部分!$I$35)^2)","v":2.3247531253553049E-151},9.3687550951818784E-149]
[null,null,null,null,null,null,null,404,{"$f":"(入力部分!D$7*M410+入力部分!D$8*R410+入力部分!D$9*W410)/(入力部分!D$7+入力部分!D$8+入力部分!D$9)","v":6.041392580438104E-5},null,null,404,{"$f":"1/入力部分!I$33/(2*3.14)^0.5*EXP(-1/2*((L410-入力部分!I$25)/入力部分!I$33)^2)","v":1.6110380214231026E-4},6.5085936065493344E-2,null,null,404,{"$f":"1/入力部分!I$34/(2*3.14)^0.5*EXP(-1/2*((Q410-入力部分!I$26/2)/入力部分!I$34)^2)","v":2.7058556165409993E-15},1.0931656690825638E-12,null,null,404,{"$f":"1/入力部分!$I$35/(2*3.14)^0.5*EXP(-1/2*((V410-入力部分!$I$27/2)/入力部分!$I$35)^2)","v":4.0443063595892926E-152},1.6338997692740742E-149]
[null,null,null,null,null,null,null,405,{"$f":"(入力部分!D$7*M411+入力部分!D$8*R411+入力部分!D$9*W411)/(入力部分!D$7+入力部分!D$8+入力部分!D$9)","v":5.8981787412839924E-5},null,null,405,{"$f":"1/入力部分!I$33/(2*3.14)^0.5*EXP(-1/2*((L411-入力部分!I$25)/入力部分!I$33)^2)","v":1.5728476643192991E-4},6.3700330404931615E-2,null,null,405,{"$f":"1/入力部分!I$34/(2*3.14)^0.5*EXP(-1/2*((Q411-入力部分!I$26/2)/入力部分!I$34)^2)","v":2.3099249770540433E-15},9.3551961570688757E-13,null,null,405,{"$f":"1/入力部分!$I$35/(2*3.14)^0.5*EXP(-1/2*((V411-入力部分!$I$27/2)/入力部分!$I$35)^2)","v":7.0045631449451967E-153},2.8368480737028045E-150]
[null,null,null,null,null,null,null,406,{"$f":"(入力部分!D$7*M412+入力部分!D$8*R412+入力部分!D$9*W412)/(入力部分!D$7+入力部分!D$8+入力部分!D$9)","v":5.7578375719605937E-5},null,null,406,{"$f":"1/入力部分!I$33/(2*3.14)^0.5*EXP(-1/2*((L412-入力部分!I$25)/入力部分!I$33)^2)","v":1.5354233525031143E-4},6.233818811162644E-2,null,null,406,{"$f":"1/入力部分!I$34/(2*3.14)^0.5*EXP(-1/2*((Q412-入力部分!I$26/2)/入力部分!I$34)^2)","v":1.9710726634215246E-15},8.0025550134913904E-13,null,null,406,{"$f":"1/入力部分!$I$35/(2*3.14)^0.5*EXP(-1/2*((V412-入力部分!$I$27/2)/入力部分!$I$35)^2)","v":1.2077800881983256E-153},4.9035871580852021E-151]
[null,null,null,null,null,null,null,407,{"$f":"(入力部分!D$7*M413+入力部分!D$8*R413+入力部分!D$9*W413)/(入力部分!D$7+入力部分!D$8+入力部分!D$9)","v":5.6203258749008599E-5},null,null,407,{"$f":"1/入力部分!I$33/(2*3.14)^0.5*EXP(-1/2*((L413-入力部分!I$25)/入力部分!I$33)^2)","v":1.4987535666234175E-4},6.099927016157309E-2,null,null,407,{"$f":"1/入力部分!I$34/(2*3.14)^0.5*EXP(-1/2*((Q413-入力部分!I$26/2)/入力部分!I$34)^2)","v":1.6811981322859565E-15},6.8424763984038434E-13,null,null,407,{"$f":"1/入力部分!$I$35/(2*3.14)^0.5*EXP(-1/2*((V413-入力部分!$I$27/2)/入力部分!$I$35)^2)","v":2.0733111268821484E-154},8.4383762864103434E-152]
[null,null,null,null,null,null,null,408,{"$f":"(入力部分!D$7*M414+入力部分!D$8*R414+入力部分!D$9*W414)/(入力部分!D$7+入力部分!D$8+入力部分!D$9)","v":5.4856007215986785E-5},null,null,408,{"$f":"1/入力部分!I$33/(2*3.14)^0.5*EXP(-1/2*((L414-入力部分!I$25)/入力部分!I$33)^2)","v":1.4628268590786476E-4},5.9683335850408824E-2,null,null,408,{"$f":"1/入力部分!I$34/(2*3.14)^0.5*EXP(-1/2*((Q414-入力部分!I$26/2)/入力部分!I$34)^2)","v":1.4333315715419147E-15},5.8479928118910123E-13,null,null,408,{"$f":"1/入力部分!$I$35/(2*3.14)^0.5*EXP(-1/2*((V414-入力部分!$I$27/2)/入力部分!$I$35)^2)","v":3.5433242275458377E-155},1.4456762848387017E-152]
[null,null,null,null,null,null,null,409,{"$f":"(入力部分!D$7*M415+入力部分!D$8*R415+入力部分!D$9*W415)/(入力部分!D$7+入力部分!D$8+入力部分!D$9)","v":5.3536194615704022E-5},null,null,409,{"$f":"1/入力部分!I$33/(2*3.14)^0.5*EXP(-1/2*((L415-入力部分!I$25)/入力部分!I$33)^2)","v":1.4276318564065591E-4},5.8390142927028266E-2,null,null,409,{"$f":"1/入力部分!I$34/(2*3.14)^0.5*EXP(-1/2*((Q415-入力部分!I$26/2)/入力部分!I$34)^2)","v":1.2214788157667106E-15},4.9958483564858465E-13,null,null,409,{"$f":"1/入力部分!$I$35/(2*3.14)^0.5*EXP(-1/2*((V415-入力部分!$I$27/2)/入力部分!$I$35)^2)","v":6.0287477291378345E-156},2.4657578212173742E-153]
[null,null,null,null,null,null,null,410,{"$f":"(入力部分!D$7*M416+入力部分!D$8*R416+入力部分!D$9*W416)/(入力部分!D$7+入力部分!D$8+入力部分!D$9)","v":5.224339730977382E-5},null,null,410,{"$f":"1/入力部分!I$33/(2*3.14)^0.5*EXP(-1/2*((L416-入力部分!I$25)/入力部分!I$33)^2)","v":1.3931572615835636E-4},5.7119447724926109E-2,null,null,410,{"$f":"1/入力部分!I$34/(2*3.14)^0.5*EXP(-1/2*((Q416-入力部分!I$26/2)/入力部分!I$34)^2)","v":1.0404871374417097E-15},4.2659972635110099E-13,null,null,410,{"$f":"1/入力部分!$I$35/(2*3.14)^0.5*EXP(-1/2*((V416-入力部分!$I$27/2)/入力部分!$I$35)^2)","v":1.0212054673030139E-156},4.1869424159423569E-154]
[null,null,null,null,null,null,null,411,{"$f":"(入力部分!D$7*M417+入力部分!D$8*R417+入力部分!D$9*W417)/(入力部分!D$7+入力部分!D$8+入力部分!D$9)","v":5.0977194609130707E-5},null,null,411,{"$f":"1/入力部分!I$33/(2*3.14)^0.5*EXP(-1/2*((L417-入力部分!I$25)/入力部分!I$33)^2)","v":1.3593918562346263E-4},5.5871005291243142E-2,null,null,411,{"$f":"1/入力部分!I$34/(2*3.14)^0.5*EXP(-1/2*((Q417-入力部分!I$26/2)/入力部分!I$34)^2)","v":8.8592915967581419E-16},3.6411688462675966E-13,null,null,411,{"$f":"1/入力部分!$I$35/(2*3.14)^0.5*EXP(-1/2*((V417-入力部分!$I$27/2)/入力部分!$I$35)^2)","v":1.7221419798654527E-157},7.0780035372470106E-155]
[null,null,null,null,null,null,null,412,{"$f":"(入力部分!D$7*M418+入力部分!D$8*R418+入力部分!D$9*W418)/(入力部分!D$7+入力部分!D$8+入力部分!D$9)","v":4.9737168853581801E-5},null,null,412,{"$f":"1/入力部分!I$33/(2*3.14)^0.5*EXP(-1/2*((L418-入力部分!I$25)/入力部分!I$33)^2)","v":1.3263245027546414E-4},5.4644569513491226E-2,null,null,412,{"$f":"1/入力部分!I$34/(2*3.14)^0.5*EXP(-1/2*((Q418-入力部分!I$26/2)/入力部分!I$34)^2)","v":7.5400249177575634E-16},3.1064902661161161E-13,null,null,412,{"$f":"1/入力部分!$I$35/(2*3.14)^0.5*EXP(-1/2*((V418-入力部分!$I$27/2)/入力部分!$I$35)^2)","v":2.8913094653938922E-158},1.1912194997422836E-155]
[null,null,null,null,null,null,null,413,{"$f":"(入力部分!D$7*M419+入力部分!D$8*R419+入力部分!D$9*W419)/(入力部分!D$7+入力部分!D$8+入力部分!D$9)","v":4.8522905488077633E-5},null,null,413,{"$f":"1/入力部分!I$33/(2*3.14)^0.5*EXP(-1/2*((L419-入力部分!I$25)/入力部分!I$33)^2)","v":1.2939441463423226E-4},5.3439893243937928E-2,null,null,413,{"$f":"1/入力部分!I$34/(2*3.14)^0.5*EXP(-1/2*((Q419-入力部分!I$26/2)/入力部分!I$34)^2)","v":6.4144299978357352E-16},2.6491595891061587E-13,null,null,413,{"$f":"1/入力部分!$I$35/(2*3.14)^0.5*EXP(-1/2*((V419-入力部分!$I$27/2)/入力部分!$I$35)^2)","v":4.832701875726902E-159},1.9959058746752104E-156]
[null,null,null,null,null,null,null,414,{"$f":"(入力部分!D$7*M420+入力部分!D$8*R420+入力部分!D$9*W420)/(入力部分!D$7+入力部分!D$8+入力部分!D$9)","v":4.7333993135740098E-5},null,null,414,{"$f":"1/入力部分!I$33/(2*3.14)^0.5*EXP(-1/2*((L420-入力部分!I$25)/入力部分!I$33)^2)","v":1.2622398169476149E-4},5.225672842163126E-2,null,null,414,{"$f":"1/入力部分!I$34/(2*3.14)^0.5*EXP(-1/2*((Q420-入力部分!I$26/2)/入力部分!I$34)^2)","v":5.4544989553481894E-16},2.2581625675141504E-13,null,null,414,{"$f":"1/入力部分!$I$35/(2*3.14)^0.5*EXP(-1/2*((V420-入力部分!$I$27/2)/入力部分!$I$35)^2)","v":8.0418364033200855E-160},3.3293202709745151E-157]
[null,null,null,null,null,null,null,415,{"$f":"(入力部分!D$7*M421+入力部分!D$8*R421+入力部分!D$9*W421)/(入力部分!D$7+入力部分!D$8+入力部分!D$9)","v":4.6170023667687073E-5},null,null,415,{"$f":"1/入力部分!I$33/(2*3.14)^0.5*EXP(-1/2*((L421-入力部分!I$25)/入力部分!I$33)^2)","v":1.2312006311336856E-4},5.1094826192047957E-2,null,null,415,{"$f":"1/入力部分!I$34/(2*3.14)^0.5*EXP(-1/2*((Q421-入力部分!I$26/2)/入力部分!I$34)^2)","v":4.6362106473762283E-16},1.9240274186611348E-13,null,null,415,{"$f":"1/入力部分!$I$35/(2*3.14)^0.5*EXP(-1/2*((V421-入力部分!$I$27/2)/入力部分!$I$35)^2)","v":1.3322639161037656E-160},5.5288952518306271E-158]
[null,null,null,null,null,null,null,416,{"$f":"(入力部分!D$7*M422+入力部分!D$8*R422+入力部分!D$9*W422)/(入力部分!D$7+入力部分!D$8+入力部分!D$9)","v":4.5030592269694545E-5},null,null,416,{"$f":"1/入力部分!I$33/(2*3.14)^0.5*EXP(-1/2*((L422-入力部分!I$25)/入力部分!I$33)^2)","v":1.2008157938545822E-4},4.9953937024350623E-2,null,null,416,{"$f":"1/入力部分!I$34/(2*3.14)^0.5*EXP(-1/2*((Q422-入力部分!I$26/2)/入力部分!I$34)^2)","v":3.9389726130651035E-16},1.638612607035083E-13,null,null,416,{"$f":"1/入力部分!$I$35/(2*3.14)^0.5*EXP(-1/2*((V422-入力部分!$I$27/2)/入力部分!$I$35)^2)","v":2.1973290585085903E-161},9.1408888833957356E-159]
[null,null,null,null,null,null,null,417,{"$f":"(入力部分!D$7*M423+入力部分!D$8*R423+入力部分!D$9*W423)/(入力部分!D$7+入力部分!D$8+入力部分!D$9)","v":4.3915297505738173E-5},null,null,417,{"$f":"1/入力部分!I$33/(2*3.14)^0.5*EXP(-1/2*((L423-入力部分!I$25)/入力部分!I$33)^2)","v":1.1710746001496728E-4},4.8833810826241358E-2,null,null,417,{"$f":"1/入力部分!I$34/(2*3.14)^0.5*EXP(-1/2*((Q423-入力部分!I$26/2)/入力部分!I$34)^2)","v":3.3451397546367667E-16},1.3949232776835318E-13,null,null,417,{"$f":"1/入力部分!$I$35/(2*3.14)^0.5*EXP(-1/2*((V423-入力部分!$I$27/2)/入力部分!$I$35)^2)","v":3.6080266365331053E-162},1.5045471074343048E-159]
[null,null,null,null,null,null,null,418,{"$f":"(入力部分!D$7*M424+入力部分!D$8*R424+入力部分!D$9*W424)/(入力部分!D$7+入力部分!D$8+入力部分!D$9)","v":4.2823741378456191E-5},null,null,418,{"$f":"1/入力部分!I$33/(2*3.14)^0.5*EXP(-1/2*((L424-入力部分!I$25)/入力部分!I$33)^2)","v":1.1419664367559922E-4},4.7734197056400474E-2,null,null,418,{"$f":"1/入力部分!I$34/(2*3.14)^0.5*EXP(-1/2*((Q424-入力部分!I$26/2)/入力部分!I$34)^2)","v":2.8395994024735206E-16},1.1869525502339316E-13,null,null,418,{"$f":"1/入力部分!$I$35/(2*3.14)^0.5*EXP(-1/2*((V424-入力部分!$I$27/2)/入力部分!$I$35)^2)","v":5.8981277302059091E-163},2.4654173912260699E-160]
[null,null,null,null,null,null,null,419,{"$f":"(入力部分!D$7*M425+入力部分!D$8*R425+入力部分!D$9*W425)/(入力部分!D$7+入力部分!D$8+入力部分!D$9)","v":4.175552938657777E-5},null,null,419,{"$f":"1/入力部分!I$33/(2*3.14)^0.5*EXP(-1/2*((L425-入力部分!I$25)/入力部分!I$33)^2)","v":1.1134807836396646E-4},4.6654844834501948E-2,null,null,419,{"$f":"1/入力部分!I$34/(2*3.14)^0.5*EXP(-1/2*((Q425-入力部分!I$26/2)/入力部分!I$34)^2)","v":2.4094137794396498E-16},1.0095443735852132E-13,null,null,419,{"$f":"1/入力部分!$I$35/(2*3.14)^0.5*EXP(-1/2*((V425-入力部分!$I$27/2)/入力部分!$I$35)^2)","v":9.5990535409166507E-164},4.0220034336440763E-161]
[null,null,null,null,null,null,null,420,{"$f":"(入力部分!D$7*M426+入力部分!D$8*R426+入力部分!D$9*W426)/(入力部分!D$7+入力部分!D$8+入力部分!D$9)","v":4.0710270579360975E-5},null,null,420,{"$f":"1/入力部分!I$33/(2*3.14)^0.5*EXP(-1/2*((L426-入力部分!I$25)/入力部分!I$33)^2)","v":1.0856072154475825E-4},4.5595503048798461E-2,null,null,420,{"$f":"1/入力部分!I$34/(2*3.14)^0.5*EXP(-1/2*((Q426-入力部分!I$26/2)/入力部分!I$34)^2)","v":2.0435120713560105E-16},8.5827506996952447E-14,null,null,420,{"$f":"1/入力部分!$I$35/(2*3.14)^0.5*EXP(-1/2*((V426-入力部分!$I$27/2)/入力部分!$I$35)^2)","v":1.5552938582215581E-164},6.5322342045305437E-162]
[null,null,null,null,null,null,null,421,{"$f":"(入力部分!D$7*M427+入力部分!D$8*R427+入力部分!D$9*W427)/(入力部分!D$7+入力部分!D$8+入力部分!D$9)","v":3.9687577608084959E-5},null,null,421,{"$f":"1/入力部分!I$33/(2*3.14)^0.5*EXP(-1/2*((L427-入力部分!I$25)/入力部分!I$33)^2)","v":1.0583354028805334E-4},4.4555920461270458E-2,null,null,421,{"$f":"1/入力部分!I$34/(2*3.14)^0.5*EXP(-1/2*((Q427-入力部分!I$26/2)/入力部分!I$34)^2)","v":1.7324253476201133E-16},7.2935107134806768E-14,null,null,421,{"$f":"1/入力部分!$I$35/(2*3.14)^0.5*EXP(-1/2*((V427-入力部分!$I$27/2)/入力部分!$I$35)^2)","v":2.5088015090471258E-165},1.05620543530884E-162]
[null,null,null,null,null,null,null,422,{"$f":"(入力部分!D$7*M428+入力部分!D$8*R428+入力部分!D$9*W428)/(入力部分!D$7+入力部分!D$8+入力部分!D$9)","v":3.8687066774642921E-5},null,null,422,{"$f":"1/入力部分!I$33/(2*3.14)^0.5*EXP(-1/2*((L428-入力部分!I$25)/入力部分!I$33)^2)","v":1.0316551139890099E-4},4.3535845810336218E-2,null,null,422,{"$f":"1/入力部分!I$34/(2*3.14)^0.5*EXP(-1/2*((Q428-入力部分!I$26/2)/入力部分!I$34)^2)","v":1.4680584779791181E-16},6.1952067770718787E-14,null,null,422,{"$f":"1/入力部分!$I$35/(2*3.14)^0.5*EXP(-1/2*((V428-入力部分!$I$27/2)/入力部分!$I$35)^2)","v":4.0289321142235227E-166},1.7002093522023267E-163]
[null,null,null,null,null,null,null,423,{"$f":"(入力部分!D$7*M429+入力部分!D$8*R429+入力部分!D$9*W429)/(入力部分!D$7+入力部分!D$8+入力部分!D$9)","v":3.7708358077281617E-5},null,null,423,{"$f":"1/入力部分!I$33/(2*3.14)^0.5*EXP(-1/2*((L429-入力部分!I$25)/入力部分!I$33)^2)","v":1.0055562153929332E-4},4.2535027911121071E-2,null,null,423,{"$f":"1/入力部分!I$34/(2*3.14)^0.5*EXP(-1/2*((Q429-入力部分!I$26/2)/入力部分!I$34)^2)","v":1.2434939755968662E-16},5.2599795167747438E-14,null,null,423,{"$f":"1/入力部分!$I$35/(2*3.14)^0.5*EXP(-1/2*((V429-入力部分!$I$27/2)/入力部分!$I$35)^2)","v":6.4414464339432011E-167},2.724731841557974E-164]
[null,null,null,null,null,null,null,424,{"$f":"(入力部分!D$7*M430+入力部分!D$8*R430+入力部分!D$9*W430)/(入力部分!D$7+入力部分!D$8+入力部分!D$9)","v":3.6751075253535304E-5},null,null,424,{"$f":"1/入力部分!I$33/(2*3.14)^0.5*EXP(-1/2*((L430-入力部分!I$25)/入力部分!I$33)^2)","v":9.8002867342655543E-5},4.1553215753285952E-2,null,null,424,{"$f":"1/入力部分!I$34/(2*3.14)^0.5*EXP(-1/2*((Q430-入力部分!I$26/2)/入力部分!I$34)^2)","v":1.052823377860288E-16},4.4639711221276211E-14,null,null,424,{"$f":"1/入力部分!$I$35/(2*3.14)^0.5*EXP(-1/2*((V430-入力部分!$I$27/2)/入力部分!$I$35)^2)","v":1.0252898351948179E-167},4.3472289012260281E-165]
[null,null,null,null,null,null,null,425,{"$f":"(入力部分!D$7*M431+入力部分!D$8*R431+入力部分!D$9*W431)/(入力部分!D$7+入力部分!D$8+入力部分!D$9)","v":3.5814845820400454E-5},null,null,425,{"$f":"1/入力部分!I$33/(2*3.14)^0.5*EXP(-1/2*((L431-入力部分!I$25)/入力部分!I$33)^2)","v":9.5506255520978796E-5},4.0590158596415987E-2,null,null,425,{"$f":"1/入力部分!I$34/(2*3.14)^0.5*EXP(-1/2*((Q431-入力部分!I$26/2)/入力部分!I$34)^2)","v":8.9100236802503513E-17},3.7867600641063994E-14,null,null,425,{"$f":"1/入力部分!$I$35/(2*3.14)^0.5*EXP(-1/2*((V431-入力部分!$I$27/2)/入力部分!$I$35)^2)","v":1.6247244130582158E-168},6.9050787554974174E-166]
[null,null,null,null,null,null,null,426,{"$f":"(入力部分!D$7*M432+入力部分!D$8*R432+入力部分!D$9*W432)/(入力部分!D$7+入力部分!D$8+入力部分!D$9)","v":3.4899301111801236E-5},null,null,426,{"$f":"1/入力部分!I$33/(2*3.14)^0.5*EXP(-1/2*((L432-入力部分!I$25)/入力部分!I$33)^2)","v":9.3064802964727941E-5},3.9645606062974105E-2,null,null,426,{"$f":"1/入力部分!I$34/(2*3.14)^0.5*EXP(-1/2*((Q432-入力部分!I$26/2)/入力部分!I$34)^2)","v":7.5372635433541263E-17},3.2108742694688578E-14,null,null,426,{"$f":"1/入力部分!$I$35/(2*3.14)^0.5*EXP(-1/2*((V432-入力部分!$I$27/2)/入力部分!$I$35)^2)","v":2.563200404654038E-169},1.0919233723826202E-166]
[null,null,null,null,null,null,null,427,{"$f":"(入力部分!D$7*M433+入力部分!D$8*R433+入力部分!D$9*W433)/(入力部分!D$7+入力部分!D$8+入力部分!D$9)","v":3.4004076313392808E-5},null,null,427,{"$f":"1/入力部分!I$33/(2*3.14)^0.5*EXP(-1/2*((L433-入力部分!I$25)/入力部分!I$33)^2)","v":9.0677536835650436E-5},3.8719308228822739E-2,null,null,427,{"$f":"1/入力部分!I$34/(2*3.14)^0.5*EXP(-1/2*((Q433-入力部分!I$26/2)/入力部分!I$34)^2)","v":6.3732366875372892E-17},2.7213720655784224E-14,null,null,427,{"$f":"1/入力部分!$I$35/(2*3.14)^0.5*EXP(-1/2*((V433-入力部分!$I$27/2)/入力部分!$I$35)^2)","v":4.0258280549345484E-170},1.7190285794570523E-167]
[null,null,null,null,null,null,null,428,{"$f":"(入力部分!D$7*M434+入力部分!D$8*R434+入力部分!D$9*W434)/(入力部分!D$7+入力部分!D$8+入力部分!D$9)","v":3.3128810494752542E-5},null,null,428,{"$f":"1/入力部分!I$33/(2*3.14)^0.5*EXP(-1/2*((L434-入力部分!I$25)/入力部分!I$33)^2)","v":8.8343494652619583E-5},3.7811015711321179E-2,null,null,428,{"$f":"1/入力部分!I$34/(2*3.14)^0.5*EXP(-1/2*((Q434-入力部分!I$26/2)/入力部分!I$34)^2)","v":5.3866393371438393E-17},2.3054816362975632E-14,null,null,428,{"$f":"1/入力部分!$I$35/(2*3.14)^0.5*EXP(-1/2*((V434-入力部分!$I$27/2)/入力部分!$I$35)^2)","v":6.295028249427752E-171},2.6942720907550776E-168]
[null,null,null,null,null,null,null,429,{"$f":"(入力部分!D$7*M435+入力部分!D$8*R435+入力部分!D$9*W435)/(入力部分!D$7+入力部分!D$8+入力部分!D$9)","v":3.2273146639008222E-5},null,null,429,{"$f":"1/入力部分!I$33/(2*3.14)^0.5*EXP(-1/2*((L435-入力部分!I$25)/入力部分!I$33)^2)","v":8.60617243706431E-5},3.692047975500589E-2,null,null,429,{"$f":"1/入力部分!I$34/(2*3.14)^0.5*EXP(-1/2*((Q435-入力部分!I$26/2)/入力部分!I$34)^2)","v":4.5507948007679323E-17},1.9522909695294431E-14,null,null,429,{"$f":"1/入力部分!$I$35/(2*3.14)^0.5*EXP(-1/2*((V435-入力部分!$I$27/2)/入力部分!$I$35)^2)","v":9.7996360582925441E-172},4.2040438690075013E-169]
[null,null,null,null,null,null,null,430,{"$f":"(入力部分!D$7*M436+入力部分!D$8*R436+入力部分!D$9*W436)/(入力部分!D$7+入力部分!D$8+入力部分!D$9)","v":3.1436731669953101E-5},null,null,430,{"$f":"1/入力部分!I$33/(2*3.14)^0.5*EXP(-1/2*((L436-入力部分!I$25)/入力部分!I$33)^2)","v":8.3831284453169858E-5},3.6047452314863039E-2,null,null,430,{"$f":"1/入力部分!I$34/(2*3.14)^0.5*EXP(-1/2*((Q436-入力部分!I$26/2)/入力部分!I$34)^2)","v":3.8429798941227004E-17},1.6524813544727612E-14,null,null,430,{"$f":"1/入力部分!$I$35/(2*3.14)^0.5*EXP(-1/2*((V436-入力部分!$I$27/2)/入力部分!$I$35)^2)","v":1.5187700104632613E-172},6.5307110449920238E-170]
[null,null,null,null,null,null,null,431,{"$f":"(入力部分!D$7*M437+入力部分!D$8*R437+入力部分!D$9*W437)/(入力部分!D$7+入力部分!D$8+入力部分!D$9)","v":3.0619216476698071E-5},null,null,431,{"$f":"1/入力部分!I$33/(2*3.14)^0.5*EXP(-1/2*((L437-入力部分!I$25)/入力部分!I$33)^2)","v":8.1651243937829105E-5},3.5191686137204345E-2,null,null,431,{"$f":"1/入力部分!I$34/(2*3.14)^0.5*EXP(-1/2*((Q437-入力部分!I$26/2)/入力部分!I$34)^2)","v":3.2438478478857968E-17},1.3980984224387783E-14,null,null,431,{"$f":"1/入力部分!$I$35/(2*3.14)^0.5*EXP(-1/2*((V437-入力部分!$I$27/2)/入力部分!$I$35)^2)","v":2.3433862712004902E-173},1.0099994828874114E-170]
[null,null,null,null,null,null,null,432,{"$f":"(入力部分!D$7*M438+入力部分!D$8*R438+入力部分!D$9*W438)/(入力部分!D$7+入力部分!D$8+入力部分!D$9)","v":2.9820255935911101E-5},null,null,432,{"$f":"1/入力部分!I$33/(2*3.14)^0.5*EXP(-1/2*((L438-入力部分!I$25)/入力部分!I$33)^2)","v":7.9520682495735583E-5},3.4352934838157774E-2,null,null,432,{"$f":"1/入力部分!I$34/(2*3.14)^0.5*EXP(-1/2*((Q438-入力部分!I$26/2)/入力部分!I$34)^2)","v":2.7369341142786185E-17},1.1823555373683633E-14,null,null,432,{"$f":"1/入力部分!$I$35/(2*3.14)^0.5*EXP(-1/2*((V438-入力部分!$I$27/2)/入力部分!$I$35)^2)","v":3.5996937320032066E-174},1.5550676922253852E-171]
[null,null,null,null,null,null,null,433,{"$f":"(入力部分!D$7*M439+入力部分!D$8*R439+入力部分!D$9*W439)/(入力部分!D$7+入力部分!D$8+入力部分!D$9)","v":2.9039508931694816E-5},null,null,433,{"$f":"1/入力部分!I$33/(2*3.14)^0.5*EXP(-1/2*((L439-入力部分!I$25)/入力部分!I$33)^2)","v":7.7438690484496429E-5},3.3530952979786956E-2,null,null,433,{"$f":"1/入力部分!I$34/(2*3.14)^0.5*EXP(-1/2*((Q439-入力部分!I$26/2)/入力部分!I$34)^2)","v":2.3082333646873899E-17},9.9946504690963984E-15,null,null,433,{"$f":"1/入力部分!$I$35/(2*3.14)^0.5*EXP(-1/2*((V439-入力部分!$I$27/2)/入力部分!$I$35)^2)","v":5.5049962149894641E-175},2.3836633610904381E-172]
[null,null,null,null,null,null,null,434,{"$f":"(入力部分!D$7*M440+入力部分!D$8*R440+入力部分!D$9*W440)/(入力部分!D$7+入力部分!D$8+入力部分!D$9)","v":2.8276638373152664E-5},null,null,434,{"$f":"1/入力部分!I$33/(2*3.14)^0.5*EXP(-1/2*((L440-入力部分!I$25)/入力部分!I$33)^2)","v":7.5404368995054318E-5},3.2725496143853575E-2,null,null,434,{"$f":"1/入力部分!I$34/(2*3.14)^0.5*EXP(-1/2*((Q440-入力部分!I$26/2)/入力部分!I$34)^2)","v":1.9458375944568668E-17},8.4449351599428025E-15,null,null,434,{"$f":"1/入力部分!$I$35/(2*3.14)^0.5*EXP(-1/2*((V440-入力部分!$I$27/2)/入力部分!$I$35)^2)","v":8.3814334285107503E-176},3.6375421079736658E-173]
[null,null,null,null,null,null,null,435,{"$f":"(入力部分!D$7*M441+入力部分!D$8*R441+入力部分!D$9*W441)/(入力部分!D$7+入力部分!D$8+入力部分!D$9)","v":2.7531311209694684E-5},null,null,435,{"$f":"1/入力部分!I$33/(2*3.14)^0.5*EXP(-1/2*((L441-入力部分!I$25)/入力部分!I$33)^2)","v":7.3416829892502758E-5},3.1936321003238698E-2,null,null,435,{"$f":"1/入力部分!I$34/(2*3.14)^0.5*EXP(-1/2*((Q441-入力部分!I$26/2)/入力部分!I$34)^2)","v":1.6396266539049571E-17},7.1323759444865629E-15,null,null,435,{"$f":"1/入力部分!$I$35/(2*3.14)^0.5*EXP(-1/2*((V441-入力部分!$I$27/2)/入力部分!$I$35)^2)","v":1.2704260119733187E-176},5.5263531520839364E-174]
[null,null,null,null,null,null,null,436,{"$f":"(入力部分!D$7*M442+入力部分!D$8*R442+入力部分!D$9*W442)/(入力部分!D$7+入力部分!D$8+入力部分!D$9)","v":2.6803198444133851E-5},null,null,436,{"$f":"1/入力部分!I$33/(2*3.14)^0.5*EXP(-1/2*((L442-入力部分!I$25)/入力部分!I$33)^2)","v":7.1475195851009797E-5},3.1163185391040273E-2,null,null,436,{"$f":"1/入力部分!I$34/(2*3.14)^0.5*EXP(-1/2*((Q442-入力部分!I$26/2)/入力部分!I$34)^2)","v":1.3810037360570517E-17},6.0211762892087453E-15,null,null,436,{"$f":"1/入力部分!$I$35/(2*3.14)^0.5*EXP(-1/2*((V442-入力部分!$I$27/2)/入力部分!$I$35)^2)","v":1.9171242343292668E-177},8.358661661675603E-175]
[null,null,null,null,null,null,null,437,{"$f":"(入力部分!D$7*M443+入力部分!D$8*R443+入力部分!D$9*W443)/(入力部分!D$7+入力部分!D$8+入力部分!D$9)","v":2.6091975143624121E-5},null,null,437,{"$f":"1/入力部分!I$33/(2*3.14)^0.5*EXP(-1/2*((L443-入力部分!I$25)/入力部分!I$33)^2)","v":6.9578600382986047E-5},3.0405848367364902E-2,null,null,437,{"$f":"1/入力部分!I$34/(2*3.14)^0.5*EXP(-1/2*((Q443-入力部分!I$26/2)/入力部分!I$34)^2)","v":1.1626693971731414E-17},5.0808652656466278E-15,null,null,437,{"$f":"1/入力部分!$I$35/(2*3.14)^0.5*EXP(-1/2*((V443-入力部分!$I$27/2)/入力部分!$I$35)^2)","v":2.8801886804365645E-178},1.2586424533507787E-175]
[null,null,null,null,null,null,null,438,{"$f":"(入力部分!D$7*M444+入力部分!D$8*R444+入力部分!D$9*W444)/(入力部分!D$7+入力部分!D$8+入力部分!D$9)","v":2.5397320448490711E-5},null,null,438,{"$f":"1/入力部分!I$33/(2*3.14)^0.5*EXP(-1/2*((L444-入力部分!I$25)/入力部分!I$33)^2)","v":6.7726187862632116E-5},2.9664070283832868E-2,null,null,438,{"$f":"1/入力部分!I$34/(2*3.14)^0.5*EXP(-1/2*((Q444-入力部分!I$26/2)/入力部分!I$34)^2)","v":9.784285880959332E-18},4.2855172158601873E-15,null,null,438,{"$f":"1/入力部分!$I$35/(2*3.14)^0.5*EXP(-1/2*((V444-入力部分!$I$27/2)/入力部分!$I$35)^2)","v":4.3078584403352108E-179},1.8868419968668225E-176]
[null,null,null,null,null,null,null,439,{"$f":"(入力部分!D$7*M445+入力部分!D$8*R445+入力部分!D$9*W445)/(入力部分!D$7+入力部分!D$8+入力部分!D$9)","v":2.4718917579004229E-5},null,null,439,{"$f":"1/入力部分!I$33/(2*3.14)^0.5*EXP(-1/2*((L445-入力部分!I$25)/入力部分!I$33)^2)","v":6.5917113544003056E-5},2.8937612845817341E-2,null,null,439,{"$f":"1/入力部分!I$34/(2*3.14)^0.5*EXP(-1/2*((Q445-入力部分!I$26/2)/入力部分!I$34)^2)","v":8.2302595211417779E-18},3.6130839297812402E-15,null,null,439,{"$f":"1/入力部分!$I$35/(2*3.14)^0.5*EXP(-1/2*((V445-入力部分!$I$27/2)/入力部分!$I$35)^2)","v":6.4146314657464969E-180},2.8160232134627123E-177]
[null,null,null,null,null,null,null,440,{"$f":"(入力部分!D$7*M446+入力部分!D$8*R446+入力部分!D$9*W446)/(入力部分!D$7+入力部分!D$8+入力部分!D$9)","v":2.4056453840149277E-5},null,null,440,{"$f":"1/入力部分!I$33/(2*3.14)^0.5*EXP(-1/2*((L446-入力部分!I$25)/入力部分!I$33)^2)","v":6.4150543573724485E-5},2.8226239172438772E-2,null,null,440,{"$f":"1/入力部分!I$34/(2*3.14)^0.5*EXP(-1/2*((Q446-入力部分!I$26/2)/入力部分!I$34)^2)","v":6.9200531519841789E-18},3.0448233868730388E-15,null,null,440,{"$f":"1/入力部分!$I$35/(2*3.14)^0.5*EXP(-1/2*((V446-入力部分!$I$27/2)/入力部分!$I$35)^2)","v":9.5093711733131304E-181},4.1841233162577776E-178]
[null,null,null,null,null,null,null,441,{"$f":"(入力部分!D$7*M447+入力部分!D$8*R447+入力部分!D$9*W447)/(入力部分!D$7+入力部分!D$8+入力部分!D$9)","v":2.3409620624438213E-5},null,null,441,{"$f":"1/入力部分!I$33/(2*3.14)^0.5*EXP(-1/2*((L447-入力部分!I$25)/入力部分!I$33)^2)","v":6.2425654998496087E-5},2.7529713854336776E-2,null,null,441,{"$f":"1/入力部分!I$34/(2*3.14)^0.5*EXP(-1/2*((Q447-入力部分!I$26/2)/入力部分!I$34)^2)","v":5.8158987169369554E-18},2.5648113341691974E-15,null,null,441,{"$f":"1/入力部分!$I$35/(2*3.14)^0.5*EXP(-1/2*((V447-入力部分!$I$27/2)/入力部分!$I$35)^2)","v":1.4034653361365661E-181},6.189282132362256E-179]
[null,null,null,null,null,null,null,442,{"$f":"(入力部分!D$7*M448+入力部分!D$8*R448+入力部分!D$9*W448)/(入力部分!D$7+入力部分!D$8+入力部分!D$9)","v":2.2778113412821135E-5},null,null,442,{"$f":"1/入力部分!I$33/(2*3.14)^0.5*EXP(-1/2*((L448-入力部分!I$25)/入力部分!I$33)^2)","v":6.074163576751814E-5},2.6847803009243016E-2,null,null,442,{"$f":"1/入力部分!I$34/(2*3.14)^0.5*EXP(-1/2*((Q448-入力部分!I$26/2)/入力部分!I$34)^2)","v":4.8858006548236605E-18},2.1595238894320577E-15,null,null,442,{"$f":"1/入力部分!$I$35/(2*3.14)^0.5*EXP(-1/2*((V448-入力部分!$I$27/2)/入力部分!$I$35)^2)","v":2.062155373386686E-182},9.1147267503691527E-180]
[null,null,null,null,null,null,null,443,{"$f":"(入力部分!D$7*M449+入力部分!D$8*R449+入力部分!D$9*W449)/(入力部分!D$7+入力部分!D$8+入力部分!D$9)","v":2.2161631773742266E-5},null,null,443,{"$f":"1/入力部分!I$33/(2*3.14)^0.5*EXP(-1/2*((L449-入力部分!I$25)/入力部分!I$33)^2)","v":5.9097684729975282E-5},2.6180274335379051E-2,null,null,443,{"$f":"1/入力部分!I$34/(2*3.14)^0.5*EXP(-1/2*((Q449-入力部分!I$26/2)/入力部分!I$34)^2)","v":4.1026659421260942E-18},1.8174810123618597E-15,null,null,443,{"$f":"1/入力部分!$I$35/(2*3.14)^0.5*EXP(-1/2*((V449-入力部分!$I$27/2)/入力部分!$I$35)^2)","v":3.0165524436572734E-183},1.3363327325401722E-180]
[null,null,null,null,null,null,null,444,{"$f":"(入力部分!D$7*M450+入力部分!D$8*R450+入力部分!D$9*W450)/(入力部分!D$7+入力部分!D$8+入力部分!D$9)","v":2.1559879360393311E-5},null,null,444,{"$f":"1/入力部分!I$33/(2*3.14)^0.5*EXP(-1/2*((L450-入力部分!I$25)/入力部分!I$33)^2)","v":5.7493011627712058E-5},2.5526897162704155E-2,null,null,444,{"$f":"1/入力部分!I$34/(2*3.14)^0.5*EXP(-1/2*((Q450-入力部分!I$26/2)/入力部分!I$34)^2)","v":3.443563319155251E-18},1.5289421137049316E-15,null,null,444,{"$f":"1/入力部分!$I$35/(2*3.14)^0.5*EXP(-1/2*((V450-入力部分!$I$27/2)/入力部分!$I$35)^2)","v":4.3930907852684552E-184},1.9505323086591941E-181]
[null,null,null,null,null,null,null,445,{"$f":"(入力部分!D$7*M451+入力部分!D$8*R451+入力部分!D$9*W451)/(入力部分!D$7+入力部分!D$8+入力部分!D$9)","v":2.0972563906213864E-5},null,null,445,{"$f":"1/入力部分!I$33/(2*3.14)^0.5*EXP(-1/2*((L451-入力部分!I$25)/入力部分!I$33)^2)","v":5.5926837083234088E-5},2.488744250203917E-2,null,null,445,{"$f":"1/入力部分!I$34/(2*3.14)^0.5*EXP(-1/2*((Q451-入力部分!I$26/2)/入力部分!I$34)^2)","v":2.889092814258272E-18},1.285646302344931E-15,null,null,445,{"$f":"1/入力部分!$I$35/(2*3.14)^0.5*EXP(-1/2*((V451-入力部分!$I$27/2)/入力部分!$I$35)^2)","v":6.3694110759578803E-185},2.8343879288012568E-182]
[null,null,null,null,null,null,null,446,{"$f":"(入力部分!D$7*M452+入力部分!D$8*R452+入力部分!D$9*W452)/(入力部分!D$7+入力部分!D$8+入力部分!D$9)","v":2.0399397218688628E-5},null,null,446,{"$f":"1/入力部分!I$33/(2*3.14)^0.5*EXP(-1/2*((L452-入力部分!I$25)/入力部分!I$33)^2)","v":5.4398392583167252E-5},2.4261683092092593E-2,null,null,446,{"$f":"1/入力部分!I$34/(2*3.14)^0.5*EXP(-1/2*((Q452-入力部分!I$26/2)/入力部分!I$34)^2)","v":2.4228493958989995E-18},1.0805908305709538E-15,null,null,446,{"$f":"1/入力部分!$I$35/(2*3.14)^0.5*EXP(-1/2*((V452-入力部分!$I$27/2)/入力部分!$I$35)^2)","v":9.1938662522752406E-186},4.1004643485147576E-183]
[null,null,null,null,null,null,null,447,{"$f":"(入力部分!D$7*M453+入力部分!D$8*R453+入力部分!D$9*W453)/(入力部分!D$7+入力部分!D$8+入力部分!D$9)","v":1.9840095171490998E-5},null,null,447,{"$f":"1/入力部分!I$33/(2*3.14)^0.5*EXP(-1/2*((L453-入力部分!I$25)/入力部分!I$33)^2)","v":5.2906920457307296E-5},2.3649393444416363E-2,null,null,447,{"$f":"1/入力部分!I$34/(2*3.14)^0.5*EXP(-1/2*((Q453-入力部分!I$26/2)/入力部分!I$34)^2)","v":2.0309669144489733E-18},9.0784221075869109E-16,null,null,447,{"$f":"1/入力部分!$I$35/(2*3.14)^0.5*EXP(-1/2*((V453-入力部分!$I$27/2)/入力部分!$I$35)^2)","v":1.3211948941798819E-186},5.9057411769840724E-184]
[null,null,null,null,null,null,null,448,{"$f":"(入力部分!D$7*M454+入力部分!D$8*R454+入力部分!D$9*W454)/(入力部分!D$7+入力部分!D$8+入力部分!D$9)","v":1.9294377695022602E-5},null,null,448,{"$f":"1/入力部分!I$33/(2*3.14)^0.5*EXP(-1/2*((L454-入力部分!I$25)/入力部分!I$33)^2)","v":5.1451673853391902E-5},2.3050349886319571E-2,null,null,448,{"$f":"1/入力部分!I$34/(2*3.14)^0.5*EXP(-1/2*((Q454-入力部分!I$26/2)/入力部分!I$34)^2)","v":1.7017304970339282E-18},7.6237526267119982E-16,null,null,448,{"$f":"1/入力部分!$I$35/(2*3.14)^0.5*EXP(-1/2*((V454-入力部分!$I$27/2)/入力部分!$I$35)^2)","v":1.890189707823747E-187},8.4680498910503869E-185]
[null,null,null,null,null,null,null,449,{"$f":"(入力部分!D$7*M455+入力部分!D$8*R455+入力部分!D$9*W455)/(入力部分!D$7+入力部分!D$8+入力部分!D$9)","v":1.8761968765397118E-5},null,null,449,{"$f":"1/入力部分!I$33/(2*3.14)^0.5*EXP(-1/2*((L455-入力部分!I$25)/入力部分!I$33)^2)","v":5.0031916707724232E-5},{"$f":"L455*$M455","v":2.2464330601768182E-2},null,null,449,{"$f":"1/入力部分!I$34/(2*3.14)^0.5*EXP(-1/2*((Q455-入力部分!I$26/2)/入力部分!I$34)^2)","v":1.4252472757699123E-18},{"$f":"Q455*$R455","v":6.399360268206906E-16},null,null,449,{"$f":"1/入力部分!$I$35/(2*3.14)^0.5*EXP(-1/2*((V455-入力部分!$I$27/2)/入力部分!$I$35)^2)","v":2.6922395740737332E-188},{"$f":"V455*$W455","v":1.2088155687591063E-185}]
[null,null,null,null,null,null,null,450,{"$f":"(入力部分!D$7*M456+入力部分!D$8*R456+入力部分!D$9*W456)/(入力部分!D$7+入力部分!D$8+入力部分!D$9)","v":1.8242596391917662E-5},null,null,450,{"$f":"1/入力部分!I$33/(2*3.14)^0.5*EXP(-1/2*((L456-入力部分!I$25)/入力部分!I$33)^2)","v":4.8646923711779248E-5},2.1891115670300661E-2,null,null,450,{"$f":"1/入力部分!I$34/(2*3.14)^0.5*EXP(-1/2*((Q456-入力部分!I$26/2)/入力部分!I$34)^2)","v":1.1931668018962117E-18},5.3692506085329529E-16,null,null,450,{"$f":"1/入力部分!$I$35/(2*3.14)^0.5*EXP(-1/2*((V456-入力部分!$I$27/2)/入力部分!$I$35)^2)","v":3.8176122521821103E-189},1.7179255134819496E-186]
[null,null,null,null,null,null,null,451,{"$f":"(入力部分!D$7*M457+入力部分!D$8*R457+入力部分!D$9*W457)/(入力部分!D$7+入力部分!D$8+入力部分!D$9)","v":1.7735992603095064E-5},null,null,451,{"$f":"1/入力部分!I$33/(2*3.14)^0.5*EXP(-1/2*((L457-入力部分!I$25)/入力部分!I$33)^2)","v":4.7295980274919174E-5},2.1330487103988549E-2,null,null,451,{"$f":"1/入力部分!I$34/(2*3.14)^0.5*EXP(-1/2*((Q457-入力部分!I$26/2)/入力部分!I$34)^2)","v":9.9844375994424541E-19},4.5029813573485468E-16,null,null,451,{"$f":"1/入力部分!$I$35/(2*3.14)^0.5*EXP(-1/2*((V457-入力部分!$I$27/2)/入力部分!$I$35)^2)","v":5.3893914634987525E-190},2.4306155500379373E-187]
[null,null,null,null,null,null,null,452,{"$f":"(入力部分!D$7*M458+入力部分!D$8*R458+入力部分!D$9*W458)/(入力部分!D$7+入力部分!D$8+入力部分!D$9)","v":1.7241893431255664E-5},null,null,452,{"$f":"1/入力部分!I$33/(2*3.14)^0.5*EXP(-1/2*((L458-入力部分!I$25)/入力部分!I$33)^2)","v":4.5978382483347606E-5},2.0782228882473119E-2,null,null,452,{"$f":"1/入力部分!I$34/(2*3.14)^0.5*EXP(-1/2*((Q458-入力部分!I$26/2)/入力部分!I$34)^2)","v":8.3513667673742882E-19},3.7748177788531783E-16,null,null,452,{"$f":"1/入力部分!$I$35/(2*3.14)^0.5*EXP(-1/2*((V458-入力部分!$I$27/2)/入力部分!$I$35)^2)","v":7.5745606392812886E-191},3.4237014089551422E-188]
[null,null,null,null,null,null,null,453,{"$f":"(入力部分!D$7*M459+入力部分!D$8*R459+入力部分!D$9*W459)/(入力部分!D$7+入力部分!D$8+入力部分!D$9)","v":1.6760038895785215E-5},null,null,453,{"$f":"1/入力部分!I$33/(2*3.14)^0.5*EXP(-1/2*((L459-入力部分!I$25)/入力部分!I$33)^2)","v":4.4693437055426545E-5},2.0246126986108226E-2,null,null,453,{"$f":"1/入力部分!I$34/(2*3.14)^0.5*EXP(-1/2*((Q459-入力部分!I$26/2)/入力部分!I$34)^2)","v":6.9823724519271389E-19},3.163014720722994E-16,null,null,453,{"$f":"1/入力部分!$I$35/(2*3.14)^0.5*EXP(-1/2*((V459-入力部分!$I$27/2)/入力部分!$I$35)^2)","v":1.0598513703391489E-191},4.8011267076363445E-189]
[null,null,null,null,null,null,null,454,{"$f":"(入力部分!D$7*M460+入力部分!D$8*R460+入力部分!D$9*W460)/(入力部分!D$7+入力部分!D$8+入力部分!D$9)","v":1.6290172985056219E-5},null,null,454,{"$f":"1/入力部分!I$33/(2*3.14)^0.5*EXP(-1/2*((L460-入力部分!I$25)/入力部分!I$33)^2)","v":4.3440461293482671E-5},1.9721969427241134E-2,null,null,454,{"$f":"1/入力部分!I$34/(2*3.14)^0.5*EXP(-1/2*((Q460-入力部分!I$26/2)/入力部分!I$34)^2)","v":5.8352567456507209E-19},2.6492065625254275E-16,null,null,454,{"$f":"1/入力部分!$I$35/(2*3.14)^0.5*EXP(-1/2*((V460-入力部分!$I$27/2)/入力部分!$I$35)^2)","v":1.4763940520994795E-192},6.7028289965316364E-190]
[null,null,null,null,null,null,null,455,{"$f":"(入力部分!D$7*M461+入力部分!D$8*R461+入力部分!D$9*W461)/(入力部分!D$7+入力部分!D$8+入力部分!D$9)","v":1.5832043637084831E-5},null,null,455,{"$f":"1/入力部分!I$33/(2*3.14)^0.5*EXP(-1/2*((L461-入力部分!I$25)/入力部分!I$33)^2)","v":4.2218783032225731E-5},1.9209546279662707E-2,null,null,455,{"$f":"1/入力部分!I$34/(2*3.14)^0.5*EXP(-1/2*((Q461-入力部分!I$26/2)/入力部分!I$34)^2)","v":4.8744815586453546E-19},2.2178891091836364E-16,null,null,455,{"$f":"1/入力部分!$I$35/(2*3.14)^0.5*EXP(-1/2*((V461-入力部分!$I$27/2)/入力部分!$I$35)^2)","v":2.0475259301297978E-193},9.3162429820905799E-191]
[null,null,null,null,null,null,null,456,{"$f":"(入力部分!D$7*M462+入力部分!D$8*R462+入力部分!D$9*W462)/(入力部分!D$7+入力部分!D$8+入力部分!D$9)","v":1.5385402718963286E-5},null,null,456,{"$f":"1/入力部分!I$33/(2*3.14)^0.5*EXP(-1/2*((L462-入力部分!I$25)/入力部分!I$33)^2)","v":4.1027740583901698E-5},1.8708649706259173E-2,null,null,456,{"$f":"1/入力部分!I$34/(2*3.14)^0.5*EXP(-1/2*((Q462-入力部分!I$26/2)/入力部分!I$34)^2)","v":4.0701310997778984E-19},1.8559797814987216E-16,null,null,456,{"$f":"1/入力部分!$I$35/(2*3.14)^0.5*EXP(-1/2*((V462-入力部分!$I$27/2)/入力部分!$I$35)^2)","v":2.8270034354730846E-194},1.2891135665757265E-191]
[null,null,null,null,null,null,null,457,{"$f":"(入力部分!D$7*M463+入力部分!D$8*R463+入力部分!D$9*W463)/(入力部分!D$7+入力部分!D$8+入力部分!D$9)","v":1.4950006005113251E-5},null,null,457,{"$f":"1/入力部分!I$33/(2*3.14)^0.5*EXP(-1/2*((L463-入力部分!I$25)/入力部分!I$33)^2)","v":3.9866682680301667E-5},1.8219073984897863E-2,null,null,457,{"$f":"1/入力部分!I$34/(2*3.14)^0.5*EXP(-1/2*((Q463-入力部分!I$26/2)/入力部分!I$34)^2)","v":3.397033805619148E-19},1.5524444491679507E-16,null,null,457,{"$f":"1/入力部分!$I$35/(2*3.14)^0.5*EXP(-1/2*((V463-入力部分!$I$27/2)/入力部分!$I$35)^2)","v":3.8859129217053649E-195},1.7758622052193519E-192]
[null,null,null,null,null,null,null,458,{"$f":"(入力部分!D$7*M464+入力部分!D$8*R464+入力部分!D$9*W464)/(入力部分!D$7+入力部分!D$8+入力部分!D$9)","v":1.4525613154404803E-5},null,null,458,{"$f":"1/入力部分!I$33/(2*3.14)^0.5*EXP(-1/2*((L464-入力部分!I$25)/入力部分!I$33)^2)","v":3.8734968411745867E-5},1.7740615532579607E-2,null,null,458,{"$f":"1/入力部分!I$34/(2*3.14)^0.5*EXP(-1/2*((Q464-入力部分!I$26/2)/入力部分!I$34)^2)","v":2.8340195610389242E-19},1.2979809589558272E-16,null,null,458,{"$f":"1/入力部分!$I$35/(2*3.14)^0.5*EXP(-1/2*((V464-入力部分!$I$27/2)/入力部分!$I$35)^2)","v":5.3177705533569712E-196},2.4355389134374926E-193]
[null,null,null,null,null,null,null,459,{"$f":"(入力部分!D$7*M465+入力部分!D$8*R465+入力部分!D$9*W465)/(入力部分!D$7+入力部分!D$8+入力部分!D$9)","v":1.4111987686185496E-5},null,null,459,{"$f":"1/入力部分!I$33/(2*3.14)^0.5*EXP(-1/2*((L465-入力部分!I$25)/入力部分!I$33)^2)","v":3.7631967163161088E-5},1.7273072927890938E-2,null,null,459,{"$f":"1/入力部分!I$34/(2*3.14)^0.5*EXP(-1/2*((Q465-入力部分!I$26/2)/入力部分!I$34)^2)","v":2.3632916601951366E-19},1.0847508720295677E-16,null,null,459,{"$f":"1/入力部分!$I$35/(2*3.14)^0.5*EXP(-1/2*((V465-入力部分!$I$27/2)/入力部分!$I$35)^2)","v":7.2449589245156843E-197},3.3254361463526988E-194]
[null,null,null,null,null,null,null,460,{"$f":"(入力部分!D$7*M466+入力部分!D$8*R466+入力部分!D$9*W466)/(入力部分!D$7+入力部分!D$8+入力部分!D$9)","v":1.3708896955263017E-5},null,null,460,{"$f":"1/入力部分!I$33/(2*3.14)^0.5*EXP(-1/2*((L466-入力部分!I$25)/入力部分!I$33)^2)","v":3.655705854736785E-5},1.6816246931789212E-2,null,null,460,{"$f":"1/入力部分!I$34/(2*3.14)^0.5*EXP(-1/2*((Q466-入力部分!I$26/2)/入力部分!I$34)^2)","v":1.9698960320319652E-19},9.0615217473470403E-17,null,null,460,{"$f":"1/入力部分!$I$35/(2*3.14)^0.5*EXP(-1/2*((V466-入力部分!$I$27/2)/入力部分!$I$35)^2)","v":9.8267987657223139E-198},4.5203274322322647E-195]
[null,null,null,null,null,null,null,461,{"$f":"(入力部分!D$7*M467+入力部分!D$8*R467+入力部分!D$9*W467)/(入力部分!D$7+入力部分!D$8+入力部分!D$9)","v":1.3316112125884651E-5},null,null,461,{"$f":"1/入力部分!I$33/(2*3.14)^0.5*EXP(-1/2*((L467-入力部分!I$25)/入力部分!I$33)^2)","v":3.5509632335692246E-5},1.6369940506754124E-2,null,null,461,{"$f":"1/入力部分!I$34/(2*3.14)^0.5*EXP(-1/2*((Q467-入力部分!I$26/2)/入力部分!I$34)^2)","v":1.6412728768021442E-19},7.566267962057885E-17,null,null,461,{"$f":"1/入力部分!$I$35/(2*3.14)^0.5*EXP(-1/2*((V467-入力部分!$I$27/2)/入力部分!$I$35)^2)","v":1.3269605142514125E-198},6.1172879706990115E-196]
[null,null,null,null,null,null,null,462,{"$f":"(入力部分!D$7*M468+入力部分!D$8*R468+入力部分!D$9*W468)/(入力部分!D$7+入力部分!D$8+入力部分!D$9)","v":1.293340814475617E-5},null,null,462,{"$f":"1/入力部分!I$33/(2*3.14)^0.5*EXP(-1/2*((L468-入力部分!I$25)/入力部分!I$33)^2)","v":3.4489088386016321E-5},1.593395883433954E-2,null,null,462,{"$f":"1/入力部分!I$34/(2*3.14)^0.5*EXP(-1/2*((Q468-入力部分!I$26/2)/入力部分!I$34)^2)","v":1.366878095156816E-19},6.3149767996244902E-17,null,null,462,{"$f":"1/入力部分!$I$35/(2*3.14)^0.5*EXP(-1/2*((V468-入力部分!$I$27/2)/入力部分!$I$35)^2)","v":1.7839132844118254E-199},8.2416793739826336E-197]
[null,null,null,null,null,null,null,463,{"$f":"(入力部分!D$7*M469+入力部分!D$8*R469+入力部分!D$9*W469)/(入力部分!D$7+入力部分!D$8+入力部分!D$9)","v":1.2560563713141878E-5},null,null,463,{"$f":"1/入力部分!I$33/(2*3.14)^0.5*EXP(-1/2*((L469-入力部分!I$25)/入力部分!I$33)^2)","v":3.3494836568378232E-5},1.5508109331159122E-2,null,null,463,{"$f":"1/入力部分!I$34/(2*3.14)^0.5*EXP(-1/2*((Q469-入力部分!I$26/2)/入力部分!I$34)^2)","v":1.1378637952812566E-19},5.2683093721522181E-17,null,null,463,{"$f":"1/入力部分!$I$35/(2*3.14)^0.5*EXP(-1/2*((V469-入力部分!$I$27/2)/入力部分!$I$35)^2)","v":2.3875874177501172E-200},1.1054529744183042E-197]
[null,null,null,null,null,null,null,464,{"$f":"(入力部分!D$7*M470+入力部分!D$8*R470+入力部分!D$9*W470)/(入力部分!D$7+入力部分!D$8+入力部分!D$9)","v":1.2197361258087159E-5},null,null,464,{"$f":"1/入力部分!I$33/(2*3.14)^0.5*EXP(-1/2*((L470-入力部分!I$25)/入力部分!I$33)^2)","v":3.2526296688232331E-5},1.5092201663339801E-2,null,null,464,{"$f":"1/入力部分!I$34/(2*3.14)^0.5*EXP(-1/2*((Q470-入力部分!I$26/2)/入力部分!I$34)^2)","v":9.4680878463325921E-20},4.3931927606983224E-17,null,null,464,{"$f":"1/入力部分!$I$35/(2*3.14)^0.5*EXP(-1/2*((V470-入力部分!$I$27/2)/入力部分!$I$35)^2)","v":3.1813732554292748E-201},1.4761571905191835E-198]
[null,null,null,null,null,null,null,465,{"$f":"(入力部分!D$7*M471+入力部分!D$8*R471+入力部分!D$9*W471)/(入力部分!D$7+入力部分!D$8+入力部分!D$9)","v":1.184358690280422E-5},null,null,465,{"$f":"1/入力部分!I$33/(2*3.14)^0.5*EXP(-1/2*((L471-入力部分!I$25)/入力部分!I$33)^2)","v":3.1582898407477844E-5},1.4686047759477197E-2,null,null,465,{"$f":"1/入力部分!I$34/(2*3.14)^0.5*EXP(-1/2*((Q471-入力部分!I$26/2)/入力部分!I$34)^2)","v":7.8749133240195661E-20},3.6618346956690984E-17,null,null,465,{"$f":"1/入力部分!$I$35/(2*3.14)^0.5*EXP(-1/2*((V471-入力部分!$I$27/2)/入力部分!$I$35)^2)","v":4.2202654879241499E-202},1.9624234518847298E-199]
[null,null,null,null,null,null,null,466,{"$f":"(入力部分!D$7*M472+入力部分!D$8*R472+入力部分!D$9*W472)/(入力部分!D$7+入力部分!D$8+入力部分!D$9)","v":1.1499030436261111E-5},null,null,466,{"$f":"1/入力部分!I$33/(2*3.14)^0.5*EXP(-1/2*((L472-入力部分!I$25)/入力部分!I$33)^2)","v":3.0664081163362899E-5},1.4289461822127111E-2,null,null,466,{"$f":"1/入力部分!I$34/(2*3.14)^0.5*EXP(-1/2*((Q472-入力部分!I$26/2)/入力部分!I$34)^2)","v":6.5469766224987133E-20},3.0508911060844005E-17,null,null,466,{"$f":"1/入力部分!$I$35/(2*3.14)^0.5*EXP(-1/2*((V472-入力部分!$I$27/2)/入力部分!$I$35)^2)","v":5.5735861870492562E-203},2.5972911631649534E-200]
[null,null,null,null,null,null,null,467,{"$f":"(入力部分!D$7*M473+入力部分!D$8*R473+入力部分!D$9*W473)/(入力部分!D$7+入力部分!D$8+入力部分!D$9)","v":1.1163485282013097E-5},null,null,467,{"$f":"1/入力部分!I$33/(2*3.14)^0.5*EXP(-1/2*((L473-入力部分!I$25)/入力部分!I$33)^2)","v":2.9769294085368205E-5},1.3902260337866953E-2,null,null,467,{"$f":"1/入力部分!I$34/(2*3.14)^0.5*EXP(-1/2*((Q473-入力部分!I$26/2)/入力部分!I$34)^2)","v":5.4406063252843622E-20},2.5407631539077972E-17,null,null,467,{"$f":"1/入力部分!$I$35/(2*3.14)^0.5*EXP(-1/2*((V473-入力部分!$I$27/2)/入力部分!$I$35)^2)","v":7.3282364284145648E-204},3.4222864120696019E-201]
[null,null,null,null,null,null,null,468,{"$f":"(入力部分!D$7*M474+入力部分!D$8*R474+入力部分!D$9*W474)/(入力部分!D$7+入力部分!D$8+入力部分!D$9)","v":1.0836748466315379E-5},null,null,468,{"$f":"1/入力部分!I$33/(2*3.14)^0.5*EXP(-1/2*((L474-入力部分!I$25)/入力部分!I$33)^2)","v":2.88979959101743E-5},1.3524262085961572E-2,null,null,468,{"$f":"1/入力部分!I$34/(2*3.14)^0.5*EXP(-1/2*((Q474-入力部分!I$26/2)/入力部分!I$34)^2)","v":4.5192390889073785E-20},2.1150038936086533E-17,null,null,468,{"$f":"1/入力部分!$I$35/(2*3.14)^0.5*EXP(-1/2*((V474-入力部分!$I$27/2)/入力部分!$I$35)^2)","v":9.59254898975054E-205},4.4893129272032531E-202]
[null,null,null,null,null,null,null,469,{"$f":"(入力部分!D$7*M475+入力部分!D$8*R475+入力部分!D$9*W475)/(入力部分!D$7+入力部分!D$8+入力部分!D$9)","v":1.0518620585555006E-5},null,null,469,{"$f":"1/入力部分!I$33/(2*3.14)^0.5*EXP(-1/2*((L475-入力部分!I$25)/入力部分!I$33)^2)","v":2.8049654894813311E-5},1.3155288145667443E-2,null,null,469,{"$f":"1/入力部分!I$34/(2*3.14)^0.5*EXP(-1/2*((Q475-入力部分!I$26/2)/入力部分!I$34)^2)","v":3.7522765423047108E-20},1.7598176983409093E-17,null,null,469,{"$f":"1/入力部分!$I$35/(2*3.14)^0.5*EXP(-1/2*((V475-入力部分!$I$27/2)/入力部分!$I$35)^2)","v":1.2500816540703739E-205},5.8628829575900533E-203]
[null,null,null,null,null,null,null,470,{"$f":"(入力部分!D$7*M476+入力部分!D$8*R476+入力部分!D$9*W476)/(入力部分!D$7+入力部分!D$8+入力部分!D$9)","v":1.0208905773039254E-5},null,null,470,{"$f":"1/入力部分!I$33/(2*3.14)^0.5*EXP(-1/2*((L476-入力部分!I$25)/入力部分!I$33)^2)","v":2.7223748728104645E-5},1.2795161902209183E-2,null,null,470,{"$f":"1/入力部分!I$34/(2*3.14)^0.5*EXP(-1/2*((Q476-入力部分!I$26/2)/入力部分!I$34)^2)","v":3.114123720947759E-20},1.4636381488454468E-17,null,null,470,{"$f":"1/入力部分!$I$35/(2*3.14)^0.5*EXP(-1/2*((V476-入力部分!$I$27/2)/入力部分!$I$35)^2)","v":1.6218569256609332E-206},7.6227275506063865E-204]
[null,null,null,null,null,null,null,471,{"$f":"(入力部分!D$7*M477+入力部分!D$8*R477+入力部分!D$9*W477)/(入力部分!D$7+入力部分!D$8+入力部分!D$9)","v":9.9074116651772904E-6},null,null,471,{"$f":"1/入力部分!I$33/(2*3.14)^0.5*EXP(-1/2*((L477-入力部分!I$25)/入力部分!I$33)^2)","v":2.6419764440472751E-5},1.2443709051462666E-2,null,null,471,{"$f":"1/入力部分!I$34/(2*3.14)^0.5*EXP(-1/2*((Q477-入力部分!I$26/2)/入力部分!I$34)^2)","v":2.5833805833116917E-20},1.2167722547398067E-17,null,null,471,{"$f":"1/入力部分!$I$35/(2*3.14)^0.5*EXP(-1/2*((V477-入力部分!$I$27/2)/入力部分!$I$35)^2)","v":2.0948672150680255E-207},9.8668245829703995E-205]
[null,null,null,null,null,null,null,472,{"$f":"(入力部分!D$7*M478+入力部分!D$8*R478+入力部分!D$9*W478)/(入力部分!D$7+入力部分!D$8+入力部分!D$9)","v":9.6139493670909133E-6},null,null,472,{"$f":"1/入力部分!I$33/(2*3.14)^0.5*EXP(-1/2*((L478-入力部分!I$25)/入力部分!I$33)^2)","v":2.5637198312242416E-5},1.210075760337842E-2,null,null,472,{"$f":"1/入力部分!I$34/(2*3.14)^0.5*EXP(-1/2*((Q478-入力部分!I$26/2)/入力部分!I$34)^2)","v":2.1421625554950996E-20},1.011100726193687E-17,null,null,472,{"$f":"1/入力部分!$I$35/(2*3.14)^0.5*EXP(-1/2*((V478-入力部分!$I$27/2)/入力部分!$I$35)^2)","v":2.6938304811568334E-208},1.2714879871060253E-205]
[null,null,null,null,null,null,null,473,{"$f":"(入力部分!D$7*M479+入力部分!D$8*R479+入力部分!D$9*W479)/(入力部分!D$7+入力部分!D$8+入力部分!D$9)","v":9.3283334176896802E-6},null,null,473,{"$f":"1/入力部分!I$33/(2*3.14)^0.5*EXP(-1/2*((L479-入力部分!I$25)/入力部分!I$33)^2)","v":2.48755557805058E-5},1.1766137884179243E-2,null,null,473,{"$f":"1/入力部分!I$34/(2*3.14)^0.5*EXP(-1/2*((Q479-入力部分!I$26/2)/入力部分!I$34)^2)","v":1.7755297779468809E-20},8.3982558496887461E-18,null,null,473,{"$f":"1/入力部分!$I$35/(2*3.14)^0.5*EXP(-1/2*((V479-入力部分!$I$27/2)/入力部分!$I$35)^2)","v":3.4486873792293879E-209},1.6312291303755006E-206]
[null,null,null,null,null,null,null,474,{"$f":"(入力部分!D$7*M480+入力部分!D$8*R480+入力部分!D$9*W480)/(入力部分!D$7+入力部分!D$8+入力部分!D$9)","v":9.0503817542449368E-6},null,null,474,{"$f":"1/入力部分!I$33/(2*3.14)^0.5*EXP(-1/2*((L480-入力部分!I$25)/入力部分!I$33)^2)","v":2.4134351344653152E-5},1.1439682537365594E-2,null,null,474,{"$f":"1/入力部分!I$34/(2*3.14)^0.5*EXP(-1/2*((Q480-入力部分!I$26/2)/入力部分!I$34)^2)","v":1.4710078868731357E-20},6.9725773837786624E-18,null,null,474,{"$f":"1/入力部分!$I$35/(2*3.14)^0.5*EXP(-1/2*((V480-入力部分!$I$27/2)/入力部分!$I$35)^2)","v":4.3954889740897461E-210},2.0834617737185397E-207]
[null,null,null,null,null,null,null,475,{"$f":"(入力部分!D$7*M481+入力部分!D$8*R481+入力部分!D$9*W481)/(入力部分!D$7+入力部分!D$8+入力部分!D$9)","v":8.7799156764965935E-6},null,null,475,{"$f":"1/入力部分!I$33/(2*3.14)^0.5*EXP(-1/2*((L481-入力部分!I$25)/入力部分!I$33)^2)","v":2.3413108470657574E-5},1.1121226523562348E-2,null,null,475,{"$f":"1/入力部分!I$34/(2*3.14)^0.5*EXP(-1/2*((Q481-入力部分!I$26/2)/入力部分!I$34)^2)","v":1.2181858376700814E-20},5.786382728932887E-18,null,null,475,{"$f":"1/入力部分!$I$35/(2*3.14)^0.5*EXP(-1/2*((V481-入力部分!$I$27/2)/入力部分!$I$35)^2)","v":5.5773816638663612E-211},2.6492562903365217E-208]
[null,null,null,null,null,null,null,476,{"$f":"(入力部分!D$7*M482+入力部分!D$8*R482+入力部分!D$9*W482)/(入力部分!D$7+入力部分!D$8+入力部分!D$9)","v":8.5167598103258418E-6},null,null,476,{"$f":"1/入力部分!I$33/(2*3.14)^0.5*EXP(-1/2*((L482-入力部分!I$25)/入力部分!I$33)^2)","v":2.2711359494202236E-5},1.0810607119240263E-2,null,null,476,{"$f":"1/入力部分!I$34/(2*3.14)^0.5*EXP(-1/2*((Q482-入力部分!I$26/2)/入力部分!I$34)^2)","v":1.008378541656933E-20},4.7998818582870014E-18,null,null,476,{"$f":"1/入力部分!$I$35/(2*3.14)^0.5*EXP(-1/2*((V482-入力部分!$I$27/2)/入力部分!$I$35)^2)","v":7.0456868445828169E-212},3.3537469380214206E-209]
[null,null,null,null,null,null,null,477,{"$f":"(入力部分!D$7*M483+入力部分!D$8*R483+入力部分!D$9*W483)/(入力部分!D$7+入力部分!D$8+入力部分!D$9)","v":8.2607420710259829E-6},null,null,477,{"$f":"1/入力部分!I$33/(2*3.14)^0.5*EXP(-1/2*((L483-入力部分!I$25)/入力部分!I$33)^2)","v":2.2028645522735949E-5},1.0507663914345048E-2,null,null,477,{"$f":"1/入力部分!I$34/(2*3.14)^0.5*EXP(-1/2*((Q483-入力部分!I$26/2)/入力部分!I$34)^2)","v":8.3434400263030328E-21},3.9798208925465467E-18,null,null,477,{"$f":"1/入力部分!$I$35/(2*3.14)^0.5*EXP(-1/2*((V483-入力部分!$I$27/2)/入力部分!$I$35)^2)","v":8.8610688422812522E-213},4.2267298377681572E-210]
[null,null,null,null,null,null,null,478,{"$f":"(入力部分!D$7*M484+入力部分!D$8*R484+入力部分!D$9*W484)/(入力部分!D$7+入力部分!D$8+入力部分!D$9)","v":8.0116936262033712E-6},null,null,478,{"$f":"1/入力部分!I$33/(2*3.14)^0.5*EXP(-1/2*((L484-入力部分!I$25)/入力部分!I$33)^2)","v":2.136451633654232E-5},1.0212238808867229E-2,null,null,478,{"$f":"1/入力部分!I$34/(2*3.14)^0.5*EXP(-1/2*((Q484-入力部分!I$26/2)/入力部分!I$34)^2)","v":6.9004625923601792E-21},3.2984211191481659E-18,null,null,478,{"$f":"1/入力部分!$I$35/(2*3.14)^0.5*EXP(-1/2*((V484-入力部分!$I$27/2)/入力部分!$I$35)^2)","v":1.1094779799708902E-213},5.3033047442608548E-211]
[null,null,null,null,null,null,null,479,{"$f":"(入力部分!D$7*M485+入力部分!D$8*R485+入力部分!D$9*W485)/(入力部分!D$7+入力部分!D$8+入力部分!D$9)","v":7.7694488583392584E-6},null,null,479,{"$f":"1/入力部分!I$33/(2*3.14)^0.5*EXP(-1/2*((L485-入力部分!I$25)/入力部分!I$33)^2)","v":2.0718530288904683E-5},9.9241760083853426E-3,null,null,479,{"$f":"1/入力部分!I$34/(2*3.14)^0.5*EXP(-1/2*((Q485-入力部分!I$26/2)/入力部分!I$34)^2)","v":5.7045680785775882E-21},2.7324881096386646E-18,null,null,479,{"$f":"1/入力部分!$I$35/(2*3.14)^0.5*EXP(-1/2*((V485-入力部分!$I$27/2)/入力部分!$I$35)^2)","v":1.3829964518885642E-214},6.6245530045462226E-212]
[null,null,null,null,null,null,null,480,{"$f":"(入力部分!D$7*M486+入力部分!D$8*R486+入力部分!D$9*W486)/(入力部分!D$7+入力部分!D$8+入力部分!D$9)","v":7.5338453270428103E-6},null,null,480,{"$f":"1/入力部分!I$33/(2*3.14)^0.5*EXP(-1/2*((L486-入力部分!I$25)/入力部分!I$33)^2)","v":2.009025420544749E-5},9.6433220186147948E-3,null,null,480,{"$f":"1/入力部分!I$34/(2*3.14)^0.5*EXP(-1/2*((Q486-入力部分!I$26/2)/入力部分!I$34)^2)","v":4.7138833691830574E-21},2.2626640172078676E-18,null,null,480,{"$f":"1/入力部分!$I$35/(2*3.14)^0.5*EXP(-1/2*((V486-入力部分!$I$27/2)/入力部分!$I$35)^2)","v":1.7163001759692364E-215},8.238240844652335E-213]
[null,null,null,null,null,null,null,481,{"$f":"(入力部分!D$7*M487+入力部分!D$8*R487+入力部分!D$9*W487)/(入力部分!D$7+入力部分!D$8+入力部分!D$9)","v":7.3047237310248455E-6},null,null,481,{"$f":"1/入力部分!I$33/(2*3.14)^0.5*EXP(-1/2*((L487-入力部分!I$25)/入力部分!I$33)^2)","v":1.947926328273292E-5},9.3695256389945344E-3,null,null,481,{"$f":"1/入力部分!I$34/(2*3.14)^0.5*EXP(-1/2*((Q487-入力部分!I$26/2)/入力部分!I$34)^2)","v":3.8935557969495386E-21},1.872800338332728E-18,null,null,481,{"$f":"1/入力部分!$I$35/(2*3.14)^0.5*EXP(-1/2*((V487-入力部分!$I$27/2)/入力部分!$I$35)^2)","v":2.1204851256758528E-216},1.0199533454500853E-213]
[null,null,null,null,null,null,null,482,{"$f":"(入力部分!D$7*M488+入力部分!D$8*R488+入力部分!D$9*W488)/(入力部分!D$7+入力部分!D$8+入力部分!D$9)","v":7.0819278698212146E-6},null,null,482,{"$f":"1/入力部分!I$33/(2*3.14)^0.5*EXP(-1/2*((L488-入力部分!I$25)/入力部分!I$33)^2)","v":1.8885140986189906E-5},9.1026379553435337E-3,null,null,482,{"$f":"1/入力部分!I$34/(2*3.14)^0.5*EXP(-1/2*((Q488-入力部分!I$26/2)/入力部分!I$34)^2)","v":3.2145891658043603E-21},1.5494319779177017E-18,null,null,482,{"$f":"1/入力部分!$I$35/(2*3.14)^0.5*EXP(-1/2*((V488-入力部分!$I$27/2)/入力部分!$I$35)^2)","v":2.6082367877975045E-217},1.2571701317183971E-214]
[null,null,null,null,null,null,null,483,{"$f":"(入力部分!D$7*M489+入力部分!D$8*R489+入力部分!D$9*W489)/(入力部分!D$7+入力部分!D$8+入力部分!D$9)","v":6.8653046052937237E-6},null,null,483,{"$f":"1/入力部分!I$33/(2*3.14)^0.5*EXP(-1/2*((L489-入力部分!I$25)/入力部分!I$33)^2)","v":1.8307478947449927E-5},8.8425123316183147E-3,null,null,483,{"$f":"1/入力部分!I$34/(2*3.14)^0.5*EXP(-1/2*((Q489-入力部分!I$26/2)/入力部分!I$34)^2)","v":2.6528705261895269E-21},1.2813364641495415E-18,null,null,483,{"$f":"1/入力部分!$I$35/(2*3.14)^0.5*EXP(-1/2*((V489-入力部分!$I$27/2)/入力部分!$I$35)^2)","v":3.1939536107168772E-218},1.5426795939762516E-215]
[null,null,null,null,null,null,null,484,{"$f":"(入力部分!D$7*M490+入力部分!D$8*R490+入力部分!D$9*W490)/(入力部分!D$7+入力部分!D$8+入力部分!D$9)","v":6.6547038229362201E-6},null,null,484,{"$f":"1/入力部分!I$33/(2*3.14)^0.5*EXP(-1/2*((L490-入力部分!I$25)/入力部分!I$33)^2)","v":1.7745876861163252E-5},8.5890044008030148E-3,null,null,484,{"$f":"1/入力部分!I$34/(2*3.14)^0.5*EXP(-1/2*((Q490-入力部分!I$26/2)/入力部分!I$34)^2)","v":2.1883568200540359E-21},1.0591647009061535E-18,null,null,484,{"$f":"1/入力部分!$I$35/(2*3.14)^0.5*EXP(-1/2*((V490-入力部分!$I$27/2)/入力部分!$I$35)^2)","v":3.8938569658970442E-219},1.8846267714941694E-216]
[null,null,null,null,null,null,null,485,{"$f":"(入力部分!D$7*M491+入力部分!D$8*R491+入力部分!D$9*W491)/(入力部分!D$7+入力部分!D$8+入力部分!D$9)","v":6.4499783930123395E-6},null,null,485,{"$f":"1/入力部分!I$33/(2*3.14)^0.5*EXP(-1/2*((L491-入力部分!I$25)/入力部分!I$33)^2)","v":1.7199942381366236E-5},8.3419720549626243E-3,null,null,485,{"$f":"1/入力部分!I$34/(2*3.14)^0.5*EXP(-1/2*((Q491-入力部分!I$26/2)/入力部分!I$34)^2)","v":1.8043954492235588E-21},8.7513179287342595E-19,null,null,485,{"$f":"1/入力部分!$I$35/(2*3.14)^0.5*EXP(-1/2*((V491-入力部分!$I$27/2)/入力部分!$I$35)^2)","v":4.7260812864536324E-220},2.2921494239300116E-217]
[null,null,null,null,null,null,null,486,{"$f":"(入力部分!D$7*M492+入力部分!D$8*R492+入力部分!D$9*W492)/(入力部分!D$7+入力部分!D$8+入力部分!D$9)","v":6.2509841315509747E-6},null,null,486,{"$f":"1/入力部分!I$33/(2*3.14)^0.5*EXP(-1/2*((L492-入力部分!I$25)/入力部分!I$33)^2)","v":1.6669291017469264E-5},8.1012754344900618E-3,null,null,486,{"$f":"1/入力部分!I$34/(2*3.14)^0.5*EXP(-1/2*((Q492-入力部分!I$26/2)/入力部分!I$34)^2)","v":1.4871569790191916E-21},7.2275829180332709E-19,null,null,486,{"$f":"1/入力部分!$I$35/(2*3.14)^0.5*EXP(-1/2*((V492-入力部分!$I$27/2)/入力部分!$I$35)^2)","v":5.7107372911153968E-221},2.7754183234820829E-218]
[null,null,null,null,null,null,null,487,{"$f":"(入力部分!D$7*M493+入力部分!D$8*R493+入力部分!D$9*W493)/(入力部分!D$7+入力部分!D$8+入力部分!D$9)","v":6.0575797612247458E-6},null,null,487,{"$f":"1/入力部分!I$33/(2*3.14)^0.5*EXP(-1/2*((L493-入力部分!I$25)/入力部分!I$33)^2)","v":1.6153546029932657E-5},7.8667769165772037E-3,null,null,487,{"$f":"1/入力部分!I$34/(2*3.14)^0.5*EXP(-1/2*((Q493-入力部分!I$26/2)/入力部分!I$34)^2)","v":1.2251616895145247E-21},5.9665374279357355E-19,null,null,487,{"$f":"1/入力部分!$I$35/(2*3.14)^0.5*EXP(-1/2*((V493-入力部分!$I$27/2)/入力部分!$I$35)^2)","v":6.8699405548452859E-222},3.3456610502096539E-219]
[null,null,null,null,null,null,null,488,{"$f":"(入力部分!D$7*M494+入力部分!D$8*R494+入力部分!D$9*W494)/(入力部分!D$7+入力部分!D$8+入力部分!D$9)","v":5.8696268721359155E-6},null,null,488,{"$f":"1/入力部分!I$33/(2*3.14)^0.5*EXP(-1/2*((L494-入力部分!I$25)/入力部分!I$33)^2)","v":1.5652338325695776E-5},7.6383411029395387E-3,null,null,488,{"$f":"1/入力部分!I$34/(2*3.14)^0.5*EXP(-1/2*((Q494-入力部分!I$26/2)/入力部分!I$34)^2)","v":1.0088846322891762E-21},4.9233570055711802E-19,null,null,488,{"$f":"1/入力部分!$I$35/(2*3.14)^0.5*EXP(-1/2*((V494-入力部分!$I$27/2)/入力部分!$I$35)^2)","v":8.2277972013635664E-223},4.0151650342654205E-220]
[null,null,null,null,null,null,null,489,{"$f":"(入力部分!D$7*M495+入力部分!D$8*R495+入力部分!D$9*W495)/(入力部分!D$7+入力部分!D$8+入力部分!D$9)","v":5.6869898825337971E-6},null,null,489,{"$f":"1/入力部分!I$33/(2*3.14)^0.5*EXP(-1/2*((L495-入力部分!I$25)/入力部分!I$33)^2)","v":1.5165306353423459E-5},7.4158348068240716E-3,null,null,489,{"$f":"1/入力部分!I$34/(2*3.14)^0.5*EXP(-1/2*((Q495-入力部分!I$26/2)/入力部分!I$34)^2)","v":8.3042632775828711E-22},4.060784742738024E-19,null,null,489,{"$f":"1/入力部分!$I$35/(2*3.14)^0.5*EXP(-1/2*((V495-入力部分!$I$27/2)/入力部分!$I$35)^2)","v":9.8103382238056496E-224},4.7972553914409627E-221]
[null,null,null,null,null,null,null,490,{"$f":"(入力部分!D$7*M496+入力部分!D$8*R496+入力部分!D$9*W496)/(入力部分!D$7+入力部分!D$8+入力部分!D$9)","v":5.5095359994865816E-6},null,null,490,{"$f":"1/入力部分!I$33/(2*3.14)^0.5*EXP(-1/2*((L496-入力部分!I$25)/入力部分!I$33)^2)","v":1.4692095998630887E-5},7.1991270393291342E-3,null,null,490,{"$f":"1/入力部分!I$34/(2*3.14)^0.5*EXP(-1/2*((Q496-入力部分!I$26/2)/入力部分!I$34)^2)","v":6.8323832055666588E-22},3.3478677707276628E-19,null,null,490,{"$f":"1/入力部分!$I$35/(2*3.14)^0.5*EXP(-1/2*((V496-入力部分!$I$27/2)/入力部分!$I$35)^2)","v":1.1645393945155366E-224},5.706243033126129E-222]
[null,null,null,null,null,null,null,491,{"$f":"(入力部分!D$7*M497+入力部分!D$8*R497+入力部分!D$9*W497)/(入力部分!D$7+入力部分!D$8+入力部分!D$9)","v":5.3371351795303154E-6},null,null,491,{"$f":"1/入力部分!I$33/(2*3.14)^0.5*EXP(-1/2*((L497-入力部分!I$25)/入力部分!I$33)^2)","v":1.4232360478747509E-5},6.9880889950650268E-3,null,null,491,{"$f":"1/入力部分!I$34/(2*3.14)^0.5*EXP(-1/2*((Q497-入力部分!I$26/2)/入力部分!I$34)^2)","v":5.6189456010504629E-22},2.7589022901157774E-19,null,null,491,{"$f":"1/入力部分!$I$35/(2*3.14)^0.5*EXP(-1/2*((V497-入力部分!$I$27/2)/入力部分!$I$35)^2)","v":1.3762400465935292E-225},6.7573386287742287E-223]
[null,null,null,null,null,null,null,492,{"$f":"(入力部分!D$7*M498+入力部分!D$8*R498+入力部分!D$9*W498)/(入力部分!D$7+入力部分!D$8+入力部分!D$9)","v":5.1696600893166347E-6},null,null,492,{"$f":"1/入力部分!I$33/(2*3.14)^0.5*EXP(-1/2*((L498-入力部分!I$25)/入力部分!I$33)^2)","v":1.3785760238177696E-5},6.7825940371834268E-3,null,null,492,{"$f":"1/入力部分!I$34/(2*3.14)^0.5*EXP(-1/2*((Q498-入力部分!I$26/2)/入力部分!I$34)^2)","v":4.6190104284067905E-22},2.2725531307761412E-19,null,null,492,{"$f":"1/入力部分!$I$35/(2*3.14)^0.5*EXP(-1/2*((V498-入力部分!$I$27/2)/入力部分!$I$35)^2)","v":1.6192130664226839E-226},7.9665282867996046E-224]
[null,null,null,null,null,null,null,493,{"$f":"(入力部分!D$7*M499+入力部分!D$8*R499+入力部分!D$9*W499)/(入力部分!D$7+入力部分!D$8+入力部分!D$9)","v":5.0069860662804532E-6},null,null,493,{"$f":"1/入力部分!I$33/(2*3.14)^0.5*EXP(-1/2*((L499-入力部分!I$25)/入力部分!I$33)^2)","v":1.3351962843414544E-5},6.5825176818033702E-3,null,null,493,{"$f":"1/入力部分!I$34/(2*3.14)^0.5*EXP(-1/2*((Q499-入力部分!I$26/2)/入力部分!I$34)^2)","v":3.7953738595887496E-22},1.8711193127772535E-19,null,null,493,{"$f":"1/入力部分!$I$35/(2*3.14)^0.5*EXP(-1/2*((V499-入力部分!$I$27/2)/入力部分!$I$35)^2)","v":1.8966343455341603E-227},9.3504073234834097E-225]
[null,null,null,null,null,null,null,494,{"$f":"(入力部分!D$7*M500+入力部分!D$8*R500+入力部分!D$9*W500)/(入力部分!D$7+入力部分!D$8+入力部分!D$9)","v":4.8489910793480348E-6},null,null,494,{"$f":"1/入力部分!I$33/(2*3.14)^0.5*EXP(-1/2*((L500-入力部分!I$25)/入力部分!I$33)^2)","v":1.2930642878261428E-5},6.3877375818611453E-3,null,null,494,{"$f":"1/入力部分!I$34/(2*3.14)^0.5*EXP(-1/2*((Q500-入力部分!I$26/2)/入力部分!I$34)^2)","v":3.1172503728364435E-22},1.539921684181203E-19,null,null,494,{"$f":"1/入力部分!$I$35/(2*3.14)^0.5*EXP(-1/2*((V500-入力部分!$I$27/2)/入力部分!$I$35)^2)","v":2.2117346616331329E-228},1.0925969228467676E-225]
[null,null,null,null,null,null,null,495,{"$f":"(入力部分!D$7*M501+入力部分!D$8*R501+入力部分!D$9*W501)/(入力部分!D$7+入力部分!D$8+入力部分!D$9)","v":4.6955556897051982E-6},null,null,495,{"$f":"1/入力部分!I$33/(2*3.14)^0.5*EXP(-1/2*((L501-入力部分!I$25)/入力部分!I$33)^2)","v":1.2521481839213864E-5},6.1981335104108626E-3,null,null,495,{"$f":"1/入力部分!I$34/(2*3.14)^0.5*EXP(-1/2*((Q501-入力部分!I$26/2)/入力部分!I$34)^2)","v":2.559176936198579E-22},1.2667925834182966E-19,null,null,495,{"$f":"1/入力部分!$I$35/(2*3.14)^0.5*EXP(-1/2*((V501-入力部分!$I$27/2)/入力部分!$I$35)^2)","v":2.5677470548133299E-229},1.2710347921325984E-226]
[null,null,null,null,null,null,null,496,{"$f":"(入力部分!D$7*M502+入力部分!D$8*R502+入力部分!D$9*W502)/(入力部分!D$7+入力部分!D$8+入力部分!D$9)","v":4.5465630116448457E-6},null,null,496,{"$f":"1/入力部分!I$33/(2*3.14)^0.5*EXP(-1/2*((L502-入力部分!I$25)/入力部分!I$33)^2)","v":1.2124168031052925E-5},6.013587343402251E-3,null,null,496,{"$f":"1/入力部分!I$34/(2*3.14)^0.5*EXP(-1/2*((Q502-入力部分!I$26/2)/入力部分!I$34)^2)","v":2.1001022724728489E-22},1.0416507271465331E-19,null,null,496,{"$f":"1/入力部分!$I$35/(2*3.14)^0.5*EXP(-1/2*((V502-入力部分!$I$27/2)/入力部分!$I$35)^2)","v":2.9678452880783304E-230},1.4720512628868519E-227]
[null,null,null,null,null,null,null,497,{"$f":"(入力部分!D$7*M503+入力部分!D$8*R503+入力部分!D$9*W503)/(入力部分!D$7+入力部分!D$8+入力部分!D$9)","v":4.4018986735121872E-6},null,null,497,{"$f":"1/入力部分!I$33/(2*3.14)^0.5*EXP(-1/2*((L503-入力部分!I$25)/入力部分!I$33)^2)","v":1.1738396462699167E-5},5.8339830419614864E-3,null,null,497,{"$f":"1/入力部分!I$34/(2*3.14)^0.5*EXP(-1/2*((Q503-入力部分!I$26/2)/入力部分!I$34)^2)","v":1.7226302952752616E-22},8.5614725675180498E-20,null,null,497,{"$f":"1/入力部分!$I$35/(2*3.14)^0.5*EXP(-1/2*((V503-入力部分!$I$27/2)/入力部分!$I$35)^2)","v":3.4150736795468562E-231},1.6972916187347875E-228]
[null,null,null,null,null,null,null,498,{"$f":"(入力部分!D$7*M504+入力部分!D$8*R504+入力部分!D$9*W504)/(入力部分!D$7+入力部分!D$8+入力部分!D$9)","v":4.2614507787655312E-6},null,null,498,{"$f":"1/入力部分!I$33/(2*3.14)^0.5*EXP(-1/2*((L504-入力部分!I$25)/入力部分!I$33)^2)","v":1.1363868743374751E-5},5.659206634200626E-3,null,null,498,{"$f":"1/入力部分!I$34/(2*3.14)^0.5*EXP(-1/2*((Q504-入力部分!I$26/2)/入力部分!I$34)^2)","v":1.4123919080447183E-22},7.0337117020626976E-20,null,null,498,{"$f":"1/入力部分!$I$35/(2*3.14)^0.5*EXP(-1/2*((V504-入力部分!$I$27/2)/入力部分!$I$35)^2)","v":3.9122689287880166E-232},1.9483099265364324E-229]
[null,null,null,null,null,null,null,499,{"$f":"(入力部分!D$7*M505+入力部分!D$8*R505+入力部分!D$9*W505)/(入力部分!D$7+入力部分!D$8+入力部分!D$9)","v":4.1251098671698665E-6},null,null,499,{"$f":"1/入力部分!I$33/(2*3.14)^0.5*EXP(-1/2*((L505-入力部分!I$25)/入力部分!I$33)^2)","v":1.1000292979119646E-5},5.4891461965807034E-3,null,null,499,{"$f":"1/入力部分!I$34/(2*3.14)^0.5*EXP(-1/2*((Q505-入力部分!I$26/2)/入力部分!I$34)^2)","v":1.1575236279909561E-22},5.7760429036748714E-20,null,null,499,{"$f":"1/入力部分!$I$35/(2*3.14)^0.5*EXP(-1/2*((V505-入力部分!$I$27/2)/入力部分!$I$35)^2)","v":4.4619749247907756E-233},2.2265254874705969E-230]
[null,null,null,null,null,null,null,500,{"$f":"(入力部分!D$7*M506+入力部分!D$8*R506+入力部分!D$9*W506)/(入力部分!D$7+入力部分!D$8+入力部分!D$9)","v":3.9927688761396794E-6},null,null,500,{"$f":"1/入力部分!I$33/(2*3.14)^0.5*EXP(-1/2*((L506-入力部分!I$25)/入力部分!I$33)^2)","v":1.0647383669705813E-5},5.3236918348529066E-3,null,null,500,{"$f":"1/入力部分!I$34/(2*3.14)^0.5*EXP(-1/2*((Q506-入力部分!I$26/2)/入力部分!I$34)^2)","v":9.4823506920565097E-23},4.7411753460282547E-20,null,null,500,{"$f":"1/入力部分!$I$35/(2*3.14)^0.5*EXP(-1/2*((V506-入力部分!$I$27/2)/入力部分!$I$35)^2)","v":5.0663519073700924E-234},2.5331759536850462E-231]

{"sheet":"簡易マニュアル","index":2,"n_rows":13,"n_cols":3,"rows_kept":13,"cut":false,"hidden":false,"merged":[]}
[]
[null,null," "]
[null,null,"露出高推定モデル（混合粒径版）　マニュアル"]
[null,null," "]
[null,null,"１．各区分の存在割合（粒度加積曲線または被度割合をもとに算出）を"]
[null,null,"　　セルD7～D11に入力します（入力範囲：0～1）"]
[null,null,"　　必ず入力が必要です"]
[null,null,"２．各区分の代表粒径を(セルD17～D21)に入力します（入力範囲：１～５００ mm）"]
[null,null,"　　なければ、Wentworthの粒径区分に基づき自動入力します"]
[null,null,"３．各区分の代表高さを（セルD25～D29）に入力します（入力範囲：１～３００ mm）"]
[null,null,"　　なければ、代表粒径×0.5で近似計算します"]
[null,null,"４．各区分の標準偏差の係数を（セルD33～D37）に入力します（入力範囲：0～1）"]
[null,null,"　　なければ、代表粒径×0.3で近似計算します"]